Workbook

Sheet Leht1
A1: KOV | B1: Koduteenus
A2: Tervishoid | B2: Väljaspool kodu osutatav üldhooldusteenus
A3: Kool | B3: Tugiisikuteenus
A4: Töötukassa | B4: Täisealise isiku hooldus
A5: Teenuseosutaja | B5: Isikliku abistaja teenus
A6: Kogukond | B6: Varjupaigateenus
A7: Muu | B7: Turvakoduteenus
B8: Sotsiaaltransporditeenus
B9: Eluruumi tagamise teenus
B10: Võlanõustamisteenus
B11: Lapsehoiuteenus
B12: Asendushooldusteenus
B13: Järelhooldusteenus

Sheet Toetusvajadus
A1: Üldandmed | I1: Sotsiaalsed suhted | J1: Vaimne tervis | N1: Füüsiline tervis | O1: Liikumine eluruumides | P1: Liikumine väljaspool eluruume | Q1: Hõivatus | R1: Vaba aeg ja huvi-tegevus | S1: Elukoht | T1: Igapäevaelu toetamine | Y1: Märkused | Z1: Hoolduskoormus perele | AA1: Abivajaduse hindamine | AB1: Abivajaduse hindamise kuupäev (päev/kuu/aasta)
A2: Isikukood | B2: Eesnimi | C2: Perekonnanimi | D2: PH/IP | E2: Tööhõive staatus (sh õppimine) sisenemisel | F2: Tööhõive staatus (sh õppimine) väljumisel | G2: Esma-märkamine | H2: KOV teenus enne projekti sisenemist | J2: haigus-teadlikkus ja raviplaani järgimine | K2: psühhika-häirest tulenev mõju käitumisele ja tegevusele | L2: kognitiivne võimekus | M2: riski-käitumine | T2: rahaga toimetulek ja asjaajamine | U2: söögi valmista-mine | V2: söömine | W2: majapidamis-toimingud | X2: enese eest hoolitsemine

Sheet jaanuar
A1: Üldandmed | L1: Baastoetus | AA1: Lisatoetus Lisatoetus Lisatoetus Lisatoetus Lisatoetus Lisatoetus Lisatoetus Lisatoetus Lisatoetus Lisatoetus Lisatoetus | FG1: Kokku | FM1: Kuu summa
L2: Teenuse planeerimine | Q2: Tegevusplaani elluviimise tagamine | V2: Välise spetsialisti konsultatsioon teenuse planeerimiseks | AA2: Personaalne toetamine erakorralistes eluolukordades | AF2: Pere toetamine | AZ2: Eluvaldkond - Sotsiaalsed suhted | BF2: Eluvaldkond - Vaimne tervis | CI2: Eluvaldkond - Füüsiline tervis | DK2: Eluvaldkond - Hõivatus | EF2: Eluvaldkond - Vaba aeg ja huvitegevus | EL2: Eluvaldkond - Elukoht | ER2: Eluvaldkond - Igapäevaelu toetamine | FM2: =SUM(FL5:FL152) -> 0
H3: sisenemise ja väljumise ankeedilt andmed | AF3: Psühholoogiline nõustamine ja psühhoteraapia perele | AK3: Pere nõustamine ja koolitus | AP3: Kogemusnõustamine perele | AU3: Intervallhoid | AZ3: Toetusvajaduse aste | BA3: Sotsiaalsete suhete toetamine | BF3: Toetusvajaduse aste | BJ3: Taastumise ja haigusega toimetuleku toetamine | BO3: Vaimse ja motoorse võimekuse arendamine ja säilitamine | BT3: Psühholoogiline nõustamine ja psühhoteraapia | BY3: Kogemusnõustamine | CD3: Riski- ja probleemse käitumise juhtimine | CI3: Toetusvajaduse aste | CJ3: Füüsilise tervise alane nõustamine ja toetus | CO3: Füüsilise aktiivsuse toetamine | CT3: Teraapiad füüsilise tervise toetamiseks | CY3: Toetusvajaduse aste | CZ3: Liikumine eluruumides | DE3: Toetusvajaduse aste | DF3: Liikumine väljaspool eluruume | DK3: Toetusvajaduse aste | DL3: Töötamise toetamine | DQ3: Töösarnase või rakendustegevuse toetamine spetsiaalselt kohandatud keskkonnas | DV3: Õppimise toetamine | EA3: Rakendus kogukonnas | EF3: Toetusvajaduse aste | EG3: Vaba aja ja huvitegevuse toetamine | EL3: Toetusvajaduse aste | EM3: Toetus elukoha vahetusel | ER3: Toetusvajaduse aste | EW3: Igapäevaelu toetamine | FB3: Ettevalmistus iseseisvumiseks | FG3: Baastoetus | FI3: Lisatoetus | FK3: Kokku
A4: Isikukood | B4: Eesnimi | C4: Perekonnanimi | D4: Kuu | E4: KOV | F4: BTO | G4: PH/IP | H4: Tööhõive staatus (sh õppimine) sisenemisel | I4: Tööhõive staatus (sh õppimine) väljumisel | J4: Esmamärkamine | K4: Teenus enne projekti sisenemist | L4: Maht | M4: Tunni hind € | N4: Maksumus | O4: TK pakkuja | P4: TkVO | Q4: Maht | R4: Tunni hind € | S4: Maksumus | T4: TK pakkuja | U4: TkVO | V4: Maht | W4: Tunni hind € | X4: Maksumus | Y4: TK pakkuja | Z4: TkVO | AA4: Maht | AB4: Tunni hind € | AC4: Maksumus | AD4: TK pakkuja | AE4: TkVO | AF4: Maht | AG4: Tunni hind € | AH4: Maksumus | AI4: TK pakkuja | AJ4: TkVO | AK4: Maht | AL4: Tunni hind € | AM4: Maksumus | AN4: TK pakkuja | AO4: TkVO | AP4: Maht | AQ4: Tunni hind € | AR4: Maksumus | AS4: TK pakkuja | AT4: TkVO | AU4: Maht | AV4: Tunni hind € | AW4: Maksumus | AX4: TK pakkuja | AY4: TkVO | BA4: Maht | BB4: Tunni hind € | BC4: Maksumus | BD4: TK pakkuja | BE4: TkVO | BF4: haigusteadlikkus ja raviplaani järgimine | BG4: psühhikahäirest tulenev mõju käitumisele ja tegevusele | BH4: kognitiivne võimekus | BI4: riskikäitumine | BJ4: Maht | BK4: Tunni hind € | BL4: Maksumus | BM4: TK pakkuja | BN4: TkVO | BO4: Maht | BP4: Tunni hind € | BQ4: Maksumus | BR4: TK pakkuja | BS4: TkVO | BT4: Maht | BU4: Tunni hind € | BV4: Maksumus | BW4: TK pakkuja | BX4: TkVO | BY4: Maht | BZ4: Tunni hind € | CA4: Maksumus | CB4: TK pakkuja | CC4: TkVO | CD4: Maht | CE4: Tunni hind € | CF4: Maksumus | CG4: TK pakkuja | CH4: TkVO | CJ4: Maht | CK4: Tunni hind € | CL4: Maksumus | CM4: TK pakkuja | CN4: TkVO | CO4: Maht | CP4: Tunni hind € | CQ4: Maksumus | CR4: TK pakkuja | CS4: TkVO | CT4: Maht | CU4: Tunni hind € | CV4: Maksumus | CW4: TK pakkuja | CX4: TkVO | CZ4: Maht | DA4: Tunni hind € | DB4: Maksumus | DC4: TK pakkuja | DD4: TkVO | DF4: Maht | DG4: Tunni hind € | DH4: Maksumus | DI4: TK pakkuja | DJ4: TkVO | DL4: Maht | DM4: Tunni hind € | DN4: Maksumus | DO4: TK pakkuja | DP4: TkVO | DQ4: Maht | DR4: Tunni hind € | DS4: Maksumus | DT4: TK pakkuja | DU4: TkVO | DV4: Maht | DW4: Tunni hind € | DX4: Maksumus | DY4: TK pakkuja | DZ4: TkVO | EA4: Maht | EB4: Tunni hind € | EC4: Maksumus | ED4: TK pakkuja | EE4: TkVO | EG4: Maht | EH4: Tunni hind € | EI4: Maksumus | EJ4: TK pakkuja | EK4: TkVO | EM4: Maht | EN4: Tunni hind € | EO4: Maksumus | EP4: TK pakkuja | EQ4: TkVO | ER4: asjaajamine ja rahadega toimetulek | ES4: söögi valmistamine | ET4: söömine | EU4: majapidamistoimingud | EV4: enese eest hoolitsemine | EW4: Maht | EX4: Tunni hind € | EY4: Maksumus | EZ4: TK pakkuja | FA4: TkVO | FB4: Maht | FC4: Tunni hind € | FD4: Maksumus | FE4: TK pakkuja | FF4: TkVO | FG4: Maht | FH4: Maksumus | FI4: Maht | FJ4: Maksumus | FK4: Maht | FL4: Maksumus | FM4: Komponente kokku
D5: 1 | N5: =L5*M5 -> 0 | S5: =Q5*R5 -> 0 | X5: =V5*W5 -> 0 | AC5: =AA5*AB5 -> 0 | AH5: =AF5*AG5 -> 0 | AM5: =AK5*AL5 -> 0 | AR5: =AP5*AQ5 -> 0 | AW5: =AU5*AV5 -> 0 | BC5: =BA5*BB5 -> 0 | BL5: =BJ5*BK5 -> 0 | BQ5: =BO5*BP5 -> 0 | BV5: =BT5*BU5 -> 0 | CA5: =BY5*BZ5 -> 0 | CF5: =CD5*CE5 -> 0 | CL5: =CJ5*CK5 -> 0 | CQ5: =CO5*CP5 -> 0 | CV5: =CT5*CU5 -> 0 | CY5: 0 | DB5: =CZ5*DA5 -> 0 | DH5: =DF5*DG5 -> 0 | DN5: =DL5*DM5 -> 0 | DS5: =DQ5*DR5 -> 0 | DX5: =DV5*DW5 -> 0 | EC5: =EA5*EB5 -> 0 | EI5: =EG5*EH5 -> 0 | EO5: =EM5*EN5 -> 0 | EY5: =EW5*EX5 -> 0 | FD5: =FB5*FC5 -> 0 | FG5: =L5+Q5+V5 -> 0 | FH5: =N5+S5+X5 -> 0 | FI5: =SUM(AA5+AF5+AK5+AP5+AU5+BA5+BJ5+BO5+BT5+BY5+CD5+CJ5+CO5+CT5+CZ5+DF5+DL5+DQ5+DV5+EA5+EG5+EM5+EW5+FB5) -> 0 | FJ5: =SUM(AC5+AH5+AM5+AR5+AW5+BC5+BL5+BQ5+BV5+CA5+CF5+CL5+CQ5+CV5+DB5+DH5+DN5+DS5+DX5+EC5+EI5+EO5+EY5+FD5) -> 0 | FK5: =FG5+FI5 -> 0 | FL5: =FH5+FJ5 -> 0 | FM5: =COUNTIF(L5,">0")+COUNTIF(Q5,">0")+COUNTIF(V5,">0")+COUNTIF(AA5,">0")+COUNTIF(AF5,">0")+COUNTIF(AK5,">0")+COUNTIF(AP5,">0")+COUNTIF(AU5,">0")+COUNTIF(BA5,">0")+COUNTIF(BJ5,">0")+COUNTIF(BO5,">0")+COUNTIF(BT5,">0")+COUNTIF(BY5,">0")+COUNTIF(CD5,">0")+COUNTIF(CJ5,">0")+COUNTIF(CO5,">0")+COUNTIF(CT5,">0")+COUNTIF(CZ5,">0")+COUNTIF(DF5,">0")+COUNTIF(DL5,">0")+COUNTIF(DQ5,">0")+COUNTIF(DV5,">0")+COUNTIF(EA5,">0")+COUNTIF(EG5,">0")+COUNTIF(EM5,">0")+COUNTIF(EW5,">0")+COUNTIF(FB5,">0") -> 0
D6: 1 | N6: =L6*M6 -> 0 | S6: =Q6*R6 -> 0 | X6: =V6*W6 -> 0 | AC6: =AA6*AB6 -> 0 | AH6: =AF6*AG6 -> 0 | AM6: =AK6*AL6 -> 0 | AR6: =AP6*AQ6 -> 0 | AW6: =AU6*AV6 -> 0 | BC6: =BA6*BB6 -> 0 | BL6: =BJ6*BK6 -> 0 | BQ6: =BO6*BP6 -> 0 | BV6: =BT6*BU6 -> 0 | CA6: =BY6*BZ6 -> 0 | CF6: =CD6*CE6 -> 0 | CL6: =CJ6*CK6 -> 0 | CQ6: =CO6*CP6 -> 0 | CV6: =CT6*CU6 -> 0 | CY6: 0 | DB6: =CZ6*DA6 -> 0 | DH6: =DF6*DG6 -> 0 | DN6: =DL6*DM6 -> 0 | DS6: =DQ6*DR6 -> 0 | DX6: =DV6*DW6 -> 0 | EC6: =EA6*EB6 -> 0 | EI6: =EG6*EH6 -> 0 | EO6: =EM6*EN6 -> 0 | EY6: =EW6*EX6 -> 0 | FD6: =FB6*FC6 -> 0 | FG6: =L6+Q6+V6 -> 0 | FH6: =N6+S6+X6 -> 0 | FI6: =SUM(AA6+AF6+AK6+AP6+AU6+BA6+BJ6+BO6+BT6+BY6+CD6+CJ6+CO6+CT6+CZ6+DF6+DL6+DQ6+DV6+EA6+EG6+EM6+EW6+FB6) -> 0 | FJ6: =SUM(AC6+AH6+AM6+AR6+AW6+BC6+BL6+BQ6+BV6+CA6+CF6+CL6+CQ6+CV6+DB6+DH6+DN6+DS6+DX6+EC6+EI6+EO6+EY6+FD6) -> 0 | FK6: =FG6+FI6 -> 0 | FL6: =FH6+FJ6 -> 0 | FM6: =COUNTIF(L6,">0")+COUNTIF(Q6,">0")+COUNTIF(V6,">0")+COUNTIF(AA6,">0")+COUNTIF(AF6,">0")+COUNTIF(AK6,">0")+COUNTIF(AP6,">0")+COUNTIF(AU6,">0")+COUNTIF(BA6,">0")+COUNTIF(BJ6,">0")+COUNTIF(BO6,">0")+COUNTIF(BT6,">0")+COUNTIF(BY6,">0")+COUNTIF(CD6,">0")+COUNTIF(CJ6,">0")+COUNTIF(CO6,">0")+COUNTIF(CT6,">0")+COUNTIF(CZ6,">0")+COUNTIF(DF6,">0")+COUNTIF(DL6,">0")+COUNTIF(DQ6,">0")+COUNTIF(DV6,">0")+COUNTIF(EA6,">0")+COUNTIF(EG6,">0")+COUNTIF(EM6,">0")+COUNTIF(EW6,">0")+COUNTIF(FB6,">0") -> 0
D7: 1 | N7: =L7*M7 -> 0 | S7: =Q7*R7 -> 0 | X7: =V7*W7 -> 0 | AC7: =AA7*AB7 -> 0 | AH7: =AF7*AG7 -> 0 | AM7: =AK7*AL7 -> 0 | AR7: =AP7*AQ7 -> 0 | AW7: =AU7*AV7 -> 0 | BC7: =BA7*BB7 -> 0 | BL7: =BJ7*BK7 -> 0 | BQ7: =BO7*BP7 -> 0 | BV7: =BT7*BU7 -> 0 | CA7: =BY7*BZ7 -> 0 | CF7: =CD7*CE7 -> 0 | CL7: =CJ7*CK7 -> 0 | CQ7: =CO7*CP7 -> 0 | CV7: =CT7*CU7 -> 0 | CY7: 0 | DB7: =CZ7*DA7 -> 0 | DH7: =DF7*DG7 -> 0 | DN7: =DL7*DM7 -> 0 | DS7: =DQ7*DR7 -> 0 | DX7: =DV7*DW7 -> 0 | EC7: =EA7*EB7 -> 0 | EI7: =EG7*EH7 -> 0 | EO7: =EM7*EN7 -> 0 | EY7: =EW7*EX7 -> 0 | FD7: =FB7*FC7 -> 0 | FG7: =L7+Q7+V7 -> 0 | FH7: =N7+S7+X7 -> 0 | FI7: =SUM(AA7+AF7+AK7+AP7+AU7+BA7+BJ7+BO7+BT7+BY7+CD7+CJ7+CO7+CT7+CZ7+DF7+DL7+DQ7+DV7+EA7+EG7+EM7+EW7+FB7) -> 0 | FJ7: =SUM(AC7+AH7+AM7+AR7+AW7+BC7+BL7+BQ7+BV7+CA7+CF7+CL7+CQ7+CV7+DB7+DH7+DN7+DS7+DX7+EC7+EI7+EO7+EY7+FD7) -> 0 | FK7: =FG7+FI7 -> 0 | FL7: =FH7+FJ7 -> 0 | FM7: =COUNTIF(L7,">0")+COUNTIF(Q7,">0")+COUNTIF(V7,">0")+COUNTIF(AA7,">0")+COUNTIF(AF7,">0")+COUNTIF(AK7,">0")+COUNTIF(AP7,">0")+COUNTIF(AU7,">0")+COUNTIF(BA7,">0")+COUNTIF(BJ7,">0")+COUNTIF(BO7,">0")+COUNTIF(BT7,">0")+COUNTIF(BY7,">0")+COUNTIF(CD7,">0")+COUNTIF(CJ7,">0")+COUNTIF(CO7,">0")+COUNTIF(CT7,">0")+COUNTIF(CZ7,">0")+COUNTIF(DF7,">0")+COUNTIF(DL7,">0")+COUNTIF(DQ7,">0")+COUNTIF(DV7,">0")+COUNTIF(EA7,">0")+COUNTIF(EG7,">0")+COUNTIF(EM7,">0")+COUNTIF(EW7,">0")+COUNTIF(FB7,">0") -> 0
D8: 1 | N8: =L8*M8 -> 0 | S8: =Q8*R8 -> 0 | X8: =V8*W8 -> 0 | AC8: =AA8*AB8 -> 0 | AH8: =AF8*AG8 -> 0 | AM8: =AK8*AL8 -> 0 | AR8: =AP8*AQ8 -> 0 | AW8: =AU8*AV8 -> 0 | BC8: =BA8*BB8 -> 0 | BL8: =BJ8*BK8 -> 0 | BQ8: =BO8*BP8 -> 0 | BV8: =BT8*BU8 -> 0 | CA8: =BY8*BZ8 -> 0 | CF8: =CD8*CE8 -> 0 | CL8: =CJ8*CK8 -> 0 | CQ8: =CO8*CP8 -> 0 | CV8: =CT8*CU8 -> 0 | CY8: 0 | DB8: =CZ8*DA8 -> 0 | DH8: =DF8*DG8 -> 0 | DN8: =DL8*DM8 -> 0 | DS8: =DQ8*DR8 -> 0 | DX8: =DV8*DW8 -> 0 | EC8: =EA8*EB8 -> 0 | EI8: =EG8*EH8 -> 0 | EO8: =EM8*EN8 -> 0 | EY8: =EW8*EX8 -> 0 | FD8: =FB8*FC8 -> 0 | FG8: =L8+Q8+V8 -> 0 | FH8: =N8+S8+X8 -> 0 | FI8: =SUM(AA8+AF8+AK8+AP8+AU8+BA8+BJ8+BO8+BT8+BY8+CD8+CJ8+CO8+CT8+CZ8+DF8+DL8+DQ8+DV8+EA8+EG8+EM8+EW8+FB8) -> 0 | FJ8: =SUM(AC8+AH8+AM8+AR8+AW8+BC8+BL8+BQ8+BV8+CA8+CF8+CL8+CQ8+CV8+DB8+DH8+DN8+DS8+DX8+EC8+EI8+EO8+EY8+FD8) -> 0 | FK8: =FG8+FI8 -> 0 | FL8: =FH8+FJ8 -> 0 | FM8: =COUNTIF(L8,">0")+COUNTIF(Q8,">0")+COUNTIF(V8,">0")+COUNTIF(AA8,">0")+COUNTIF(AF8,">0")+COUNTIF(AK8,">0")+COUNTIF(AP8,">0")+COUNTIF(AU8,">0")+COUNTIF(BA8,">0")+COUNTIF(BJ8,">0")+COUNTIF(BO8,">0")+COUNTIF(BT8,">0")+COUNTIF(BY8,">0")+COUNTIF(CD8,">0")+COUNTIF(CJ8,">0")+COUNTIF(CO8,">0")+COUNTIF(CT8,">0")+COUNTIF(CZ8,">0")+COUNTIF(DF8,">0")+COUNTIF(DL8,">0")+COUNTIF(DQ8,">0")+COUNTIF(DV8,">0")+COUNTIF(EA8,">0")+COUNTIF(EG8,">0")+COUNTIF(EM8,">0")+COUNTIF(EW8,">0")+COUNTIF(FB8,">0") -> 0
D9: 1 | N9: =L9*M9 -> 0 | S9: =Q9*R9 -> 0 | X9: =V9*W9 -> 0 | AC9: =AA9*AB9 -> 0 | AH9: =AF9*AG9 -> 0 | AM9: =AK9*AL9 -> 0 | AR9: =AP9*AQ9 -> 0 | AW9: =AU9*AV9 -> 0 | BC9: =BA9*BB9 -> 0 | BL9: =BJ9*BK9 -> 0 | BQ9: =BO9*BP9 -> 0 | BV9: =BT9*BU9 -> 0 | CA9: =BY9*BZ9 -> 0 | CF9: =CD9*CE9 -> 0 | CL9: =CJ9*CK9 -> 0 | CQ9: =CO9*CP9 -> 0 | CV9: =CT9*CU9 -> 0 | DB9: =CZ9*DA9 -> 0 | DH9: =DF9*DG9 -> 0 | DN9: =DL9*DM9 -> 0 | DS9: =DQ9*DR9 -> 0 | DX9: =DV9*DW9 -> 0 | EC9: =EA9*EB9 -> 0 | EI9: =EG9*EH9 -> 0 | EO9: =EM9*EN9 -> 0 | EY9: =EW9*EX9 -> 0 | FD9: =FB9*FC9 -> 0 | FG9: =L9+Q9+V9 -> 0 | FH9: =N9+S9+X9 -> 0 | FI9: =SUM(AA9+AF9+AK9+AP9+AU9+BA9+BJ9+BO9+BT9+BY9+CD9+CJ9+CO9+CT9+CZ9+DF9+DL9+DQ9+DV9+EA9+EG9+EM9+EW9+FB9) -> 0 | FJ9: =SUM(AC9+AH9+AM9+AR9+AW9+BC9+BL9+BQ9+BV9+CA9+CF9+CL9+CQ9+CV9+DB9+DH9+DN9+DS9+DX9+EC9+EI9+EO9+EY9+FD9) -> 0 | FK9: =FG9+FI9 -> 0 | FL9: =FH9+FJ9 -> 0 | FM9: =COUNTIF(L9,">0")+COUNTIF(Q9,">0")+COUNTIF(V9,">0")+COUNTIF(AA9,">0")+COUNTIF(AF9,">0")+COUNTIF(AK9,">0")+COUNTIF(AP9,">0")+COUNTIF(AU9,">0")+COUNTIF(BA9,">0")+COUNTIF(BJ9,">0")+COUNTIF(BO9,">0")+COUNTIF(BT9,">0")+COUNTIF(BY9,">0")+COUNTIF(CD9,">0")+COUNTIF(CJ9,">0")+COUNTIF(CO9,">0")+COUNTIF(CT9,">0")+COUNTIF(CZ9,">0")+COUNTIF(DF9,">0")+COUNTIF(DL9,">0")+COUNTIF(DQ9,">0")+COUNTIF(DV9,">0")+COUNTIF(EA9,">0")+COUNTIF(EG9,">0")+COUNTIF(EM9,">0")+COUNTIF(EW9,">0")+COUNTIF(FB9,">0") -> 0
D10: 1 | N10: =L10*M10 -> 0 | S10: =Q10*R10 -> 0 | X10: =V10*W10 -> 0 | AC10: =AA10*AB10 -> 0 | AH10: =AF10*AG10 -> 0 | AM10: =AK10*AL10 -> 0 | AR10: =AP10*AQ10 -> 0 | AW10: =AU10*AV10 -> 0 | BC10: =BA10*BB10 -> 0 | BL10: =BJ10*BK10 -> 0 | BQ10: =BO10*BP10 -> 0 | BV10: =BT10*BU10 -> 0 | CA10: =BY10*BZ10 -> 0 | CF10: =CD10*CE10 -> 0 | CL10: =CJ10*CK10 -> 0 | CQ10: =CO10*CP10 -> 0 | CV10: =CT10*CU10 -> 0 | DB10: =CZ10*DA10 -> 0 | DH10: =DF10*DG10 -> 0 | DN10: =DL10*DM10 -> 0 | DS10: =DQ10*DR10 -> 0 | DX10: =DV10*DW10 -> 0 | EC10: =EA10*EB10 -> 0 | EI10: =EG10*EH10 -> 0 | EO10: =EM10*EN10 -> 0 | EY10: =EW10*EX10 -> 0 | FD10: =FB10*FC10 -> 0 | FG10: =L10+Q10+V10 -> 0 | FH10: =N10+S10+X10 -> 0 | FI10: =SUM(AA10+AF10+AK10+AP10+AU10+BA10+BJ10+BO10+BT10+BY10+CD10+CJ10+CO10+CT10+CZ10+DF10+DL10+DQ10+DV10+EA10+EG10+EM10+EW10+FB10) -> 0 | FJ10: =SUM(AC10+AH10+AM10+AR10+AW10+BC10+BL10+BQ10+BV10+CA10+CF10+CL10+CQ10+CV10+DB10+DH10+DN10+DS10+DX10+EC10+EI10+EO10+EY10+FD10) -> 0 | FK10: =FG10+FI10 -> 0 | FL10: =FH10+FJ10 -> 0 | FM10: =COUNTIF(L10,">0")+COUNTIF(Q10,">0")+COUNTIF(V10,">0")+COUNTIF(AA10,">0")+COUNTIF(AF10,">0")+COUNTIF(AK10,">0")+COUNTIF(AP10,">0")+COUNTIF(AU10,">0")+COUNTIF(BA10,">0")+COUNTIF(BJ10,">0")+COUNTIF(BO10,">0")+COUNTIF(BT10,">0")+COUNTIF(BY10,">0")+COUNTIF(CD10,">0")+COUNTIF(CJ10,">0")+COUNTIF(CO10,">0")+COUNTIF(CT10,">0")+COUNTIF(CZ10,">0")+COUNTIF(DF10,">0")+COUNTIF(DL10,">0")+COUNTIF(DQ10,">0")+COUNTIF(DV10,">0")+COUNTIF(EA10,">0")+COUNTIF(EG10,">0")+COUNTIF(EM10,">0")+COUNTIF(EW10,">0")+COUNTIF(FB10,">0") -> 0
D11: 1 | N11: =L11*M11 -> 0 | S11: =Q11*R11 -> 0 | X11: =V11*W11 -> 0 | AC11: =AA11*AB11 -> 0 | AH11: =AF11*AG11 -> 0 | AM11: =AK11*AL11 -> 0 | AR11: =AP11*AQ11 -> 0 | AW11: =AU11*AV11 -> 0 | BC11: =BA11*BB11 -> 0 | BL11: =BJ11*BK11 -> 0 | BQ11: =BO11*BP11 -> 0 | BV11: =BT11*BU11 -> 0 | CA11: =BY11*BZ11 -> 0 | CF11: =CD11*CE11 -> 0 | CL11: =CJ11*CK11 -> 0 | CQ11: =CO11*CP11 -> 0 | CV11: =CT11*CU11 -> 0 | CY11: 0 | DB11: =CZ11*DA11 -> 0 | DH11: =DF11*DG11 -> 0 | DN11: =DL11*DM11 -> 0 | DS11: =DQ11*DR11 -> 0 | DX11: =DV11*DW11 -> 0 | EC11: =EA11*EB11 -> 0 | EI11: =EG11*EH11 -> 0 | EO11: =EM11*EN11 -> 0 | EY11: =EW11*EX11 -> 0 | FD11: =FB11*FC11 -> 0 | FG11: =L11+Q11+V11 -> 0 | FH11: =N11+S11+X11 -> 0 | FI11: =SUM(AA11+AF11+AK11+AP11+AU11+BA11+BJ11+BO11+BT11+BY11+CD11+CJ11+CO11+CT11+CZ11+DF11+DL11+DQ11+DV11+EA11+EG11+EM11+EW11+FB11) -> 0 | FJ11: =SUM(AC11+AH11+AM11+AR11+AW11+BC11+BL11+BQ11+BV11+CA11+CF11+CL11+CQ11+CV11+DB11+DH11+DN11+DS11+DX11+EC11+EI11+EO11+EY11+FD11) -> 0 | FK11: =FG11+FI11 -> 0 | FL11: =FH11+FJ11 -> 0 | FM11: =COUNTIF(L11,">0")+COUNTIF(Q11,">0")+COUNTIF(V11,">0")+COUNTIF(AA11,">0")+COUNTIF(AF11,">0")+COUNTIF(AK11,">0")+COUNTIF(AP11,">0")+COUNTIF(AU11,">0")+COUNTIF(BA11,">0")+COUNTIF(BJ11,">0")+COUNTIF(BO11,">0")+COUNTIF(BT11,">0")+COUNTIF(BY11,">0")+COUNTIF(CD11,">0")+COUNTIF(CJ11,">0")+COUNTIF(CO11,">0")+COUNTIF(CT11,">0")+COUNTIF(CZ11,">0")+COUNTIF(DF11,">0")+COUNTIF(DL11,">0")+COUNTIF(DQ11,">0")+COUNTIF(DV11,">0")+COUNTIF(EA11,">0")+COUNTIF(EG11,">0")+COUNTIF(EM11,">0")+COUNTIF(EW11,">0")+COUNTIF(FB11,">0") -> 0
D12: 1 | N12: =L12*M12 -> 0 | S12: =Q12*R12 -> 0 | X12: =V12*W12 -> 0 | AC12: =AA12*AB12 -> 0 | AH12: =AF12*AG12 -> 0 | AM12: =AK12*AL12 -> 0 | AR12: =AP12*AQ12 -> 0 | AW12: =AU12*AV12 -> 0 | BC12: =BA12*BB12 -> 0 | BL12: =BJ12*BK12 -> 0 | BQ12: =BO12*BP12 -> 0 | BV12: =BT12*BU12 -> 0 | CA12: =BY12*BZ12 -> 0 | CF12: =CD12*CE12 -> 0 | CL12: =CJ12*CK12 -> 0 | CQ12: =CO12*CP12 -> 0 | CV12: =CT12*CU12 -> 0 | CY12: 0 | DB12: =CZ12*DA12 -> 0 | DH12: =DF12*DG12 -> 0 | DN12: =DL12*DM12 -> 0 | DS12: =DQ12*DR12 -> 0 | DX12: =DV12*DW12 -> 0 | EC12: =EA12*EB12 -> 0 | EI12: =EG12*EH12 -> 0 | EO12: =EM12*EN12 -> 0 | EY12: =EW12*EX12 -> 0 | FD12: =FB12*FC12 -> 0 | FG12: =L12+Q12+V12 -> 0 | FH12: =N12+S12+X12 -> 0 | FI12: =SUM(AA12+AF12+AK12+AP12+AU12+BA12+BJ12+BO12+BT12+BY12+CD12+CJ12+CO12+CT12+CZ12+DF12+DL12+DQ12+DV12+EA12+EG12+EM12+EW12+FB12) -> 0 | FJ12: =SUM(AC12+AH12+AM12+AR12+AW12+BC12+BL12+BQ12+BV12+CA12+CF12+CL12+CQ12+CV12+DB12+DH12+DN12+DS12+DX12+EC12+EI12+EO12+EY12+FD12) -> 0 | FK12: =FG12+FI12 -> 0 | FL12: =FH12+FJ12 -> 0 | FM12: =COUNTIF(L12,">0")+COUNTIF(Q12,">0")+COUNTIF(V12,">0")+COUNTIF(AA12,">0")+COUNTIF(AF12,">0")+COUNTIF(AK12,">0")+COUNTIF(AP12,">0")+COUNTIF(AU12,">0")+COUNTIF(BA12,">0")+COUNTIF(BJ12,">0")+COUNTIF(BO12,">0")+COUNTIF(BT12,">0")+COUNTIF(BY12,">0")+COUNTIF(CD12,">0")+COUNTIF(CJ12,">0")+COUNTIF(CO12,">0")+COUNTIF(CT12,">0")+COUNTIF(CZ12,">0")+COUNTIF(DF12,">0")+COUNTIF(DL12,">0")+COUNTIF(DQ12,">0")+COUNTIF(DV12,">0")+COUNTIF(EA12,">0")+COUNTIF(EG12,">0")+COUNTIF(EM12,">0")+COUNTIF(EW12,">0")+COUNTIF(FB12,">0") -> 0
D13: 1 | N13: =L13*M13 -> 0 | S13: =Q13*R13 -> 0 | X13: =V13*W13 -> 0 | AC13: =AA13*AB13 -> 0 | AH13: =AF13*AG13 -> 0 | AM13: =AK13*AL13 -> 0 | AR13: =AP13*AQ13 -> 0 | AW13: =AU13*AV13 -> 0 | BC13: =BA13*BB13 -> 0 | BL13: =BJ13*BK13 -> 0 | BQ13: =BO13*BP13 -> 0 | BV13: =BT13*BU13 -> 0 | CA13: =BY13*BZ13 -> 0 | CF13: =CD13*CE13 -> 0 | CL13: =CJ13*CK13 -> 0 | CQ13: =CO13*CP13 -> 0 | CV13: =CT13*CU13 -> 0 | CY13: 0 | DB13: =CZ13*DA13 -> 0 | DH13: =DF13*DG13 -> 0 | DN13: =DL13*DM13 -> 0 | DS13: =DQ13*DR13 -> 0 | DX13: =DV13*DW13 -> 0 | EC13: =EA13*EB13 -> 0 | EI13: =EG13*EH13 -> 0 | EO13: =EM13*EN13 -> 0 | EY13: =EW13*EX13 -> 0 | FD13: =FB13*FC13 -> 0 | FG13: =L13+Q13+V13 -> 0 | FH13: =N13+S13+X13 -> 0 | FI13: =SUM(AA13+AF13+AK13+AP13+AU13+BA13+BJ13+BO13+BT13+BY13+CD13+CJ13+CO13+CT13+CZ13+DF13+DL13+DQ13+DV13+EA13+EG13+EM13+EW13+FB13) -> 0 | FJ13: =SUM(AC13+AH13+AM13+AR13+AW13+BC13+BL13+BQ13+BV13+CA13+CF13+CL13+CQ13+CV13+DB13+DH13+DN13+DS13+DX13+EC13+EI13+EO13+EY13+FD13) -> 0 | FK13: =FG13+FI13 -> 0 | FL13: =FH13+FJ13 -> 0 | FM13: =COUNTIF(L13,">0")+COUNTIF(Q13,">0")+COUNTIF(V13,">0")+COUNTIF(AA13,">0")+COUNTIF(AF13,">0")+COUNTIF(AK13,">0")+COUNTIF(AP13,">0")+COUNTIF(AU13,">0")+COUNTIF(BA13,">0")+COUNTIF(BJ13,">0")+COUNTIF(BO13,">0")+COUNTIF(BT13,">0")+COUNTIF(BY13,">0")+COUNTIF(CD13,">0")+COUNTIF(CJ13,">0")+COUNTIF(CO13,">0")+COUNTIF(CT13,">0")+COUNTIF(CZ13,">0")+COUNTIF(DF13,">0")+COUNTIF(DL13,">0")+COUNTIF(DQ13,">0")+COUNTIF(DV13,">0")+COUNTIF(EA13,">0")+COUNTIF(EG13,">0")+COUNTIF(EM13,">0")+COUNTIF(EW13,">0")+COUNTIF(FB13,">0") -> 0
D14: 1 | N14: =L14*M14 -> 0 | S14: =Q14*R14 -> 0 | X14: =V14*W14 -> 0 | AC14: =AA14*AB14 -> 0 | AH14: =AF14*AG14 -> 0 | AM14: =AK14*AL14 -> 0 | AR14: =AP14*AQ14 -> 0 | AW14: =AU14*AV14 -> 0 | BC14: =BA14*BB14 -> 0 | BL14: =BJ14*BK14 -> 0 | BQ14: =BO14*BP14 -> 0 | BV14: =BT14*BU14 -> 0 | CA14: =BY14*BZ14 -> 0 | CF14: =CD14*CE14 -> 0 | CL14: =CJ14*CK14 -> 0 | CQ14: =CO14*CP14 -> 0 | CV14: =CT14*CU14 -> 0 | CY14: 0 | DB14: =CZ14*DA14 -> 0 | DH14: =DF14*DG14 -> 0 | DN14: =DL14*DM14 -> 0 | DS14: =DQ14*DR14 -> 0 | DX14: =DV14*DW14 -> 0 | EC14: =EA14*EB14 -> 0 | EI14: =EG14*EH14 -> 0 | EO14: =EM14*EN14 -> 0 | EY14: =EW14*EX14 -> 0 | FD14: =FB14*FC14 -> 0 | FG14: =L14+Q14+V14 -> 0 | FH14: =N14+S14+X14 -> 0 | FI14: =SUM(AA14+AF14+AK14+AP14+AU14+BA14+BJ14+BO14+BT14+BY14+CD14+CJ14+CO14+CT14+CZ14+DF14+DL14+DQ14+DV14+EA14+EG14+EM14+EW14+FB14) -> 0 | FJ14: =SUM(AC14+AH14+AM14+AR14+AW14+BC14+BL14+BQ14+BV14+CA14+CF14+CL14+CQ14+CV14+DB14+DH14+DN14+DS14+DX14+EC14+EI14+EO14+EY14+FD14) -> 0 | FK14: =FG14+FI14 -> 0 | FL14: =FH14+FJ14 -> 0 | FM14: =COUNTIF(L14,">0")+COUNTIF(Q14,">0")+COUNTIF(V14,">0")+COUNTIF(AA14,">0")+COUNTIF(AF14,">0")+COUNTIF(AK14,">0")+COUNTIF(AP14,">0")+COUNTIF(AU14,">0")+COUNTIF(BA14,">0")+COUNTIF(BJ14,">0")+COUNTIF(BO14,">0")+COUNTIF(BT14,">0")+COUNTIF(BY14,">0")+COUNTIF(CD14,">0")+COUNTIF(CJ14,">0")+COUNTIF(CO14,">0")+COUNTIF(CT14,">0")+COUNTIF(CZ14,">0")+COUNTIF(DF14,">0")+COUNTIF(DL14,">0")+COUNTIF(DQ14,">0")+COUNTIF(DV14,">0")+COUNTIF(EA14,">0")+COUNTIF(EG14,">0")+COUNTIF(EM14,">0")+COUNTIF(EW14,">0")+COUNTIF(FB14,">0") -> 0
D15: 1 | N15: =L15*M15 -> 0 | S15: =Q15*R15 -> 0 | X15: =V15*W15 -> 0 | AC15: =AA15*AB15 -> 0 | AH15: =AF15*AG15 -> 0 | AM15: =AK15*AL15 -> 0 | AR15: =AP15*AQ15 -> 0 | AW15: =AU15*AV15 -> 0 | BC15: =BA15*BB15 -> 0 | BL15: =BJ15*BK15 -> 0 | BQ15: =BO15*BP15 -> 0 | BV15: =BT15*BU15 -> 0 | CA15: =BY15*BZ15 -> 0 | CF15: =CD15*CE15 -> 0 | CL15: =CJ15*CK15 -> 0 | CQ15: =CO15*CP15 -> 0 | CV15: =CT15*CU15 -> 0 | CY15: 0 | DB15: =CZ15*DA15 -> 0 | DH15: =DF15*DG15 -> 0 | DN15: =DL15*DM15 -> 0 | DS15: =DQ15*DR15 -> 0 | DX15: =DV15*DW15 -> 0 | EC15: =EA15*EB15 -> 0 | EI15: =EG15*EH15 -> 0 | EO15: =EM15*EN15 -> 0 | EY15: =EW15*EX15 -> 0 | FD15: =FB15*FC15 -> 0 | FG15: =L15+Q15+V15 -> 0 | FH15: =N15+S15+X15 -> 0 | FI15: =SUM(AA15+AF15+AK15+AP15+AU15+BA15+BJ15+BO15+BT15+BY15+CD15+CJ15+CO15+CT15+CZ15+DF15+DL15+DQ15+DV15+EA15+EG15+EM15+EW15+FB15) -> 0 | FJ15: =SUM(AC15+AH15+AM15+AR15+AW15+BC15+BL15+BQ15+BV15+CA15+CF15+CL15+CQ15+CV15+DB15+DH15+DN15+DS15+DX15+EC15+EI15+EO15+EY15+FD15) -> 0 | FK15: =FG15+FI15 -> 0 | FL15: =FH15+FJ15 -> 0 | FM15: =COUNTIF(L15,">0")+COUNTIF(Q15,">0")+COUNTIF(V15,">0")+COUNTIF(AA15,">0")+COUNTIF(AF15,">0")+COUNTIF(AK15,">0")+COUNTIF(AP15,">0")+COUNTIF(AU15,">0")+COUNTIF(BA15,">0")+COUNTIF(BJ15,">0")+COUNTIF(BO15,">0")+COUNTIF(BT15,">0")+COUNTIF(BY15,">0")+COUNTIF(CD15,">0")+COUNTIF(CJ15,">0")+COUNTIF(CO15,">0")+COUNTIF(CT15,">0")+COUNTIF(CZ15,">0")+COUNTIF(DF15,">0")+COUNTIF(DL15,">0")+COUNTIF(DQ15,">0")+COUNTIF(DV15,">0")+COUNTIF(EA15,">0")+COUNTIF(EG15,">0")+COUNTIF(EM15,">0")+COUNTIF(EW15,">0")+COUNTIF(FB15,">0") -> 0
D16: 1 | N16: =L16*M16 -> 0 | S16: =Q16*R16 -> 0 | X16: =V16*W16 -> 0 | AC16: =AA16*AB16 -> 0 | AH16: =AF16*AG16 -> 0 | AM16: =AK16*AL16 -> 0 | AR16: =AP16*AQ16 -> 0 | AW16: =AU16*AV16 -> 0 | BC16: =BA16*BB16 -> 0 | BL16: =BJ16*BK16 -> 0 | BQ16: =BO16*BP16 -> 0 | BV16: =BT16*BU16 -> 0 | CA16: =BY16*BZ16 -> 0 | CF16: =CD16*CE16 -> 0 | CL16: =CJ16*CK16 -> 0 | CQ16: =CO16*CP16 -> 0 | CV16: =CT16*CU16 -> 0 | CY16: 0 | DB16: =CZ16*DA16 -> 0 | DH16: =DF16*DG16 -> 0 | DN16: =DL16*DM16 -> 0 | DS16: =DQ16*DR16 -> 0 | DX16: =DV16*DW16 -> 0 | EC16: =EA16*EB16 -> 0 | EI16: =EG16*EH16 -> 0 | EO16: =EM16*EN16 -> 0 | EY16: =EW16*EX16 -> 0 | FD16: =FB16*FC16 -> 0 | FG16: =L16+Q16+V16 -> 0 | FH16: =N16+S16+X16 -> 0 | FI16: =SUM(AA16+AF16+AK16+AP16+AU16+BA16+BJ16+BO16+BT16+BY16+CD16+CJ16+CO16+CT16+CZ16+DF16+DL16+DQ16+DV16+EA16+EG16+EM16+EW16+FB16) -> 0 | FJ16: =SUM(AC16+AH16+AM16+AR16+AW16+BC16+BL16+BQ16+BV16+CA16+CF16+CL16+CQ16+CV16+DB16+DH16+DN16+DS16+DX16+EC16+EI16+EO16+EY16+FD16) -> 0 | FK16: =FG16+FI16 -> 0 | FL16: =FH16+FJ16 -> 0 | FM16: =COUNTIF(L16,">0")+COUNTIF(Q16,">0")+COUNTIF(V16,">0")+COUNTIF(AA16,">0")+COUNTIF(AF16,">0")+COUNTIF(AK16,">0")+COUNTIF(AP16,">0")+COUNTIF(AU16,">0")+COUNTIF(BA16,">0")+COUNTIF(BJ16,">0")+COUNTIF(BO16,">0")+COUNTIF(BT16,">0")+COUNTIF(BY16,">0")+COUNTIF(CD16,">0")+COUNTIF(CJ16,">0")+COUNTIF(CO16,">0")+COUNTIF(CT16,">0")+COUNTIF(CZ16,">0")+COUNTIF(DF16,">0")+COUNTIF(DL16,">0")+COUNTIF(DQ16,">0")+COUNTIF(DV16,">0")+COUNTIF(EA16,">0")+COUNTIF(EG16,">0")+COUNTIF(EM16,">0")+COUNTIF(EW16,">0")+COUNTIF(FB16,">0") -> 0
D17: 1 | N17: =L17*M17 -> 0 | S17: =Q17*R17 -> 0 | X17: =V17*W17 -> 0 | AC17: =AA17*AB17 -> 0 | AH17: =AF17*AG17 -> 0 | AM17: =AK17*AL17 -> 0 | AR17: =AP17*AQ17 -> 0 | AW17: =AU17*AV17 -> 0 | BC17: =BA17*BB17 -> 0 | BL17: =BJ17*BK17 -> 0 | BQ17: =BO17*BP17 -> 0 | BV17: =BT17*BU17 -> 0 | CA17: =BY17*BZ17 -> 0 | CF17: =CD17*CE17 -> 0 | CL17: =CJ17*CK17 -> 0 | CQ17: =CO17*CP17 -> 0 | CV17: =CT17*CU17 -> 0 | CY17: 0 | DB17: =CZ17*DA17 -> 0 | DH17: =DF17*DG17 -> 0 | DN17: =DL17*DM17 -> 0 | DS17: =DQ17*DR17 -> 0 | DX17: =DV17*DW17 -> 0 | EC17: =EA17*EB17 -> 0 | EI17: =EG17*EH17 -> 0 | EO17: =EM17*EN17 -> 0 | EY17: =EW17*EX17 -> 0 | FD17: =FB17*FC17 -> 0 | FG17: =L17+Q17+V17 -> 0 | FH17: =N17+S17+X17 -> 0 | FI17: =SUM(AA17+AF17+AK17+AP17+AU17+BA17+BJ17+BO17+BT17+BY17+CD17+CJ17+CO17+CT17+CZ17+DF17+DL17+DQ17+DV17+EA17+EG17+EM17+EW17+FB17) -> 0 | FJ17: =SUM(AC17+AH17+AM17+AR17+AW17+BC17+BL17+BQ17+BV17+CA17+CF17+CL17+CQ17+CV17+DB17+DH17+DN17+DS17+DX17+EC17+EI17+EO17+EY17+FD17) -> 0 | FK17: =FG17+FI17 -> 0 | FL17: =FH17+FJ17 -> 0 | FM17: =COUNTIF(L17,">0")+COUNTIF(Q17,">0")+COUNTIF(V17,">0")+COUNTIF(AA17,">0")+COUNTIF(AF17,">0")+COUNTIF(AK17,">0")+COUNTIF(AP17,">0")+COUNTIF(AU17,">0")+COUNTIF(BA17,">0")+COUNTIF(BJ17,">0")+COUNTIF(BO17,">0")+COUNTIF(BT17,">0")+COUNTIF(BY17,">0")+COUNTIF(CD17,">0")+COUNTIF(CJ17,">0")+COUNTIF(CO17,">0")+COUNTIF(CT17,">0")+COUNTIF(CZ17,">0")+COUNTIF(DF17,">0")+COUNTIF(DL17,">0")+COUNTIF(DQ17,">0")+COUNTIF(DV17,">0")+COUNTIF(EA17,">0")+COUNTIF(EG17,">0")+COUNTIF(EM17,">0")+COUNTIF(EW17,">0")+COUNTIF(FB17,">0") -> 0
D18: 1 | N18: =L18*M18 -> 0 | S18: =Q18*R18 -> 0 | X18: =V18*W18 -> 0 | AC18: =AA18*AB18 -> 0 | AH18: =AF18*AG18 -> 0 | AM18: =AK18*AL18 -> 0 | AR18: =AP18*AQ18 -> 0 | AW18: =AU18*AV18 -> 0 | BC18: =BA18*BB18 -> 0 | BL18: =BJ18*BK18 -> 0 | BQ18: =BO18*BP18 -> 0 | BV18: =BT18*BU18 -> 0 | CA18: =BY18*BZ18 -> 0 | CF18: =CD18*CE18 -> 0 | CL18: =CJ18*CK18 -> 0 | CQ18: =CO18*CP18 -> 0 | CV18: =CT18*CU18 -> 0 | CY18: 0 | DB18: =CZ18*DA18 -> 0 | DH18: =DF18*DG18 -> 0 | DN18: =DL18*DM18 -> 0 | DS18: =DQ18*DR18 -> 0 | DX18: =DV18*DW18 -> 0 | EC18: =EA18*EB18 -> 0 | EI18: =EG18*EH18 -> 0 | EO18: =EM18*EN18 -> 0 | EY18: =EW18*EX18 -> 0 | FD18: =FB18*FC18 -> 0 | FG18: =L18+Q18+V18 -> 0 | FH18: =N18+S18+X18 -> 0 | FI18: =SUM(AA18+AF18+AK18+AP18+AU18+BA18+BJ18+BO18+BT18+BY18+CD18+CJ18+CO18+CT18+CZ18+DF18+DL18+DQ18+DV18+EA18+EG18+EM18+EW18+FB18) -> 0 | FJ18: =SUM(AC18+AH18+AM18+AR18+AW18+BC18+BL18+BQ18+BV18+CA18+CF18+CL18+CQ18+CV18+DB18+DH18+DN18+DS18+DX18+EC18+EI18+EO18+EY18+FD18) -> 0 | FK18: =FG18+FI18 -> 0 | FL18: =FH18+FJ18 -> 0 | FM18: =COUNTIF(L18,">0")+COUNTIF(Q18,">0")+COUNTIF(V18,">0")+COUNTIF(AA18,">0")+COUNTIF(AF18,">0")+COUNTIF(AK18,">0")+COUNTIF(AP18,">0")+COUNTIF(AU18,">0")+COUNTIF(BA18,">0")+COUNTIF(BJ18,">0")+COUNTIF(BO18,">0")+COUNTIF(BT18,">0")+COUNTIF(BY18,">0")+COUNTIF(CD18,">0")+COUNTIF(CJ18,">0")+COUNTIF(CO18,">0")+COUNTIF(CT18,">0")+COUNTIF(CZ18,">0")+COUNTIF(DF18,">0")+COUNTIF(DL18,">0")+COUNTIF(DQ18,">0")+COUNTIF(DV18,">0")+COUNTIF(EA18,">0")+COUNTIF(EG18,">0")+COUNTIF(EM18,">0")+COUNTIF(EW18,">0")+COUNTIF(FB18,">0") -> 0
D19: 1 | N19: =L19*M19 -> 0 | S19: =Q19*R19 -> 0 | X19: =V19*W19 -> 0 | AC19: =AA19*AB19 -> 0 | AH19: =AF19*AG19 -> 0 | AM19: =AK19*AL19 -> 0 | AR19: =AP19*AQ19 -> 0 | AW19: =AU19*AV19 -> 0 | BC19: =BA19*BB19 -> 0 | BL19: =BJ19*BK19 -> 0 | BQ19: =BO19*BP19 -> 0 | BV19: =BT19*BU19 -> 0 | CA19: =BY19*BZ19 -> 0 | CF19: =CD19*CE19 -> 0 | CL19: =CJ19*CK19 -> 0 | CQ19: =CO19*CP19 -> 0 | CV19: =CT19*CU19 -> 0 | CY19: 0 | DB19: =CZ19*DA19 -> 0 | DH19: =DF19*DG19 -> 0 | DN19: =DL19*DM19 -> 0 | DS19: =DQ19*DR19 -> 0 | DX19: =DV19*DW19 -> 0 | EC19: =EA19*EB19 -> 0 | EI19: =EG19*EH19 -> 0 | EO19: =EM19*EN19 -> 0 | EY19: =EW19*EX19 -> 0 | FD19: =FB19*FC19 -> 0 | FG19: =L19+Q19+V19 -> 0 | FH19: =N19+S19+X19 -> 0 | FI19: =SUM(AA19+AF19+AK19+AP19+AU19+BA19+BJ19+BO19+BT19+BY19+CD19+CJ19+CO19+CT19+CZ19+DF19+DL19+DQ19+DV19+EA19+EG19+EM19+EW19+FB19) -> 0 | FJ19: =SUM(AC19+AH19+AM19+AR19+AW19+BC19+BL19+BQ19+BV19+CA19+CF19+CL19+CQ19+CV19+DB19+DH19+DN19+DS19+DX19+EC19+EI19+EO19+EY19+FD19) -> 0 | FK19: =FG19+FI19 -> 0 | FL19: =FH19+FJ19 -> 0 | FM19: =COUNTIF(L19,">0")+COUNTIF(Q19,">0")+COUNTIF(V19,">0")+COUNTIF(AA19,">0")+COUNTIF(AF19,">0")+COUNTIF(AK19,">0")+COUNTIF(AP19,">0")+COUNTIF(AU19,">0")+COUNTIF(BA19,">0")+COUNTIF(BJ19,">0")+COUNTIF(BO19,">0")+COUNTIF(BT19,">0")+COUNTIF(BY19,">0")+COUNTIF(CD19,">0")+COUNTIF(CJ19,">0")+COUNTIF(CO19,">0")+COUNTIF(CT19,">0")+COUNTIF(CZ19,">0")+COUNTIF(DF19,">0")+COUNTIF(DL19,">0")+COUNTIF(DQ19,">0")+COUNTIF(DV19,">0")+COUNTIF(EA19,">0")+COUNTIF(EG19,">0")+COUNTIF(EM19,">0")+COUNTIF(EW19,">0")+COUNTIF(FB19,">0") -> 0
D20: 1 | N20: =L20*M20 -> 0 | S20: =Q20*R20 -> 0 | X20: =V20*W20 -> 0 | AC20: =AA20*AB20 -> 0 | AH20: =AF20*AG20 -> 0 | AM20: =AK20*AL20 -> 0 | AR20: =AP20*AQ20 -> 0 | AW20: =AU20*AV20 -> 0 | BC20: =BA20*BB20 -> 0 | BL20: =BJ20*BK20 -> 0 | BQ20: =BO20*BP20 -> 0 | BV20: =BT20*BU20 -> 0 | CA20: =BY20*BZ20 -> 0 | CF20: =CD20*CE20 -> 0 | CL20: =CJ20*CK20 -> 0 | CQ20: =CO20*CP20 -> 0 | CV20: =CT20*CU20 -> 0 | CY20: 0 | DB20: =CZ20*DA20 -> 0 | DH20: =DF20*DG20 -> 0 | DN20: =DL20*DM20 -> 0 | DS20: =DQ20*DR20 -> 0 | DX20: =DV20*DW20 -> 0 | EC20: =EA20*EB20 -> 0 | EI20: =EG20*EH20 -> 0 | EO20: =EM20*EN20 -> 0 | EY20: =EW20*EX20 -> 0 | FD20: =FB20*FC20 -> 0 | FG20: =L20+Q20+V20 -> 0 | FH20: =N20+S20+X20 -> 0 | FI20: =SUM(AA20+AF20+AK20+AP20+AU20+BA20+BJ20+BO20+BT20+BY20+CD20+CJ20+CO20+CT20+CZ20+DF20+DL20+DQ20+DV20+EA20+EG20+EM20+EW20+FB20) -> 0 | FJ20: =SUM(AC20+AH20+AM20+AR20+AW20+BC20+BL20+BQ20+BV20+CA20+CF20+CL20+CQ20+CV20+DB20+DH20+DN20+DS20+DX20+EC20+EI20+EO20+EY20+FD20) -> 0 | FK20: =FG20+FI20 -> 0 | FL20: =FH20+FJ20 -> 0 | FM20: =COUNTIF(L20,">0")+COUNTIF(Q20,">0")+COUNTIF(V20,">0")+COUNTIF(AA20,">0")+COUNTIF(AF20,">0")+COUNTIF(AK20,">0")+COUNTIF(AP20,">0")+COUNTIF(AU20,">0")+COUNTIF(BA20,">0")+COUNTIF(BJ20,">0")+COUNTIF(BO20,">0")+COUNTIF(BT20,">0")+COUNTIF(BY20,">0")+COUNTIF(CD20,">0")+COUNTIF(CJ20,">0")+COUNTIF(CO20,">0")+COUNTIF(CT20,">0")+COUNTIF(CZ20,">0")+COUNTIF(DF20,">0")+COUNTIF(DL20,">0")+COUNTIF(DQ20,">0")+COUNTIF(DV20,">0")+COUNTIF(EA20,">0")+COUNTIF(EG20,">0")+COUNTIF(EM20,">0")+COUNTIF(EW20,">0")+COUNTIF(FB20,">0") -> 0
D21: 1 | N21: =L21*M21 -> 0 | S21: =Q21*R21 -> 0 | X21: =V21*W21 -> 0 | AC21: =AA21*AB21 -> 0 | AH21: =AF21*AG21 -> 0 | AM21: =AK21*AL21 -> 0 | AR21: =AP21*AQ21 -> 0 | AW21: =AU21*AV21 -> 0 | BC21: =BA21*BB21 -> 0 | BL21: =BJ21*BK21 -> 0 | BQ21: =BO21*BP21 -> 0 | BV21: =BT21*BU21 -> 0 | CA21: =BY21*BZ21 -> 0 | CF21: =CD21*CE21 -> 0 | CL21: =CJ21*CK21 -> 0 | CQ21: =CO21*CP21 -> 0 | CV21: =CT21*CU21 -> 0 | DB21: =CZ21*DA21 -> 0 | DH21: =DF21*DG21 -> 0 | DN21: =DL21*DM21 -> 0 | DS21: =DQ21*DR21 -> 0 | DX21: =DV21*DW21 -> 0 | EC21: =EA21*EB21 -> 0 | EI21: =EG21*EH21 -> 0 | EO21: =EM21*EN21 -> 0 | EY21: =EW21*EX21 -> 0 | FD21: =FB21*FC21 -> 0 | FG21: =L21+Q21+V21 -> 0 | FH21: =N21+S21+X21 -> 0 | FI21: =SUM(AA21+AF21+AK21+AP21+AU21+BA21+BJ21+BO21+BT21+BY21+CD21+CJ21+CO21+CT21+CZ21+DF21+DL21+DQ21+DV21+EA21+EG21+EM21+EW21+FB21) -> 0 | FJ21: =SUM(AC21+AH21+AM21+AR21+AW21+BC21+BL21+BQ21+BV21+CA21+CF21+CL21+CQ21+CV21+DB21+DH21+DN21+DS21+DX21+EC21+EI21+EO21+EY21+FD21) -> 0 | FK21: =FG21+FI21 -> 0 | FL21: =FH21+FJ21 -> 0 | FM21: =COUNTIF(L21,">0")+COUNTIF(Q21,">0")+COUNTIF(V21,">0")+COUNTIF(AA21,">0")+COUNTIF(AF21,">0")+COUNTIF(AK21,">0")+COUNTIF(AP21,">0")+COUNTIF(AU21,">0")+COUNTIF(BA21,">0")+COUNTIF(BJ21,">0")+COUNTIF(BO21,">0")+COUNTIF(BT21,">0")+COUNTIF(BY21,">0")+COUNTIF(CD21,">0")+COUNTIF(CJ21,">0")+COUNTIF(CO21,">0")+COUNTIF(CT21,">0")+COUNTIF(CZ21,">0")+COUNTIF(DF21,">0")+COUNTIF(DL21,">0")+COUNTIF(DQ21,">0")+COUNTIF(DV21,">0")+COUNTIF(EA21,">0")+COUNTIF(EG21,">0")+COUNTIF(EM21,">0")+COUNTIF(EW21,">0")+COUNTIF(FB21,">0") -> 0
D22: 1 | N22: =L22*M22 -> 0 | S22: =Q22*R22 -> 0 | X22: =V22*W22 -> 0 | AC22: =AA22*AB22 -> 0 | AH22: =AF22*AG22 -> 0 | AM22: =AK22*AL22 -> 0 | AR22: =AP22*AQ22 -> 0 | AW22: =AU22*AV22 -> 0 | BC22: =BA22*BB22 -> 0 | BL22: =BJ22*BK22 -> 0 | BQ22: =BO22*BP22 -> 0 | BV22: =BT22*BU22 -> 0 | CA22: =BY22*BZ22 -> 0 | CF22: =CD22*CE22 -> 0 | CL22: =CJ22*CK22 -> 0 | CQ22: =CO22*CP22 -> 0 | CV22: =CT22*CU22 -> 0 | DB22: =CZ22*DA22 -> 0 | DH22: =DF22*DG22 -> 0 | DN22: =DL22*DM22 -> 0 | DS22: =DQ22*DR22 -> 0 | DX22: =DV22*DW22 -> 0 | EC22: =EA22*EB22 -> 0 | EI22: =EG22*EH22 -> 0 | EO22: =EM22*EN22 -> 0 | EY22: =EW22*EX22 -> 0 | FD22: =FB22*FC22 -> 0 | FG22: =L22+Q22+V22 -> 0 | FH22: =N22+S22+X22 -> 0 | FI22: =SUM(AA22+AF22+AK22+AP22+AU22+BA22+BJ22+BO22+BT22+BY22+CD22+CJ22+CO22+CT22+CZ22+DF22+DL22+DQ22+DV22+EA22+EG22+EM22+EW22+FB22) -> 0 | FJ22: =SUM(AC22+AH22+AM22+AR22+AW22+BC22+BL22+BQ22+BV22+CA22+CF22+CL22+CQ22+CV22+DB22+DH22+DN22+DS22+DX22+EC22+EI22+EO22+EY22+FD22) -> 0 | FK22: =FG22+FI22 -> 0 | FL22: =FH22+FJ22 -> 0 | FM22: =COUNTIF(L22,">0")+COUNTIF(Q22,">0")+COUNTIF(V22,">0")+COUNTIF(AA22,">0")+COUNTIF(AF22,">0")+COUNTIF(AK22,">0")+COUNTIF(AP22,">0")+COUNTIF(AU22,">0")+COUNTIF(BA22,">0")+COUNTIF(BJ22,">0")+COUNTIF(BO22,">0")+COUNTIF(BT22,">0")+COUNTIF(BY22,">0")+COUNTIF(CD22,">0")+COUNTIF(CJ22,">0")+COUNTIF(CO22,">0")+COUNTIF(CT22,">0")+COUNTIF(CZ22,">0")+COUNTIF(DF22,">0")+COUNTIF(DL22,">0")+COUNTIF(DQ22,">0")+COUNTIF(DV22,">0")+COUNTIF(EA22,">0")+COUNTIF(EG22,">0")+COUNTIF(EM22,">0")+COUNTIF(EW22,">0")+COUNTIF(FB22,">0") -> 0
D23: 1 | N23: =L23*M23 -> 0 | S23: =Q23*R23 -> 0 | X23: =V23*W23 -> 0 | AC23: =AA23*AB23 -> 0 | AH23: =AF23*AG23 -> 0 | AM23: =AK23*AL23 -> 0 | AR23: =AP23*AQ23 -> 0 | AW23: =AU23*AV23 -> 0 | BC23: =BA23*BB23 -> 0 | BL23: =BJ23*BK23 -> 0 | BQ23: =BO23*BP23 -> 0 | BV23: =BT23*BU23 -> 0 | CA23: =BY23*BZ23 -> 0 | CF23: =CD23*CE23 -> 0 | CL23: =CJ23*CK23 -> 0 | CQ23: =CO23*CP23 -> 0 | CV23: =CT23*CU23 -> 0 | DB23: =CZ23*DA23 -> 0 | DH23: =DF23*DG23 -> 0 | DN23: =DL23*DM23 -> 0 | DS23: =DQ23*DR23 -> 0 | DX23: =DV23*DW23 -> 0 | EC23: =EA23*EB23 -> 0 | EI23: =EG23*EH23 -> 0 | EO23: =EM23*EN23 -> 0 | EY23: =EW23*EX23 -> 0 | FD23: =FB23*FC23 -> 0 | FG23: =L23+Q23+V23 -> 0 | FH23: =N23+S23+X23 -> 0 | FI23: =SUM(AA23+AF23+AK23+AP23+AU23+BA23+BJ23+BO23+BT23+BY23+CD23+CJ23+CO23+CT23+CZ23+DF23+DL23+DQ23+DV23+EA23+EG23+EM23+EW23+FB23) -> 0 | FJ23: =SUM(AC23+AH23+AM23+AR23+AW23+BC23+BL23+BQ23+BV23+CA23+CF23+CL23+CQ23+CV23+DB23+DH23+DN23+DS23+DX23+EC23+EI23+EO23+EY23+FD23) -> 0 | FK23: =FG23+FI23 -> 0 | FL23: =FH23+FJ23 -> 0 | FM23: =COUNTIF(L23,">0")+COUNTIF(Q23,">0")+COUNTIF(V23,">0")+COUNTIF(AA23,">0")+COUNTIF(AF23,">0")+COUNTIF(AK23,">0")+COUNTIF(AP23,">0")+COUNTIF(AU23,">0")+COUNTIF(BA23,">0")+COUNTIF(BJ23,">0")+COUNTIF(BO23,">0")+COUNTIF(BT23,">0")+COUNTIF(BY23,">0")+COUNTIF(CD23,">0")+COUNTIF(CJ23,">0")+COUNTIF(CO23,">0")+COUNTIF(CT23,">0")+COUNTIF(CZ23,">0")+COUNTIF(DF23,">0")+COUNTIF(DL23,">0")+COUNTIF(DQ23,">0")+COUNTIF(DV23,">0")+COUNTIF(EA23,">0")+COUNTIF(EG23,">0")+COUNTIF(EM23,">0")+COUNTIF(EW23,">0")+COUNTIF(FB23,">0") -> 0
D24: 1 | N24: =L24*M24 -> 0 | S24: =Q24*R24 -> 0 | X24: =V24*W24 -> 0 | AC24: =AA24*AB24 -> 0 | AH24: =AF24*AG24 -> 0 | AM24: =AK24*AL24 -> 0 | AR24: =AP24*AQ24 -> 0 | AW24: =AU24*AV24 -> 0 | BC24: =BA24*BB24 -> 0 | BL24: =BJ24*BK24 -> 0 | BQ24: =BO24*BP24 -> 0 | BV24: =BT24*BU24 -> 0 | CA24: =BY24*BZ24 -> 0 | CF24: =CD24*CE24 -> 0 | CL24: =CJ24*CK24 -> 0 | CQ24: =CO24*CP24 -> 0 | CV24: =CT24*CU24 -> 0 | DB24: =CZ24*DA24 -> 0 | DH24: =DF24*DG24 -> 0 | DN24: =DL24*DM24 -> 0 | DS24: =DQ24*DR24 -> 0 | DX24: =DV24*DW24 -> 0 | EC24: =EA24*EB24 -> 0 | EI24: =EG24*EH24 -> 0 | EO24: =EM24*EN24 -> 0 | EY24: =EW24*EX24 -> 0 | FD24: =FB24*FC24 -> 0 | FG24: =L24+Q24+V24 -> 0 | FH24: =N24+S24+X24 -> 0 | FI24: =SUM(AA24+AF24+AK24+AP24+AU24+BA24+BJ24+BO24+BT24+BY24+CD24+CJ24+CO24+CT24+CZ24+DF24+DL24+DQ24+DV24+EA24+EG24+EM24+EW24+FB24) -> 0 | FJ24: =SUM(AC24+AH24+AM24+AR24+AW24+BC24+BL24+BQ24+BV24+CA24+CF24+CL24+CQ24+CV24+DB24+DH24+DN24+DS24+DX24+EC24+EI24+EO24+EY24+FD24) -> 0 | FK24: =FG24+FI24 -> 0 | FL24: =FH24+FJ24 -> 0 | FM24: =COUNTIF(L24,">0")+COUNTIF(Q24,">0")+COUNTIF(V24,">0")+COUNTIF(AA24,">0")+COUNTIF(AF24,">0")+COUNTIF(AK24,">0")+COUNTIF(AP24,">0")+COUNTIF(AU24,">0")+COUNTIF(BA24,">0")+COUNTIF(BJ24,">0")+COUNTIF(BO24,">0")+COUNTIF(BT24,">0")+COUNTIF(BY24,">0")+COUNTIF(CD24,">0")+COUNTIF(CJ24,">0")+COUNTIF(CO24,">0")+COUNTIF(CT24,">0")+COUNTIF(CZ24,">0")+COUNTIF(DF24,">0")+COUNTIF(DL24,">0")+COUNTIF(DQ24,">0")+COUNTIF(DV24,">0")+COUNTIF(EA24,">0")+COUNTIF(EG24,">0")+COUNTIF(EM24,">0")+COUNTIF(EW24,">0")+COUNTIF(FB24,">0") -> 0
D25: 1 | N25: =L25*M25 -> 0 | S25: =Q25*R25 -> 0 | X25: =V25*W25 -> 0 | AC25: =AA25*AB25 -> 0 | AH25: =AF25*AG25 -> 0 | AM25: =AK25*AL25 -> 0 | AR25: =AP25*AQ25 -> 0 | AW25: =AU25*AV25 -> 0 | BC25: =BA25*BB25 -> 0 | BL25: =BJ25*BK25 -> 0 | BQ25: =BO25*BP25 -> 0 | BV25: =BT25*BU25 -> 0 | CA25: =BY25*BZ25 -> 0 | CF25: =CD25*CE25 -> 0 | CL25: =CJ25*CK25 -> 0 | CQ25: =CO25*CP25 -> 0 | CV25: =CT25*CU25 -> 0 | CY25: 0 | DB25: =CZ25*DA25 -> 0 | DH25: =DF25*DG25 -> 0 | DN25: =DL25*DM25 -> 0 | DS25: =DQ25*DR25 -> 0 | DX25: =DV25*DW25 -> 0 | EC25: =EA25*EB25 -> 0 | EI25: =EG25*EH25 -> 0 | EO25: =EM25*EN25 -> 0 | EY25: =EW25*EX25 -> 0 | FD25: =FB25*FC25 -> 0 | FG25: =L25+Q25+V25 -> 0 | FH25: =N25+S25+X25 -> 0 | FI25: =SUM(AA25+AF25+AK25+AP25+AU25+BA25+BJ25+BO25+BT25+BY25+CD25+CJ25+CO25+CT25+CZ25+DF25+DL25+DQ25+DV25+EA25+EG25+EM25+EW25+FB25) -> 0 | FJ25: =SUM(AC25+AH25+AM25+AR25+AW25+BC25+BL25+BQ25+BV25+CA25+CF25+CL25+CQ25+CV25+DB25+DH25+DN25+DS25+DX25+EC25+EI25+EO25+EY25+FD25) -> 0 | FK25: =FG25+FI25 -> 0 | FL25: =FH25+FJ25 -> 0 | FM25: =COUNTIF(L25,">0")+COUNTIF(Q25,">0")+COUNTIF(V25,">0")+COUNTIF(AA25,">0")+COUNTIF(AF25,">0")+COUNTIF(AK25,">0")+COUNTIF(AP25,">0")+COUNTIF(AU25,">0")+COUNTIF(BA25,">0")+COUNTIF(BJ25,">0")+COUNTIF(BO25,">0")+COUNTIF(BT25,">0")+COUNTIF(BY25,">0")+COUNTIF(CD25,">0")+COUNTIF(CJ25,">0")+COUNTIF(CO25,">0")+COUNTIF(CT25,">0")+COUNTIF(CZ25,">0")+COUNTIF(DF25,">0")+COUNTIF(DL25,">0")+COUNTIF(DQ25,">0")+COUNTIF(DV25,">0")+COUNTIF(EA25,">0")+COUNTIF(EG25,">0")+COUNTIF(EM25,">0")+COUNTIF(EW25,">0")+COUNTIF(FB25,">0") -> 0
D26: 1 | N26: =L26*M26 -> 0 | S26: =Q26*R26 -> 0 | X26: =V26*W26 -> 0 | AC26: =AA26*AB26 -> 0 | AH26: =AF26*AG26 -> 0 | AM26: =AK26*AL26 -> 0 | AR26: =AP26*AQ26 -> 0 | AW26: =AU26*AV26 -> 0 | BC26: =BA26*BB26 -> 0 | BL26: =BJ26*BK26 -> 0 | BQ26: =BO26*BP26 -> 0 | BV26: =BT26*BU26 -> 0 | CA26: =BY26*BZ26 -> 0 | CF26: =CD26*CE26 -> 0 | CL26: =CJ26*CK26 -> 0 | CQ26: =CO26*CP26 -> 0 | CV26: =CT26*CU26 -> 0 | DB26: =CZ26*DA26 -> 0 | DH26: =DF26*DG26 -> 0 | DN26: =DL26*DM26 -> 0 | DS26: =DQ26*DR26 -> 0 | DX26: =DV26*DW26 -> 0 | EC26: =EA26*EB26 -> 0 | EI26: =EG26*EH26 -> 0 | EO26: =EM26*EN26 -> 0 | EY26: =EW26*EX26 -> 0 | FD26: =FB26*FC26 -> 0 | FG26: =L26+Q26+V26 -> 0 | FH26: =N26+S26+X26 -> 0 | FI26: =SUM(AA26+AF26+AK26+AP26+AU26+BA26+BJ26+BO26+BT26+BY26+CD26+CJ26+CO26+CT26+CZ26+DF26+DL26+DQ26+DV26+EA26+EG26+EM26+EW26+FB26) -> 0 | FJ26: =SUM(AC26+AH26+AM26+AR26+AW26+BC26+BL26+BQ26+BV26+CA26+CF26+CL26+CQ26+CV26+DB26+DH26+DN26+DS26+DX26+EC26+EI26+EO26+EY26+FD26) -> 0 | FK26: =FG26+FI26 -> 0 | FL26: =FH26+FJ26 -> 0 | FM26: =COUNTIF(L26,">0")+COUNTIF(Q26,">0")+COUNTIF(V26,">0")+COUNTIF(AA26,">0")+COUNTIF(AF26,">0")+COUNTIF(AK26,">0")+COUNTIF(AP26,">0")+COUNTIF(AU26,">0")+COUNTIF(BA26,">0")+COUNTIF(BJ26,">0")+COUNTIF(BO26,">0")+COUNTIF(BT26,">0")+COUNTIF(BY26,">0")+COUNTIF(CD26,">0")+COUNTIF(CJ26,">0")+COUNTIF(CO26,">0")+COUNTIF(CT26,">0")+COUNTIF(CZ26,">0")+COUNTIF(DF26,">0")+COUNTIF(DL26,">0")+COUNTIF(DQ26,">0")+COUNTIF(DV26,">0")+COUNTIF(EA26,">0")+COUNTIF(EG26,">0")+COUNTIF(EM26,">0")+COUNTIF(EW26,">0")+COUNTIF(FB26,">0") -> 0
D27: 1 | N27: =L27*M27 -> 0 | S27: =Q27*R27 -> 0 | X27: =V27*W27 -> 0 | AC27: =AA27*AB27 -> 0 | AH27: =AF27*AG27 -> 0 | AM27: =AK27*AL27 -> 0 | AR27: =AP27*AQ27 -> 0 | AW27: =AU27*AV27 -> 0 | BC27: =BA27*BB27 -> 0 | BL27: =BJ27*BK27 -> 0 | BQ27: =BO27*BP27 -> 0 | BV27: =BT27*BU27 -> 0 | CA27: =BY27*BZ27 -> 0 | CF27: =CD27*CE27 -> 0 | CL27: =CJ27*CK27 -> 0 | CQ27: =CO27*CP27 -> 0 | CV27: =CT27*CU27 -> 0 | CY27: 0 | DB27: =CZ27*DA27 -> 0 | DH27: =DF27*DG27 -> 0 | DN27: =DL27*DM27 -> 0 | DS27: =DQ27*DR27 -> 0 | DX27: =DV27*DW27 -> 0 | EC27: =EA27*EB27 -> 0 | EI27: =EG27*EH27 -> 0 | EO27: =EM27*EN27 -> 0 | EY27: =EW27*EX27 -> 0 | FD27: =FB27*FC27 -> 0 | FG27: =L27+Q27+V27 -> 0 | FH27: =N27+S27+X27 -> 0 | FI27: =SUM(AA27+AF27+AK27+AP27+AU27+BA27+BJ27+BO27+BT27+BY27+CD27+CJ27+CO27+CT27+CZ27+DF27+DL27+DQ27+DV27+EA27+EG27+EM27+EW27+FB27) -> 0 | FJ27: =SUM(AC27+AH27+AM27+AR27+AW27+BC27+BL27+BQ27+BV27+CA27+CF27+CL27+CQ27+CV27+DB27+DH27+DN27+DS27+DX27+EC27+EI27+EO27+EY27+FD27) -> 0 | FK27: =FG27+FI27 -> 0 | FL27: =FH27+FJ27 -> 0 | FM27: =COUNTIF(L27,">0")+COUNTIF(Q27,">0")+COUNTIF(V27,">0")+COUNTIF(AA27,">0")+COUNTIF(AF27,">0")+COUNTIF(AK27,">0")+COUNTIF(AP27,">0")+COUNTIF(AU27,">0")+COUNTIF(BA27,">0")+COUNTIF(BJ27,">0")+COUNTIF(BO27,">0")+COUNTIF(BT27,">0")+COUNTIF(BY27,">0")+COUNTIF(CD27,">0")+COUNTIF(CJ27,">0")+COUNTIF(CO27,">0")+COUNTIF(CT27,">0")+COUNTIF(CZ27,">0")+COUNTIF(DF27,">0")+COUNTIF(DL27,">0")+COUNTIF(DQ27,">0")+COUNTIF(DV27,">0")+COUNTIF(EA27,">0")+COUNTIF(EG27,">0")+COUNTIF(EM27,">0")+COUNTIF(EW27,">0")+COUNTIF(FB27,">0") -> 0
D28: 1 | N28: =L28*M28 -> 0 | S28: =Q28*R28 -> 0 | X28: =V28*W28 -> 0 | AC28: =AA28*AB28 -> 0 | AH28: =AF28*AG28 -> 0 | AM28: =AK28*AL28 -> 0 | AR28: =AP28*AQ28 -> 0 | AW28: =AU28*AV28 -> 0 | BC28: =BA28*BB28 -> 0 | BL28: =BJ28*BK28 -> 0 | BQ28: =BO28*BP28 -> 0 | BV28: =BT28*BU28 -> 0 | CA28: =BY28*BZ28 -> 0 | CF28: =CD28*CE28 -> 0 | CL28: =CJ28*CK28 -> 0 | CQ28: =CO28*CP28 -> 0 | CV28: =CT28*CU28 -> 0 | CY28: 0 | DB28: =CZ28*DA28 -> 0 | DH28: =DF28*DG28 -> 0 | DN28: =DL28*DM28 -> 0 | DS28: =DQ28*DR28 -> 0 | DX28: =DV28*DW28 -> 0 | EC28: =EA28*EB28 -> 0 | EI28: =EG28*EH28 -> 0 | EO28: =EM28*EN28 -> 0 | EY28: =EW28*EX28 -> 0 | FD28: =FB28*FC28 -> 0 | FG28: =L28+Q28+V28 -> 0 | FH28: =N28+S28+X28 -> 0 | FI28: =SUM(AA28+AF28+AK28+AP28+AU28+BA28+BJ28+BO28+BT28+BY28+CD28+CJ28+CO28+CT28+CZ28+DF28+DL28+DQ28+DV28+EA28+EG28+EM28+EW28+FB28) -> 0 | FJ28: =SUM(AC28+AH28+AM28+AR28+AW28+BC28+BL28+BQ28+BV28+CA28+CF28+CL28+CQ28+CV28+DB28+DH28+DN28+DS28+DX28+EC28+EI28+EO28+EY28+FD28) -> 0 | FK28: =FG28+FI28 -> 0 | FL28: =FH28+FJ28 -> 0 | FM28: =COUNTIF(L28,">0")+COUNTIF(Q28,">0")+COUNTIF(V28,">0")+COUNTIF(AA28,">0")+COUNTIF(AF28,">0")+COUNTIF(AK28,">0")+COUNTIF(AP28,">0")+COUNTIF(AU28,">0")+COUNTIF(BA28,">0")+COUNTIF(BJ28,">0")+COUNTIF(BO28,">0")+COUNTIF(BT28,">0")+COUNTIF(BY28,">0")+COUNTIF(CD28,">0")+COUNTIF(CJ28,">0")+COUNTIF(CO28,">0")+COUNTIF(CT28,">0")+COUNTIF(CZ28,">0")+COUNTIF(DF28,">0")+COUNTIF(DL28,">0")+COUNTIF(DQ28,">0")+COUNTIF(DV28,">0")+COUNTIF(EA28,">0")+COUNTIF(EG28,">0")+COUNTIF(EM28,">0")+COUNTIF(EW28,">0")+COUNTIF(FB28,">0") -> 0
D29: 1 | N29: =L29*M29 -> 0 | S29: =Q29*R29 -> 0 | X29: =V29*W29 -> 0 | AC29: =AA29*AB29 -> 0 | AH29: =AF29*AG29 -> 0 | AM29: =AK29*AL29 -> 0 | AR29: =AP29*AQ29 -> 0 | AW29: =AU29*AV29 -> 0 | BC29: =BA29*BB29 -> 0 | BL29: =BJ29*BK29 -> 0 | BQ29: =BO29*BP29 -> 0 | BV29: =BT29*BU29 -> 0 | CA29: =BY29*BZ29 -> 0 | CF29: =CD29*CE29 -> 0 | CL29: =CJ29*CK29 -> 0 | CQ29: =CO29*CP29 -> 0 | CV29: =CT29*CU29 -> 0 | CY29: 0 | DB29: =CZ29*DA29 -> 0 | DH29: =DF29*DG29 -> 0 | DN29: =DL29*DM29 -> 0 | DS29: =DQ29*DR29 -> 0 | DX29: =DV29*DW29 -> 0 | EC29: =EA29*EB29 -> 0 | EI29: =EG29*EH29 -> 0 | EO29: =EM29*EN29 -> 0 | EY29: =EW29*EX29 -> 0 | FD29: =FB29*FC29 -> 0 | FG29: =L29+Q29+V29 -> 0 | FH29: =N29+S29+X29 -> 0 | FI29: =SUM(AA29+AF29+AK29+AP29+AU29+BA29+BJ29+BO29+BT29+BY29+CD29+CJ29+CO29+CT29+CZ29+DF29+DL29+DQ29+DV29+EA29+EG29+EM29+EW29+FB29) -> 0 | FJ29: =SUM(AC29+AH29+AM29+AR29+AW29+BC29+BL29+BQ29+BV29+CA29+CF29+CL29+CQ29+CV29+DB29+DH29+DN29+DS29+DX29+EC29+EI29+EO29+EY29+FD29) -> 0 | FK29: =FG29+FI29 -> 0 | FL29: =FH29+FJ29 -> 0 | FM29: =COUNTIF(L29,">0")+COUNTIF(Q29,">0")+COUNTIF(V29,">0")+COUNTIF(AA29,">0")+COUNTIF(AF29,">0")+COUNTIF(AK29,">0")+COUNTIF(AP29,">0")+COUNTIF(AU29,">0")+COUNTIF(BA29,">0")+COUNTIF(BJ29,">0")+COUNTIF(BO29,">0")+COUNTIF(BT29,">0")+COUNTIF(BY29,">0")+COUNTIF(CD29,">0")+COUNTIF(CJ29,">0")+COUNTIF(CO29,">0")+COUNTIF(CT29,">0")+COUNTIF(CZ29,">0")+COUNTIF(DF29,">0")+COUNTIF(DL29,">0")+COUNTIF(DQ29,">0")+COUNTIF(DV29,">0")+COUNTIF(EA29,">0")+COUNTIF(EG29,">0")+COUNTIF(EM29,">0")+COUNTIF(EW29,">0")+COUNTIF(FB29,">0") -> 0
D30: 1 | N30: =L30*M30 -> 0 | S30: =Q30*R30 -> 0 | X30: =V30*W30 -> 0 | AC30: =AA30*AB30 -> 0 | AH30: =AF30*AG30 -> 0 | AM30: =AK30*AL30 -> 0 | AR30: =AP30*AQ30 -> 0 | AW30: =AU30*AV30 -> 0 | BC30: =BA30*BB30 -> 0 | BL30: =BJ30*BK30 -> 0 | BQ30: =BO30*BP30 -> 0 | BV30: =BT30*BU30 -> 0 | CA30: =BY30*BZ30 -> 0 | CF30: =CD30*CE30 -> 0 | CL30: =CJ30*CK30 -> 0 | CQ30: =CO30*CP30 -> 0 | CV30: =CT30*CU30 -> 0 | DB30: =CZ30*DA30 -> 0 | DH30: =DF30*DG30 -> 0 | DN30: =DL30*DM30 -> 0 | DS30: =DQ30*DR30 -> 0 | DX30: =DV30*DW30 -> 0 | EC30: =EA30*EB30 -> 0 | EI30: =EG30*EH30 -> 0 | EO30: =EM30*EN30 -> 0 | EY30: =EW30*EX30 -> 0 | FD30: =FB30*FC30 -> 0 | FG30: =L30+Q30+V30 -> 0 | FH30: =N30+S30+X30 -> 0 | FI30: =SUM(AA30+AF30+AK30+AP30+AU30+BA30+BJ30+BO30+BT30+BY30+CD30+CJ30+CO30+CT30+CZ30+DF30+DL30+DQ30+DV30+EA30+EG30+EM30+EW30+FB30) -> 0 | FJ30: =SUM(AC30+AH30+AM30+AR30+AW30+BC30+BL30+BQ30+BV30+CA30+CF30+CL30+CQ30+CV30+DB30+DH30+DN30+DS30+DX30+EC30+EI30+EO30+EY30+FD30) -> 0 | FK30: =FG30+FI30 -> 0 | FL30: =FH30+FJ30 -> 0 | FM30: =COUNTIF(L30,">0")+COUNTIF(Q30,">0")+COUNTIF(V30,">0")+COUNTIF(AA30,">0")+COUNTIF(AF30,">0")+COUNTIF(AK30,">0")+COUNTIF(AP30,">0")+COUNTIF(AU30,">0")+COUNTIF(BA30,">0")+COUNTIF(BJ30,">0")+COUNTIF(BO30,">0")+COUNTIF(BT30,">0")+COUNTIF(BY30,">0")+COUNTIF(CD30,">0")+COUNTIF(CJ30,">0")+COUNTIF(CO30,">0")+COUNTIF(CT30,">0")+COUNTIF(CZ30,">0")+COUNTIF(DF30,">0")+COUNTIF(DL30,">0")+COUNTIF(DQ30,">0")+COUNTIF(DV30,">0")+COUNTIF(EA30,">0")+COUNTIF(EG30,">0")+COUNTIF(EM30,">0")+COUNTIF(EW30,">0")+COUNTIF(FB30,">0") -> 0
D31: 1 | N31: =L31*M31 -> 0 | S31: =Q31*R31 -> 0 | X31: =V31*W31 -> 0 | AC31: =AA31*AB31 -> 0 | AH31: =AF31*AG31 -> 0 | AM31: =AK31*AL31 -> 0 | AR31: =AP31*AQ31 -> 0 | AW31: =AU31*AV31 -> 0 | BC31: =BA31*BB31 -> 0 | BL31: =BJ31*BK31 -> 0 | BQ31: =BO31*BP31 -> 0 | BV31: =BT31*BU31 -> 0 | CA31: =BY31*BZ31 -> 0 | CF31: =CD31*CE31 -> 0 | CL31: =CJ31*CK31 -> 0 | CQ31: =CO31*CP31 -> 0 | CV31: =CT31*CU31 -> 0 | CY31: 0 | DB31: =CZ31*DA31 -> 0 | DH31: =DF31*DG31 -> 0 | DN31: =DL31*DM31 -> 0 | DS31: =DQ31*DR31 -> 0 | DX31: =DV31*DW31 -> 0 | EC31: =EA31*EB31 -> 0 | EI31: =EG31*EH31 -> 0 | EO31: =EM31*EN31 -> 0 | EY31: =EW31*EX31 -> 0 | FD31: =FB31*FC31 -> 0 | FG31: =L31+Q31+V31 -> 0 | FH31: =N31+S31+X31 -> 0 | FI31: =SUM(AA31+AF31+AK31+AP31+AU31+BA31+BJ31+BO31+BT31+BY31+CD31+CJ31+CO31+CT31+CZ31+DF31+DL31+DQ31+DV31+EA31+EG31+EM31+EW31+FB31) -> 0 | FJ31: =SUM(AC31+AH31+AM31+AR31+AW31+BC31+BL31+BQ31+BV31+CA31+CF31+CL31+CQ31+CV31+DB31+DH31+DN31+DS31+DX31+EC31+EI31+EO31+EY31+FD31) -> 0 | FK31: =FG31+FI31 -> 0 | FL31: =FH31+FJ31 -> 0 | FM31: =COUNTIF(L31,">0")+COUNTIF(Q31,">0")+COUNTIF(V31,">0")+COUNTIF(AA31,">0")+COUNTIF(AF31,">0")+COUNTIF(AK31,">0")+COUNTIF(AP31,">0")+COUNTIF(AU31,">0")+COUNTIF(BA31,">0")+COUNTIF(BJ31,">0")+COUNTIF(BO31,">0")+COUNTIF(BT31,">0")+COUNTIF(BY31,">0")+COUNTIF(CD31,">0")+COUNTIF(CJ31,">0")+COUNTIF(CO31,">0")+COUNTIF(CT31,">0")+COUNTIF(CZ31,">0")+COUNTIF(DF31,">0")+COUNTIF(DL31,">0")+COUNTIF(DQ31,">0")+COUNTIF(DV31,">0")+COUNTIF(EA31,">0")+COUNTIF(EG31,">0")+COUNTIF(EM31,">0")+COUNTIF(EW31,">0")+COUNTIF(FB31,">0") -> 0
D32: 1 | N32: =L32*M32 -> 0 | S32: =Q32*R32 -> 0 | X32: =V32*W32 -> 0 | AC32: =AA32*AB32 -> 0 | AH32: =AF32*AG32 -> 0 | AM32: =AK32*AL32 -> 0 | AR32: =AP32*AQ32 -> 0 | AW32: =AU32*AV32 -> 0 | BC32: =BA32*BB32 -> 0 | BL32: =BJ32*BK32 -> 0 | BQ32: =BO32*BP32 -> 0 | BV32: =BT32*BU32 -> 0 | CA32: =BY32*BZ32 -> 0 | CF32: =CD32*CE32 -> 0 | CL32: =CJ32*CK32 -> 0 | CQ32: =CO32*CP32 -> 0 | CV32: =CT32*CU32 -> 0 | DB32: =CZ32*DA32 -> 0 | DH32: =DF32*DG32 -> 0 | DN32: =DL32*DM32 -> 0 | DS32: =DQ32*DR32 -> 0 | DX32: =DV32*DW32 -> 0 | EC32: =EA32*EB32 -> 0 | EI32: =EG32*EH32 -> 0 | EO32: =EM32*EN32 -> 0 | EY32: =EW32*EX32 -> 0 | FD32: =FB32*FC32 -> 0 | FG32: =L32+Q32+V32 -> 0 | FH32: =N32+S32+X32 -> 0 | FI32: =SUM(AA32+AF32+AK32+AP32+AU32+BA32+BJ32+BO32+BT32+BY32+CD32+CJ32+CO32+CT32+CZ32+DF32+DL32+DQ32+DV32+EA32+EG32+EM32+EW32+FB32) -> 0 | FJ32: =SUM(AC32+AH32+AM32+AR32+AW32+BC32+BL32+BQ32+BV32+CA32+CF32+CL32+CQ32+CV32+DB32+DH32+DN32+DS32+DX32+EC32+EI32+EO32+EY32+FD32) -> 0 | FK32: =FG32+FI32 -> 0 | FL32: =FH32+FJ32 -> 0 | FM32: =COUNTIF(L32,">0")+COUNTIF(Q32,">0")+COUNTIF(V32,">0")+COUNTIF(AA32,">0")+COUNTIF(AF32,">0")+COUNTIF(AK32,">0")+COUNTIF(AP32,">0")+COUNTIF(AU32,">0")+COUNTIF(BA32,">0")+COUNTIF(BJ32,">0")+COUNTIF(BO32,">0")+COUNTIF(BT32,">0")+COUNTIF(BY32,">0")+COUNTIF(CD32,">0")+COUNTIF(CJ32,">0")+COUNTIF(CO32,">0")+COUNTIF(CT32,">0")+COUNTIF(CZ32,">0")+COUNTIF(DF32,">0")+COUNTIF(DL32,">0")+COUNTIF(DQ32,">0")+COUNTIF(DV32,">0")+COUNTIF(EA32,">0")+COUNTIF(EG32,">0")+COUNTIF(EM32,">0")+COUNTIF(EW32,">0")+COUNTIF(FB32,">0") -> 0
D33: 1 | N33: =L33*M33 -> 0 | S33: =Q33*R33 -> 0 | X33: =V33*W33 -> 0 | AC33: =AA33*AB33 -> 0 | AH33: =AF33*AG33 -> 0 | AM33: =AK33*AL33 -> 0 | AR33: =AP33*AQ33 -> 0 | AW33: =AU33*AV33 -> 0 | BC33: =BA33*BB33 -> 0 | BL33: =BJ33*BK33 -> 0 | BQ33: =BO33*BP33 -> 0 | BV33: =BT33*BU33 -> 0 | CA33: =BY33*BZ33 -> 0 | CF33: =CD33*CE33 -> 0 | CL33: =CJ33*CK33 -> 0 | CQ33: =CO33*CP33 -> 0 | CV33: =CT33*CU33 -> 0 | DB33: =CZ33*DA33 -> 0 | DH33: =DF33*DG33 -> 0 | DN33: =DL33*DM33 -> 0 | DS33: =DQ33*DR33 -> 0 | DX33: =DV33*DW33 -> 0 | EC33: =EA33*EB33 -> 0 | EI33: =EG33*EH33 -> 0 | EO33: =EM33*EN33 -> 0 | EY33: =EW33*EX33 -> 0 | FD33: =FB33*FC33 -> 0 | FG33: =L33+Q33+V33 -> 0 | FH33: =N33+S33+X33 -> 0 | FI33: =SUM(AA33+AF33+AK33+AP33+AU33+BA33+BJ33+BO33+BT33+BY33+CD33+CJ33+CO33+CT33+CZ33+DF33+DL33+DQ33+DV33+EA33+EG33+EM33+EW33+FB33) -> 0 | FJ33: =SUM(AC33+AH33+AM33+AR33+AW33+BC33+BL33+BQ33+BV33+CA33+CF33+CL33+CQ33+CV33+DB33+DH33+DN33+DS33+DX33+EC33+EI33+EO33+EY33+FD33) -> 0 | FK33: =FG33+FI33 -> 0 | FL33: =FH33+FJ33 -> 0 | FM33: =COUNTIF(L33,">0")+COUNTIF(Q33,">0")+COUNTIF(V33,">0")+COUNTIF(AA33,">0")+COUNTIF(AF33,">0")+COUNTIF(AK33,">0")+COUNTIF(AP33,">0")+COUNTIF(AU33,">0")+COUNTIF(BA33,">0")+COUNTIF(BJ33,">0")+COUNTIF(BO33,">0")+COUNTIF(BT33,">0")+COUNTIF(BY33,">0")+COUNTIF(CD33,">0")+COUNTIF(CJ33,">0")+COUNTIF(CO33,">0")+COUNTIF(CT33,">0")+COUNTIF(CZ33,">0")+COUNTIF(DF33,">0")+COUNTIF(DL33,">0")+COUNTIF(DQ33,">0")+COUNTIF(DV33,">0")+COUNTIF(EA33,">0")+COUNTIF(EG33,">0")+COUNTIF(EM33,">0")+COUNTIF(EW33,">0")+COUNTIF(FB33,">0") -> 0
D34: 1 | N34: =L34*M34 -> 0 | S34: =Q34*R34 -> 0 | X34: =V34*W34 -> 0 | AC34: =AA34*AB34 -> 0 | AH34: =AF34*AG34 -> 0 | AM34: =AK34*AL34 -> 0 | AR34: =AP34*AQ34 -> 0 | AW34: =AU34*AV34 -> 0 | BC34: =BA34*BB34 -> 0 | BL34: =BJ34*BK34 -> 0 | BQ34: =BO34*BP34 -> 0 | BV34: =BT34*BU34 -> 0 | CA34: =BY34*BZ34 -> 0 | CF34: =CD34*CE34 -> 0 | CL34: =CJ34*CK34 -> 0 | CQ34: =CO34*CP34 -> 0 | CV34: =CT34*CU34 -> 0 | DB34: =CZ34*DA34 -> 0 | DH34: =DF34*DG34 -> 0 | DN34: =DL34*DM34 -> 0 | DS34: =DQ34*DR34 -> 0 | DX34: =DV34*DW34 -> 0 | EC34: =EA34*EB34 -> 0 | EI34: =EG34*EH34 -> 0 | EO34: =EM34*EN34 -> 0 | EY34: =EW34*EX34 -> 0 | FD34: =FB34*FC34 -> 0 | FG34: =L34+Q34+V34 -> 0 | FH34: =N34+S34+X34 -> 0 | FI34: =SUM(AA34+AF34+AK34+AP34+AU34+BA34+BJ34+BO34+BT34+BY34+CD34+CJ34+CO34+CT34+CZ34+DF34+DL34+DQ34+DV34+EA34+EG34+EM34+EW34+FB34) -> 0 | FJ34: =SUM(AC34+AH34+AM34+AR34+AW34+BC34+BL34+BQ34+BV34+CA34+CF34+CL34+CQ34+CV34+DB34+DH34+DN34+DS34+DX34+EC34+EI34+EO34+EY34+FD34) -> 0 | FK34: =FG34+FI34 -> 0 | FL34: =FH34+FJ34 -> 0 | FM34: =COUNTIF(L34,">0")+COUNTIF(Q34,">0")+COUNTIF(V34,">0")+COUNTIF(AA34,">0")+COUNTIF(AF34,">0")+COUNTIF(AK34,">0")+COUNTIF(AP34,">0")+COUNTIF(AU34,">0")+COUNTIF(BA34,">0")+COUNTIF(BJ34,">0")+COUNTIF(BO34,">0")+COUNTIF(BT34,">0")+COUNTIF(BY34,">0")+COUNTIF(CD34,">0")+COUNTIF(CJ34,">0")+COUNTIF(CO34,">0")+COUNTIF(CT34,">0")+COUNTIF(CZ34,">0")+COUNTIF(DF34,">0")+COUNTIF(DL34,">0")+COUNTIF(DQ34,">0")+COUNTIF(DV34,">0")+COUNTIF(EA34,">0")+COUNTIF(EG34,">0")+COUNTIF(EM34,">0")+COUNTIF(EW34,">0")+COUNTIF(FB34,">0") -> 0
D35: 1 | N35: =L35*M35 -> 0 | S35: =Q35*R35 -> 0 | X35: =V35*W35 -> 0 | AC35: =AA35*AB35 -> 0 | AH35: =AF35*AG35 -> 0 | AM35: =AK35*AL35 -> 0 | AR35: =AP35*AQ35 -> 0 | AW35: =AU35*AV35 -> 0 | BC35: =BA35*BB35 -> 0 | BL35: =BJ35*BK35 -> 0 | BQ35: =BO35*BP35 -> 0 | BV35: =BT35*BU35 -> 0 | CA35: =BY35*BZ35 -> 0 | CF35: =CD35*CE35 -> 0 | CL35: =CJ35*CK35 -> 0 | CQ35: =CO35*CP35 -> 0 | CV35: =CT35*CU35 -> 0 | DB35: =CZ35*DA35 -> 0 | DH35: =DF35*DG35 -> 0 | DN35: =DL35*DM35 -> 0 | DS35: =DQ35*DR35 -> 0 | DX35: =DV35*DW35 -> 0 | EC35: =EA35*EB35 -> 0 | EI35: =EG35*EH35 -> 0 | EO35: =EM35*EN35 -> 0 | EY35: =EW35*EX35 -> 0 | FD35: =FB35*FC35 -> 0 | FG35: =L35+Q35+V35 -> 0 | FH35: =N35+S35+X35 -> 0 | FI35: =SUM(AA35+AF35+AK35+AP35+AU35+BA35+BJ35+BO35+BT35+BY35+CD35+CJ35+CO35+CT35+CZ35+DF35+DL35+DQ35+DV35+EA35+EG35+EM35+EW35+FB35) -> 0 | FJ35: =SUM(AC35+AH35+AM35+AR35+AW35+BC35+BL35+BQ35+BV35+CA35+CF35+CL35+CQ35+CV35+DB35+DH35+DN35+DS35+DX35+EC35+EI35+EO35+EY35+FD35) -> 0 | FK35: =FG35+FI35 -> 0 | FL35: =FH35+FJ35 -> 0 | FM35: =COUNTIF(L35,">0")+COUNTIF(Q35,">0")+COUNTIF(V35,">0")+COUNTIF(AA35,">0")+COUNTIF(AF35,">0")+COUNTIF(AK35,">0")+COUNTIF(AP35,">0")+COUNTIF(AU35,">0")+COUNTIF(BA35,">0")+COUNTIF(BJ35,">0")+COUNTIF(BO35,">0")+COUNTIF(BT35,">0")+COUNTIF(BY35,">0")+COUNTIF(CD35,">0")+COUNTIF(CJ35,">0")+COUNTIF(CO35,">0")+COUNTIF(CT35,">0")+COUNTIF(CZ35,">0")+COUNTIF(DF35,">0")+COUNTIF(DL35,">0")+COUNTIF(DQ35,">0")+COUNTIF(DV35,">0")+COUNTIF(EA35,">0")+COUNTIF(EG35,">0")+COUNTIF(EM35,">0")+COUNTIF(EW35,">0")+COUNTIF(FB35,">0") -> 0
D36: 1 | N36: =L36*M36 -> 0 | S36: =Q36*R36 -> 0 | X36: =V36*W36 -> 0 | AC36: =AA36*AB36 -> 0 | AH36: =AF36*AG36 -> 0 | AM36: =AK36*AL36 -> 0 | AR36: =AP36*AQ36 -> 0 | AW36: =AU36*AV36 -> 0 | BC36: =BA36*BB36 -> 0 | BL36: =BJ36*BK36 -> 0 | BQ36: =BO36*BP36 -> 0 | BV36: =BT36*BU36 -> 0 | CA36: =BY36*BZ36 -> 0 | CF36: =CD36*CE36 -> 0 | CL36: =CJ36*CK36 -> 0 | CQ36: =CO36*CP36 -> 0 | CV36: =CT36*CU36 -> 0 | DB36: =CZ36*DA36 -> 0 | DH36: =DF36*DG36 -> 0 | DN36: =DL36*DM36 -> 0 | DS36: =DQ36*DR36 -> 0 | DX36: =DV36*DW36 -> 0 | EC36: =EA36*EB36 -> 0 | EI36: =EG36*EH36 -> 0 | EO36: =EM36*EN36 -> 0 | EY36: =EW36*EX36 -> 0 | FD36: =FB36*FC36 -> 0 | FG36: =L36+Q36+V36 -> 0 | FH36: =N36+S36+X36 -> 0 | FI36: =SUM(AA36+AF36+AK36+AP36+AU36+BA36+BJ36+BO36+BT36+BY36+CD36+CJ36+CO36+CT36+CZ36+DF36+DL36+DQ36+DV36+EA36+EG36+EM36+EW36+FB36) -> 0 | FJ36: =SUM(AC36+AH36+AM36+AR36+AW36+BC36+BL36+BQ36+BV36+CA36+CF36+CL36+CQ36+CV36+DB36+DH36+DN36+DS36+DX36+EC36+EI36+EO36+EY36+FD36) -> 0 | FK36: =FG36+FI36 -> 0 | FL36: =FH36+FJ36 -> 0 | FM36: =COUNTIF(L36,">0")+COUNTIF(Q36,">0")+COUNTIF(V36,">0")+COUNTIF(AA36,">0")+COUNTIF(AF36,">0")+COUNTIF(AK36,">0")+COUNTIF(AP36,">0")+COUNTIF(AU36,">0")+COUNTIF(BA36,">0")+COUNTIF(BJ36,">0")+COUNTIF(BO36,">0")+COUNTIF(BT36,">0")+COUNTIF(BY36,">0")+COUNTIF(CD36,">0")+COUNTIF(CJ36,">0")+COUNTIF(CO36,">0")+COUNTIF(CT36,">0")+COUNTIF(CZ36,">0")+COUNTIF(DF36,">0")+COUNTIF(DL36,">0")+COUNTIF(DQ36,">0")+COUNTIF(DV36,">0")+COUNTIF(EA36,">0")+COUNTIF(EG36,">0")+COUNTIF(EM36,">0")+COUNTIF(EW36,">0")+COUNTIF(FB36,">0") -> 0
D37: 1 | N37: =L37*M37 -> 0 | S37: =Q37*R37 -> 0 | X37: =V37*W37 -> 0 | AC37: =AA37*AB37 -> 0 | AH37: =AF37*AG37 -> 0 | AM37: =AK37*AL37 -> 0 | AR37: =AP37*AQ37 -> 0 | AW37: =AU37*AV37 -> 0 | BC37: =BA37*BB37 -> 0 | BL37: =BJ37*BK37 -> 0 | BQ37: =BO37*BP37 -> 0 | BV37: =BT37*BU37 -> 0 | CA37: =BY37*BZ37 -> 0 | CF37: =CD37*CE37 -> 0 | CL37: =CJ37*CK37 -> 0 | CQ37: =CO37*CP37 -> 0 | CV37: =CT37*CU37 -> 0 | DB37: =CZ37*DA37 -> 0 | DH37: =DF37*DG37 -> 0 | DN37: =DL37*DM37 -> 0 | DS37: =DQ37*DR37 -> 0 | DX37: =DV37*DW37 -> 0 | EC37: =EA37*EB37 -> 0 | EI37: =EG37*EH37 -> 0 | EO37: =EM37*EN37 -> 0 | EY37: =EW37*EX37 -> 0 | FD37: =FB37*FC37 -> 0 | FG37: =L37+Q37+V37 -> 0 | FH37: =N37+S37+X37 -> 0 | FI37: =SUM(AA37+AF37+AK37+AP37+AU37+BA37+BJ37+BO37+BT37+BY37+CD37+CJ37+CO37+CT37+CZ37+DF37+DL37+DQ37+DV37+EA37+EG37+EM37+EW37+FB37) -> 0 | FJ37: =SUM(AC37+AH37+AM37+AR37+AW37+BC37+BL37+BQ37+BV37+CA37+CF37+CL37+CQ37+CV37+DB37+DH37+DN37+DS37+DX37+EC37+EI37+EO37+EY37+FD37) -> 0 | FK37: =FG37+FI37 -> 0 | FL37: =FH37+FJ37 -> 0 | FM37: =COUNTIF(L37,">0")+COUNTIF(Q37,">0")+COUNTIF(V37,">0")+COUNTIF(AA37,">0")+COUNTIF(AF37,">0")+COUNTIF(AK37,">0")+COUNTIF(AP37,">0")+COUNTIF(AU37,">0")+COUNTIF(BA37,">0")+COUNTIF(BJ37,">0")+COUNTIF(BO37,">0")+COUNTIF(BT37,">0")+COUNTIF(BY37,">0")+COUNTIF(CD37,">0")+COUNTIF(CJ37,">0")+COUNTIF(CO37,">0")+COUNTIF(CT37,">0")+COUNTIF(CZ37,">0")+COUNTIF(DF37,">0")+COUNTIF(DL37,">0")+COUNTIF(DQ37,">0")+COUNTIF(DV37,">0")+COUNTIF(EA37,">0")+COUNTIF(EG37,">0")+COUNTIF(EM37,">0")+COUNTIF(EW37,">0")+COUNTIF(FB37,">0") -> 0
D38: 1 | N38: =L38*M38 -> 0 | S38: =Q38*R38 -> 0 | X38: =V38*W38 -> 0 | AC38: =AA38*AB38 -> 0 | AH38: =AF38*AG38 -> 0 | AM38: =AK38*AL38 -> 0 | AR38: =AP38*AQ38 -> 0 | AW38: =AU38*AV38 -> 0 | BC38: =BA38*BB38 -> 0 | BL38: =BJ38*BK38 -> 0 | BQ38: =BO38*BP38 -> 0 | BV38: =BT38*BU38 -> 0 | CA38: =BY38*BZ38 -> 0 | CF38: =CD38*CE38 -> 0 | CL38: =CJ38*CK38 -> 0 | CQ38: =CO38*CP38 -> 0 | CV38: =CT38*CU38 -> 0 | DB38: =CZ38*DA38 -> 0 | DH38: =DF38*DG38 -> 0 | DN38: =DL38*DM38 -> 0 | DS38: =DQ38*DR38 -> 0 | DX38: =DV38*DW38 -> 0 | EC38: =EA38*EB38 -> 0 | EI38: =EG38*EH38 -> 0 | EO38: =EM38*EN38 -> 0 | EY38: =EW38*EX38 -> 0 | FD38: =FB38*FC38 -> 0 | FG38: =L38+Q38+V38 -> 0 | FH38: =N38+S38+X38 -> 0 | FI38: =SUM(AA38+AF38+AK38+AP38+AU38+BA38+BJ38+BO38+BT38+BY38+CD38+CJ38+CO38+CT38+CZ38+DF38+DL38+DQ38+DV38+EA38+EG38+EM38+EW38+FB38) -> 0 | FJ38: =SUM(AC38+AH38+AM38+AR38+AW38+BC38+BL38+BQ38+BV38+CA38+CF38+CL38+CQ38+CV38+DB38+DH38+DN38+DS38+DX38+EC38+EI38+EO38+EY38+FD38) -> 0 | FK38: =FG38+FI38 -> 0 | FL38: =FH38+FJ38 -> 0 | FM38: =COUNTIF(L38,">0")+COUNTIF(Q38,">0")+COUNTIF(V38,">0")+COUNTIF(AA38,">0")+COUNTIF(AF38,">0")+COUNTIF(AK38,">0")+COUNTIF(AP38,">0")+COUNTIF(AU38,">0")+COUNTIF(BA38,">0")+COUNTIF(BJ38,">0")+COUNTIF(BO38,">0")+COUNTIF(BT38,">0")+COUNTIF(BY38,">0")+COUNTIF(CD38,">0")+COUNTIF(CJ38,">0")+COUNTIF(CO38,">0")+COUNTIF(CT38,">0")+COUNTIF(CZ38,">0")+COUNTIF(DF38,">0")+COUNTIF(DL38,">0")+COUNTIF(DQ38,">0")+COUNTIF(DV38,">0")+COUNTIF(EA38,">0")+COUNTIF(EG38,">0")+COUNTIF(EM38,">0")+COUNTIF(EW38,">0")+COUNTIF(FB38,">0") -> 0
D39: 1 | N39: =L39*M39 -> 0 | S39: =Q39*R39 -> 0 | X39: =V39*W39 -> 0 | AC39: =AA39*AB39 -> 0 | AH39: =AF39*AG39 -> 0 | AM39: =AK39*AL39 -> 0 | AR39: =AP39*AQ39 -> 0 | AW39: =AU39*AV39 -> 0 | BC39: =BA39*BB39 -> 0 | BL39: =BJ39*BK39 -> 0 | BQ39: =BO39*BP39 -> 0 | BV39: =BT39*BU39 -> 0 | CA39: =BY39*BZ39 -> 0 | CF39: =CD39*CE39 -> 0 | CL39: =CJ39*CK39 -> 0 | CQ39: =CO39*CP39 -> 0 | CV39: =CT39*CU39 -> 0 | DB39: =CZ39*DA39 -> 0 | DH39: =DF39*DG39 -> 0 | DN39: =DL39*DM39 -> 0 | DS39: =DQ39*DR39 -> 0 | DX39: =DV39*DW39 -> 0 | EC39: =EA39*EB39 -> 0 | EI39: =EG39*EH39 -> 0 | EO39: =EM39*EN39 -> 0 | EY39: =EW39*EX39 -> 0 | FD39: =FB39*FC39 -> 0 | FG39: =L39+Q39+V39 -> 0 | FH39: =N39+S39+X39 -> 0 | FI39: =SUM(AA39+AF39+AK39+AP39+AU39+BA39+BJ39+BO39+BT39+BY39+CD39+CJ39+CO39+CT39+CZ39+DF39+DL39+DQ39+DV39+EA39+EG39+EM39+EW39+FB39) -> 0 | FJ39: =SUM(AC39+AH39+AM39+AR39+AW39+BC39+BL39+BQ39+BV39+CA39+CF39+CL39+CQ39+CV39+DB39+DH39+DN39+DS39+DX39+EC39+EI39+EO39+EY39+FD39) -> 0 | FK39: =FG39+FI39 -> 0 | FL39: =FH39+FJ39 -> 0 | FM39: =COUNTIF(L39,">0")+COUNTIF(Q39,">0")+COUNTIF(V39,">0")+COUNTIF(AA39,">0")+COUNTIF(AF39,">0")+COUNTIF(AK39,">0")+COUNTIF(AP39,">0")+COUNTIF(AU39,">0")+COUNTIF(BA39,">0")+COUNTIF(BJ39,">0")+COUNTIF(BO39,">0")+COUNTIF(BT39,">0")+COUNTIF(BY39,">0")+COUNTIF(CD39,">0")+COUNTIF(CJ39,">0")+COUNTIF(CO39,">0")+COUNTIF(CT39,">0")+COUNTIF(CZ39,">0")+COUNTIF(DF39,">0")+COUNTIF(DL39,">0")+COUNTIF(DQ39,">0")+COUNTIF(DV39,">0")+COUNTIF(EA39,">0")+COUNTIF(EG39,">0")+COUNTIF(EM39,">0")+COUNTIF(EW39,">0")+COUNTIF(FB39,">0") -> 0
D40: 1 | N40: =L40*M40 -> 0 | S40: =Q40*R40 -> 0 | X40: =V40*W40 -> 0 | AC40: =AA40*AB40 -> 0 | AH40: =AF40*AG40 -> 0 | AM40: =AK40*AL40 -> 0 | AR40: =AP40*AQ40 -> 0 | AW40: =AU40*AV40 -> 0 | BC40: =BA40*BB40 -> 0 | BL40: =BJ40*BK40 -> 0 | BQ40: =BO40*BP40 -> 0 | BV40: =BT40*BU40 -> 0 | CA40: =BY40*BZ40 -> 0 | CF40: =CD40*CE40 -> 0 | CL40: =CJ40*CK40 -> 0 | CQ40: =CO40*CP40 -> 0 | CV40: =CT40*CU40 -> 0 | DB40: =CZ40*DA40 -> 0 | DH40: =DF40*DG40 -> 0 | DN40: =DL40*DM40 -> 0 | DS40: =DQ40*DR40 -> 0 | DX40: =DV40*DW40 -> 0 | EC40: =EA40*EB40 -> 0 | EI40: =EG40*EH40 -> 0 | EO40: =EM40*EN40 -> 0 | EY40: =EW40*EX40 -> 0 | FD40: =FB40*FC40 -> 0 | FG40: =L40+Q40+V40 -> 0 | FH40: =N40+S40+X40 -> 0 | FI40: =SUM(AA40+AF40+AK40+AP40+AU40+BA40+BJ40+BO40+BT40+BY40+CD40+CJ40+CO40+CT40+CZ40+DF40+DL40+DQ40+DV40+EA40+EG40+EM40+EW40+FB40) -> 0 | FJ40: =SUM(AC40+AH40+AM40+AR40+AW40+BC40+BL40+BQ40+BV40+CA40+CF40+CL40+CQ40+CV40+DB40+DH40+DN40+DS40+DX40+EC40+EI40+EO40+EY40+FD40) -> 0 | FK40: =FG40+FI40 -> 0 | FL40: =FH40+FJ40 -> 0 | FM40: =COUNTIF(L40,">0")+COUNTIF(Q40,">0")+COUNTIF(V40,">0")+COUNTIF(AA40,">0")+COUNTIF(AF40,">0")+COUNTIF(AK40,">0")+COUNTIF(AP40,">0")+COUNTIF(AU40,">0")+COUNTIF(BA40,">0")+COUNTIF(BJ40,">0")+COUNTIF(BO40,">0")+COUNTIF(BT40,">0")+COUNTIF(BY40,">0")+COUNTIF(CD40,">0")+COUNTIF(CJ40,">0")+COUNTIF(CO40,">0")+COUNTIF(CT40,">0")+COUNTIF(CZ40,">0")+COUNTIF(DF40,">0")+COUNTIF(DL40,">0")+COUNTIF(DQ40,">0")+COUNTIF(DV40,">0")+COUNTIF(EA40,">0")+COUNTIF(EG40,">0")+COUNTIF(EM40,">0")+COUNTIF(EW40,">0")+COUNTIF(FB40,">0") -> 0
D41: 1 | N41: =L41*M41 -> 0 | S41: =Q41*R41 -> 0 | X41: =V41*W41 -> 0 | AC41: =AA41*AB41 -> 0 | AH41: =AF41*AG41 -> 0 | AM41: =AK41*AL41 -> 0 | AR41: =AP41*AQ41 -> 0 | AW41: =AU41*AV41 -> 0 | BC41: =BA41*BB41 -> 0 | BL41: =BJ41*BK41 -> 0 | BQ41: =BO41*BP41 -> 0 | BV41: =BT41*BU41 -> 0 | CA41: =BY41*BZ41 -> 0 | CF41: =CD41*CE41 -> 0 | CL41: =CJ41*CK41 -> 0 | CQ41: =CO41*CP41 -> 0 | CV41: =CT41*CU41 -> 0 | DB41: =CZ41*DA41 -> 0 | DH41: =DF41*DG41 -> 0 | DN41: =DL41*DM41 -> 0 | DS41: =DQ41*DR41 -> 0 | DX41: =DV41*DW41 -> 0 | EC41: =EA41*EB41 -> 0 | EI41: =EG41*EH41 -> 0 | EO41: =EM41*EN41 -> 0 | EY41: =EW41*EX41 -> 0 | FD41: =FB41*FC41 -> 0 | FG41: =L41+Q41+V41 -> 0 | FH41: =N41+S41+X41 -> 0 | FI41: =SUM(AA41+AF41+AK41+AP41+AU41+BA41+BJ41+BO41+BT41+BY41+CD41+CJ41+CO41+CT41+CZ41+DF41+DL41+DQ41+DV41+EA41+EG41+EM41+EW41+FB41) -> 0 | FJ41: =SUM(AC41+AH41+AM41+AR41+AW41+BC41+BL41+BQ41+BV41+CA41+CF41+CL41+CQ41+CV41+DB41+DH41+DN41+DS41+DX41+EC41+EI41+EO41+EY41+FD41) -> 0 | FK41: =FG41+FI41 -> 0 | FL41: =FH41+FJ41 -> 0 | FM41: =COUNTIF(L41,">0")+COUNTIF(Q41,">0")+COUNTIF(V41,">0")+COUNTIF(AA41,">0")+COUNTIF(AF41,">0")+COUNTIF(AK41,">0")+COUNTIF(AP41,">0")+COUNTIF(AU41,">0")+COUNTIF(BA41,">0")+COUNTIF(BJ41,">0")+COUNTIF(BO41,">0")+COUNTIF(BT41,">0")+COUNTIF(BY41,">0")+COUNTIF(CD41,">0")+COUNTIF(CJ41,">0")+COUNTIF(CO41,">0")+COUNTIF(CT41,">0")+COUNTIF(CZ41,">0")+COUNTIF(DF41,">0")+COUNTIF(DL41,">0")+COUNTIF(DQ41,">0")+COUNTIF(DV41,">0")+COUNTIF(EA41,">0")+COUNTIF(EG41,">0")+COUNTIF(EM41,">0")+COUNTIF(EW41,">0")+COUNTIF(FB41,">0") -> 0
D42: 1 | N42: =L42*M42 -> 0 | S42: =Q42*R42 -> 0 | X42: =V42*W42 -> 0 | AC42: =AA42*AB42 -> 0 | AH42: =AF42*AG42 -> 0 | AM42: =AK42*AL42 -> 0 | AR42: =AP42*AQ42 -> 0 | AW42: =AU42*AV42 -> 0 | BC42: =BA42*BB42 -> 0 | BL42: =BJ42*BK42 -> 0 | BQ42: =BO42*BP42 -> 0 | BV42: =BT42*BU42 -> 0 | CA42: =BY42*BZ42 -> 0 | CF42: =CD42*CE42 -> 0 | CL42: =CJ42*CK42 -> 0 | CQ42: =CO42*CP42 -> 0 | CV42: =CT42*CU42 -> 0 | DB42: =CZ42*DA42 -> 0 | DH42: =DF42*DG42 -> 0 | DN42: =DL42*DM42 -> 0 | DS42: =DQ42*DR42 -> 0 | DX42: =DV42*DW42 -> 0 | EC42: =EA42*EB42 -> 0 | EI42: =EG42*EH42 -> 0 | EO42: =EM42*EN42 -> 0 | EY42: =EW42*EX42 -> 0 | FD42: =FB42*FC42 -> 0 | FG42: =L42+Q42+V42 -> 0 | FH42: =N42+S42+X42 -> 0 | FI42: =SUM(AA42+AF42+AK42+AP42+AU42+BA42+BJ42+BO42+BT42+BY42+CD42+CJ42+CO42+CT42+CZ42+DF42+DL42+DQ42+DV42+EA42+EG42+EM42+EW42+FB42) -> 0 | FJ42: =SUM(AC42+AH42+AM42+AR42+AW42+BC42+BL42+BQ42+BV42+CA42+CF42+CL42+CQ42+CV42+DB42+DH42+DN42+DS42+DX42+EC42+EI42+EO42+EY42+FD42) -> 0 | FK42: =FG42+FI42 -> 0 | FL42: =FH42+FJ42 -> 0 | FM42: =COUNTIF(L42,">0")+COUNTIF(Q42,">0")+COUNTIF(V42,">0")+COUNTIF(AA42,">0")+COUNTIF(AF42,">0")+COUNTIF(AK42,">0")+COUNTIF(AP42,">0")+COUNTIF(AU42,">0")+COUNTIF(BA42,">0")+COUNTIF(BJ42,">0")+COUNTIF(BO42,">0")+COUNTIF(BT42,">0")+COUNTIF(BY42,">0")+COUNTIF(CD42,">0")+COUNTIF(CJ42,">0")+COUNTIF(CO42,">0")+COUNTIF(CT42,">0")+COUNTIF(CZ42,">0")+COUNTIF(DF42,">0")+COUNTIF(DL42,">0")+COUNTIF(DQ42,">0")+COUNTIF(DV42,">0")+COUNTIF(EA42,">0")+COUNTIF(EG42,">0")+COUNTIF(EM42,">0")+COUNTIF(EW42,">0")+COUNTIF(FB42,">0") -> 0
D43: 1 | N43: =L43*M43 -> 0 | S43: =Q43*R43 -> 0 | X43: =V43*W43 -> 0 | AC43: =AA43*AB43 -> 0 | AH43: =AF43*AG43 -> 0 | AM43: =AK43*AL43 -> 0 | AR43: =AP43*AQ43 -> 0 | AW43: =AU43*AV43 -> 0 | BC43: =BA43*BB43 -> 0 | BL43: =BJ43*BK43 -> 0 | BQ43: =BO43*BP43 -> 0 | BV43: =BT43*BU43 -> 0 | CA43: =BY43*BZ43 -> 0 | CF43: =CD43*CE43 -> 0 | CL43: =CJ43*CK43 -> 0 | CQ43: =CO43*CP43 -> 0 | CV43: =CT43*CU43 -> 0 | DB43: =CZ43*DA43 -> 0 | DH43: =DF43*DG43 -> 0 | DN43: =DL43*DM43 -> 0 | DS43: =DQ43*DR43 -> 0 | DX43: =DV43*DW43 -> 0 | EC43: =EA43*EB43 -> 0 | EI43: =EG43*EH43 -> 0 | EO43: =EM43*EN43 -> 0 | EY43: =EW43*EX43 -> 0 | FD43: =FB43*FC43 -> 0 | FG43: =L43+Q43+V43 -> 0 | FH43: =N43+S43+X43 -> 0 | FI43: =SUM(AA43+AF43+AK43+AP43+AU43+BA43+BJ43+BO43+BT43+BY43+CD43+CJ43+CO43+CT43+CZ43+DF43+DL43+DQ43+DV43+EA43+EG43+EM43+EW43+FB43) -> 0 | FJ43: =SUM(AC43+AH43+AM43+AR43+AW43+BC43+BL43+BQ43+BV43+CA43+CF43+CL43+CQ43+CV43+DB43+DH43+DN43+DS43+DX43+EC43+EI43+EO43+EY43+FD43) -> 0 | FK43: =FG43+FI43 -> 0 | FL43: =FH43+FJ43 -> 0 | FM43: =COUNTIF(L43,">0")+COUNTIF(Q43,">0")+COUNTIF(V43,">0")+COUNTIF(AA43,">0")+COUNTIF(AF43,">0")+COUNTIF(AK43,">0")+COUNTIF(AP43,">0")+COUNTIF(AU43,">0")+COUNTIF(BA43,">0")+COUNTIF(BJ43,">0")+COUNTIF(BO43,">0")+COUNTIF(BT43,">0")+COUNTIF(BY43,">0")+COUNTIF(CD43,">0")+COUNTIF(CJ43,">0")+COUNTIF(CO43,">0")+COUNTIF(CT43,">0")+COUNTIF(CZ43,">0")+COUNTIF(DF43,">0")+COUNTIF(DL43,">0")+COUNTIF(DQ43,">0")+COUNTIF(DV43,">0")+COUNTIF(EA43,">0")+COUNTIF(EG43,">0")+COUNTIF(EM43,">0")+COUNTIF(EW43,">0")+COUNTIF(FB43,">0") -> 0
... D152: 1 | N152: =L152*M152 -> 0 | S152: =Q152*R152 -> 0 | X152: =V152*W152 -> 0 | AC152: =AA152*AB152 -> 0 | AH152: =AF152*AG152 -> 0 | AM152: =AK152*AL152 -> 0 | AR152: =AP152*AQ152 -> 0 | AW152: =AU152*AV152 -> 0 | BC152: =BA152*BB152 -> 0 | BL152: =BJ152*BK152 -> 0 | BQ152: =BO152*BP152 -> 0 | BV152: =BT152*BU152 -> 0 | CA152: =BY152*BZ152 -> 0 | CF152: =CD152*CE152 -> 0 | CL152: =CJ152*CK152 -> 0 | CQ152: =CO152*CP152 -> 0 | CV152: =CT152*CU152 -> 0 | DB152: =CZ152*DA152 -> 0 | DH152: =DF152*DG152 -> 0 | DN152: =DL152*DM152 -> 0 | DS152: =DQ152*DR152 -> 0 | DX152: =DV152*DW152 -> 0 | EC152: =EA152*EB152 -> 0 | EI152: =EG152*EH152 -> 0 | EO152: =EM152*EN152 -> 0 | EY152: =EW152*EX152 -> 0 | FD152: =FB152*FC152 -> 0 | FG152: =L152+Q152+V152 -> 0 | FH152: =N152+S152+X152 -> 0 | FI152: =SUM(AA152+AF152+AK152+AP152+AU152+BA152+BJ152+BO152+BT152+BY152+CD152+CJ152+CO152+CT152+CZ152+DF152+DL152+DQ152+DV152+EA152+EG152+EM152+EW152+FB152) -> 0 | FJ152: =SUM(AC152+AH152+AM152+AR152+AW152+BC152+BL152+BQ152+BV152+CA152+CF152+CL152+CQ152+CV152+DB152+DH152+DN152+DS152+DX152+EC152+EI152+EO152+EY152+FD152) -> 0 | FK152: =FG152+FI152 -> 0 | FL152: =FH152+FJ152 -> 0 | FM152: =COUNTIF(L152,">0")+COUNTIF(Q152,">0")+COUNTIF(V152,">0")+COUNTIF(AA152,">0")+COUNTIF(AF152,">0")+COUNTIF(AK152,">0")+COUNTIF(AP152,">0")+COUNTIF(AU152,">0")+COUNTIF(BA152,">0")+COUNTIF(BJ152,">0")+COUNTIF(BO152,">0")+COUNTIF(BT152,">0")+COUNTIF(BY152,">0")+COUNTIF(CD152,">0")+COUNTIF(CJ152,">0")+COUNTIF(CO152,">0")+COUNTIF(CT152,">0")+COUNTIF(CZ152,">0")+COUNTIF(DF152,">0")+COUNTIF(DL152,">0")+COUNTIF(DQ152,">0")+COUNTIF(DV152,">0")+COUNTIF(EA152,">0")+COUNTIF(EG152,">0")+COUNTIF(EM152,">0")+COUNTIF(EW152,">0")+COUNTIF(FB152,">0") -> 0

Sheet veebruar
A1: Üldandmed | L1: Baastoetus | AA1: Lisatoetus Lisatoetus Lisatoetus Lisatoetus Lisatoetus Lisatoetus Lisatoetus Lisatoetus Lisatoetus Lisatoetus Lisatoetus | FG1: Kokku | FM1: Kuu summa
L2: Teenuse planeerimine | Q2: Tegevusplaani elluviimise tagamine | V2: Välise spetsialisti konsultatsioon teenuse planeerimiseks | AA2: Personaalne toetamine erakorralistes eluolukordades | AF2: Pere toetamine | AZ2: Eluvaldkond - Sotsiaalsed suhted | BF2: Eluvaldkond - Vaimne tervis | CI2: Eluvaldkond - Füüsiline tervis | DK2: Eluvaldkond - Hõivatus | EF2: Eluvaldkond - Vaba aeg ja huvitegevus | EL2: Eluvaldkond - Elukoht | ER2: Eluvaldkond - Igapäevaelu toetamine | FM2: =SUM(FL5:FL152) -> 0
H3: sisenemise ja väljumise ankeedilt andmed | AF3: Psühholoogiline nõustamine ja psühhoteraapia perele | AK3: Pere nõustamine ja koolitus | AP3: Kogemusnõustamine perele | AU3: Intervallhoid | AZ3: Toetusvajaduse aste | BA3: Sotsiaalsete suhete toetamine | BF3: Toetusvajaduse aste | BJ3: Taastumise ja haigusega toimetuleku toetamine | BO3: Vaimse ja motoorse võimekuse arendamine ja säilitamine | BT3: Psühholoogiline nõustamine ja psühhoteraapia | BY3: Kogemusnõustamine | CD3: Riski- ja probleemse käitumise juhtimine | CI3: Toetusvajaduse aste | CJ3: Füüsilise tervise alane nõustamine ja toetus | CO3: Füüsilise aktiivsuse toetamine | CT3: Teraapiad füüsilise tervise toetamiseks | CY3: Toetusvajaduse aste | CZ3: Liikumine eluruumides | DE3: Toetusvajaduse aste | DF3: Liikumine väljaspool eluruume | DK3: Toetusvajaduse aste | DL3: Töötamise toetamine | DQ3: Töösarnase või rakendustegevuse toetamine spetsiaalselt kohandatud keskkonnas | DV3: Õppimise toetamine | EA3: Rakendus kogukonnas | EF3: Toetusvajaduse aste | EG3: Vaba aja ja huvitegevuse toetamine | EL3: Toetusvajaduse aste | EM3: Toetus elukoha vahetusel | ER3: Toetusvajaduse aste | EW3: Igapäevaelu toetamine | FB3: Ettevalmistus iseseisvumiseks | FG3: Baastoetus | FI3: Lisatoetus | FK3: Kokku
A4: Isikukood | B4: Eesnimi | C4: Perekonnanimi | D4: Kuu | E4: KOV | F4: BTO | G4: PH/IP | H4: Tööhõive staatus (sh õppimine) sisenemisel | I4: Tööhõive staatus (sh õppimine) väljumisel | J4: Esmamärkamine | K4: Teenus enne projekti sisenemist | L4: Maht | M4: Tunni hind € | N4: Maksumus | O4: TK pakkuja | P4: TkVO | Q4: Maht | R4: Tunni hind € | S4: Maksumus | T4: TK pakkuja | U4: TkVO | V4: Maht | W4: Tunni hind € | X4: Maksumus | Y4: TK pakkuja | Z4: TkVO | AA4: Maht | AB4: Tunni hind € | AC4: Maksumus | AD4: TK pakkuja | AE4: TkVO | AF4: Maht | AG4: Tunni hind € | AH4: Maksumus | AI4: TK pakkuja | AJ4: TkVO | AK4: Maht | AL4: Tunni hind € | AM4: Maksumus | AN4: TK pakkuja | AO4: TkVO | AP4: Maht | AQ4: Tunni hind € | AR4: Maksumus | AS4: TK pakkuja | AT4: TkVO | AU4: Maht | AV4: Tunni hind € | AW4: Maksumus | AX4: TK pakkuja | AY4: TkVO | BA4: Maht | BB4: Tunni hind € | BC4: Maksumus | BD4: TK pakkuja | BE4: TkVO | BF4: haigusteadlikkus ja raviplaani järgimine | BG4: psühhikahäirest tulenev mõju käitumisele ja tegevusele | BH4: kognitiivne võimekus | BI4: riskikäitumine | BJ4: Maht | BK4: Tunni hind € | BL4: Maksumus | BM4: TK pakkuja | BN4: TkVO | BO4: Maht | BP4: Tunni hind € | BQ4: Maksumus | BR4: TK pakkuja | BS4: TkVO | BT4: Maht | BU4: Tunni hind € | BV4: Maksumus | BW4: TK pakkuja | BX4: TkVO | BY4: Maht | BZ4: Tunni hind € | CA4: Maksumus | CB4: TK pakkuja | CC4: TkVO | CD4: Maht | CE4: Tunni hind € | CF4: Maksumus | CG4: TK pakkuja | CH4: TkVO | CJ4: Maht | CK4: Tunni hind € | CL4: Maksumus | CM4: TK pakkuja | CN4: TkVO | CO4: Maht | CP4: Tunni hind € | CQ4: Maksumus | CR4: TK pakkuja | CS4: TkVO | CT4: Maht | CU4: Tunni hind € | CV4: Maksumus | CW4: TK pakkuja | CX4: TkVO | CZ4: Maht | DA4: Tunni hind € | DB4: Maksumus | DC4: TK pakkuja | DD4: TkVO | DF4: Maht | DG4: Tunni hind € | DH4: Maksumus | DI4: TK pakkuja | DJ4: TkVO | DL4: Maht | DM4: Tunni hind € | DN4: Maksumus | DO4: TK pakkuja | DP4: TkVO | DQ4: Maht | DR4: Tunni hind € | DS4: Maksumus | DT4: TK pakkuja | DU4: TkVO | DV4: Maht | DW4: Tunni hind € | DX4: Maksumus | DY4: TK pakkuja | DZ4: TkVO | EA4: Maht | EB4: Tunni hind € | EC4: Maksumus | ED4: TK pakkuja | EE4: TkVO | EG4: Maht | EH4: Tunni hind € | EI4: Maksumus | EJ4: TK pakkuja | EK4: TkVO | EM4: Maht | EN4: Tunni hind € | EO4: Maksumus | EP4: TK pakkuja | EQ4: TkVO | ER4: asjaajamine ja rahadega toimetulek | ES4: söögi valmistamine | ET4: söömine | EU4: majapidamistoimingud | EV4: enese eest hoolitsemine | EW4: Maht | EX4: Tunni hind € | EY4: Maksumus | EZ4: TK pakkuja | FA4: TkVO | FB4: Maht | FC4: Tunni hind € | FD4: Maksumus | FE4: TK pakkuja | FF4: TkVO | FG4: Maht | FH4: Maksumus | FI4: Maht | FJ4: Maksumus | FK4: Maht | FL4: Maksumus | FM4: Komponente kokku
D5: 2 | N5: =L5*M5 -> 0 | S5: =Q5*R5 -> 0 | X5: =SUM(W5*V5) -> 0 | AC5: =AA5*AB5 -> 0 | AH5: =AF5*AG5 -> 0 | AM5: =AK5*AL5 -> 0 | AR5: =AP5*AQ5 -> 0 | AW5: =AU5*AV5 -> 0 | BC5: =BA5*BB5 -> 0 | BL5: =BJ5*BK5 -> 0 | BQ5: =BO5*BP5 -> 0 | BV5: =BT5*BU5 -> 0 | CA5: =BY5*BZ5 -> 0 | CF5: =CD5*CE5 -> 0 | CL5: =CJ5*CK5 -> 0 | CQ5: =CO5*CP5 -> 0 | CV5: =CT5*CU5 -> 0 | CY5: 0 | DB5: =CZ5*DA5 -> 0 | DH5: =DF5*DG5 -> 0 | DN5: =DL5*DM5 -> 0 | DS5: =DQ5*DR5 -> 0 | DX5: =DV5*DW5 -> 0 | EC5: =EA5*EB5 -> 0 | EI5: =EG5*EH5 -> 0 | EO5: =EM5*EN5 -> 0 | EY5: =EW5*EX5 -> 0 | FD5: =FB5*FC5 -> 0 | FG5: =L5+Q5+V5 -> 0 | FH5: =N5+S5+X5 -> 0 | FI5: =SUM(AA5+AF5+AK5+AP5+AU5+BA5+BJ5+BO5+BT5+BY5+CD5+CJ5+CO5+CT5+CZ5+DF5+DL5+DQ5+DV5+EA5+EG5+EM5+EW5+FB5) -> 0 | FJ5: =SUM(AC5+AH5+AM5+AR5+AW5+BC5+BL5+BQ5+BV5+CA5+CF5+CL5+CQ5+CV5+DB5+DH5+DN5+DS5+DX5+EC5+EI5+EO5+EY5+FD5) -> 0 | FK5: =FG5+FI5 -> 0 | FL5: =FH5+FJ5 -> 0 | FM5: =COUNTIF(L5,">0")+COUNTIF(Q5,">0")+COUNTIF(V5,">0")+COUNTIF(AA5,">0")+COUNTIF(AF5,">0")+COUNTIF(AK5,">0")+COUNTIF(AP5,">0")+COUNTIF(AU5,">0")+COUNTIF(BA5,">0")+COUNTIF(BJ5,">0")+COUNTIF(BO5,">0")+COUNTIF(BT5,">0")+COUNTIF(BY5,">0")+COUNTIF(CD5,">0")+COUNTIF(CJ5,">0")+COUNTIF(CO5,">0")+COUNTIF(CT5,">0")+COUNTIF(CZ5,">0")+COUNTIF(DF5,">0")+COUNTIF(DL5,">0")+COUNTIF(DQ5,">0")+COUNTIF(DV5,">0")+COUNTIF(EA5,">0")+COUNTIF(EG5,">0")+COUNTIF(EM5,">0")+COUNTIF(EW5,">0")+COUNTIF(FB5,">0") -> 0
D6: 2 | N6: =L6*M6 -> 0 | S6: =Q6*R6 -> 0 | X6: =SUM(W6*V6) -> 0 | AC6: =AA6*AB6 -> 0 | AH6: =AF6*AG6 -> 0 | AM6: =AK6*AL6 -> 0 | AR6: =AP6*AQ6 -> 0 | AW6: =AU6*AV6 -> 0 | BC6: =BA6*BB6 -> 0 | BL6: =BJ6*BK6 -> 0 | BQ6: =BO6*BP6 -> 0 | BV6: =BT6*BU6 -> 0 | CA6: =BY6*BZ6 -> 0 | CF6: =CD6*CE6 -> 0 | CL6: =CJ6*CK6 -> 0 | CQ6: =CO6*CP6 -> 0 | CV6: =CT6*CU6 -> 0 | CY6: 0 | DB6: =CZ6*DA6 -> 0 | DH6: =DF6*DG6 -> 0 | DN6: =DL6*DM6 -> 0 | DS6: =DQ6*DR6 -> 0 | DX6: =DV6*DW6 -> 0 | EC6: =EA6*EB6 -> 0 | EI6: =EG6*EH6 -> 0 | EO6: =EM6*EN6 -> 0 | EY6: =EW6*EX6 -> 0 | FD6: =FB6*FC6 -> 0 | FG6: =L6+Q6+V6 -> 0 | FH6: =N6+S6+X6 -> 0 | FI6: =SUM(AA6+AF6+AK6+AP6+AU6+BA6+BJ6+BO6+BT6+BY6+CD6+CJ6+CO6+CT6+CZ6+DF6+DL6+DQ6+DV6+EA6+EG6+EM6+EW6+FB6) -> 0 | FJ6: =SUM(AC6+AH6+AM6+AR6+AW6+BC6+BL6+BQ6+BV6+CA6+CF6+CL6+CQ6+CV6+DB6+DH6+DN6+DS6+DX6+EC6+EI6+EO6+EY6+FD6) -> 0 | FK6: =FG6+FI6 -> 0 | FL6: =FH6+FJ6 -> 0 | FM6: =COUNTIF(L6,">0")+COUNTIF(Q6,">0")+COUNTIF(V6,">0")+COUNTIF(AA6,">0")+COUNTIF(AF6,">0")+COUNTIF(AK6,">0")+COUNTIF(AP6,">0")+COUNTIF(AU6,">0")+COUNTIF(BA6,">0")+COUNTIF(BJ6,">0")+COUNTIF(BO6,">0")+COUNTIF(BT6,">0")+COUNTIF(BY6,">0")+COUNTIF(CD6,">0")+COUNTIF(CJ6,">0")+COUNTIF(CO6,">0")+COUNTIF(CT6,">0")+COUNTIF(CZ6,">0")+COUNTIF(DF6,">0")+COUNTIF(DL6,">0")+COUNTIF(DQ6,">0")+COUNTIF(DV6,">0")+COUNTIF(EA6,">0")+COUNTIF(EG6,">0")+COUNTIF(EM6,">0")+COUNTIF(EW6,">0")+COUNTIF(FB6,">0") -> 0
D7: 2 | N7: =L7*M7 -> 0 | S7: =Q7*R7 -> 0 | X7: =SUM(W7*V7) -> 0 | AC7: =AA7*AB7 -> 0 | AH7: =AF7*AG7 -> 0 | AM7: =AK7*AL7 -> 0 | AR7: =AP7*AQ7 -> 0 | AW7: =AU7*AV7 -> 0 | BC7: =BA7*BB7 -> 0 | BL7: =BJ7*BK7 -> 0 | BQ7: =BO7*BP7 -> 0 | BV7: =BT7*BU7 -> 0 | CA7: =BY7*BZ7 -> 0 | CF7: =CD7*CE7 -> 0 | CL7: =CJ7*CK7 -> 0 | CQ7: =CO7*CP7 -> 0 | CV7: =CT7*CU7 -> 0 | CY7: 0 | DB7: =CZ7*DA7 -> 0 | DH7: =DF7*DG7 -> 0 | DN7: =DL7*DM7 -> 0 | DS7: =DQ7*DR7 -> 0 | DX7: =DV7*DW7 -> 0 | EC7: =EA7*EB7 -> 0 | EI7: =EG7*EH7 -> 0 | EO7: =EM7*EN7 -> 0 | EY7: =EW7*EX7 -> 0 | FD7: =FB7*FC7 -> 0 | FG7: =L7+Q7+V7 -> 0 | FH7: =N7+S7+X7 -> 0 | FI7: =SUM(AA7+AF7+AK7+AP7+AU7+BA7+BJ7+BO7+BT7+BY7+CD7+CJ7+CO7+CT7+CZ7+DF7+DL7+DQ7+DV7+EA7+EG7+EM7+EW7+FB7) -> 0 | FJ7: =SUM(AC7+AH7+AM7+AR7+AW7+BC7+BL7+BQ7+BV7+CA7+CF7+CL7+CQ7+CV7+DB7+DH7+DN7+DS7+DX7+EC7+EI7+EO7+EY7+FD7) -> 0 | FK7: =FG7+FI7 -> 0 | FL7: =FH7+FJ7 -> 0 | FM7: =COUNTIF(L7,">0")+COUNTIF(Q7,">0")+COUNTIF(V7,">0")+COUNTIF(AA7,">0")+COUNTIF(AF7,">0")+COUNTIF(AK7,">0")+COUNTIF(AP7,">0")+COUNTIF(AU7,">0")+COUNTIF(BA7,">0")+COUNTIF(BJ7,">0")+COUNTIF(BO7,">0")+COUNTIF(BT7,">0")+COUNTIF(BY7,">0")+COUNTIF(CD7,">0")+COUNTIF(CJ7,">0")+COUNTIF(CO7,">0")+COUNTIF(CT7,">0")+COUNTIF(CZ7,">0")+COUNTIF(DF7,">0")+COUNTIF(DL7,">0")+COUNTIF(DQ7,">0")+COUNTIF(DV7,">0")+COUNTIF(EA7,">0")+COUNTIF(EG7,">0")+COUNTIF(EM7,">0")+COUNTIF(EW7,">0")+COUNTIF(FB7,">0") -> 0
D8: 2 | N8: =L8*M8 -> 0 | S8: =Q8*R8 -> 0 | X8: =SUM(W8*V8) -> 0 | AC8: =AA8*AB8 -> 0 | AH8: =AF8*AG8 -> 0 | AM8: =AK8*AL8 -> 0 | AR8: =AP8*AQ8 -> 0 | AW8: =AU8*AV8 -> 0 | BC8: =BA8*BB8 -> 0 | BL8: =BJ8*BK8 -> 0 | BQ8: =BO8*BP8 -> 0 | BV8: =BT8*BU8 -> 0 | CA8: =BY8*BZ8 -> 0 | CF8: =CD8*CE8 -> 0 | CL8: =CJ8*CK8 -> 0 | CQ8: =CO8*CP8 -> 0 | CV8: =CT8*CU8 -> 0 | CY8: 0 | DB8: =CZ8*DA8 -> 0 | DH8: =DF8*DG8 -> 0 | DN8: =DL8*DM8 -> 0 | DS8: =DQ8*DR8 -> 0 | DX8: =DV8*DW8 -> 0 | EC8: =EA8*EB8 -> 0 | EI8: =EG8*EH8 -> 0 | EO8: =EM8*EN8 -> 0 | EY8: =EW8*EX8 -> 0 | FD8: =FB8*FC8 -> 0 | FG8: =L8+Q8+V8 -> 0 | FH8: =N8+S8+X8 -> 0 | FI8: =SUM(AA8+AF8+AK8+AP8+AU8+BA8+BJ8+BO8+BT8+BY8+CD8+CJ8+CO8+CT8+CZ8+DF8+DL8+DQ8+DV8+EA8+EG8+EM8+EW8+FB8) -> 0 | FJ8: =SUM(AC8+AH8+AM8+AR8+AW8+BC8+BL8+BQ8+BV8+CA8+CF8+CL8+CQ8+CV8+DB8+DH8+DN8+DS8+DX8+EC8+EI8+EO8+EY8+FD8) -> 0 | FK8: =FG8+FI8 -> 0 | FL8: =FH8+FJ8 -> 0 | FM8: =COUNTIF(L8,">0")+COUNTIF(Q8,">0")+COUNTIF(V8,">0")+COUNTIF(AA8,">0")+COUNTIF(AF8,">0")+COUNTIF(AK8,">0")+COUNTIF(AP8,">0")+COUNTIF(AU8,">0")+COUNTIF(BA8,">0")+COUNTIF(BJ8,">0")+COUNTIF(BO8,">0")+COUNTIF(BT8,">0")+COUNTIF(BY8,">0")+COUNTIF(CD8,">0")+COUNTIF(CJ8,">0")+COUNTIF(CO8,">0")+COUNTIF(CT8,">0")+COUNTIF(CZ8,">0")+COUNTIF(DF8,">0")+COUNTIF(DL8,">0")+COUNTIF(DQ8,">0")+COUNTIF(DV8,">0")+COUNTIF(EA8,">0")+COUNTIF(EG8,">0")+COUNTIF(EM8,">0")+COUNTIF(EW8,">0")+COUNTIF(FB8,">0") -> 0
D9: 2 | N9: =L9*M9 -> 0 | S9: =Q9*R9 -> 0 | X9: =SUM(W9*V9) -> 0 | AC9: =AA9*AB9 -> 0 | AH9: =AF9*AG9 -> 0 | AM9: =AK9*AL9 -> 0 | AR9: =AP9*AQ9 -> 0 | AW9: =AU9*AV9 -> 0 | BC9: =BA9*BB9 -> 0 | BL9: =BJ9*BK9 -> 0 | BQ9: =BO9*BP9 -> 0 | BV9: =BT9*BU9 -> 0 | CA9: =BY9*BZ9 -> 0 | CF9: =CD9*CE9 -> 0 | CL9: =CJ9*CK9 -> 0 | CQ9: =CO9*CP9 -> 0 | CV9: =CT9*CU9 -> 0 | DB9: =CZ9*DA9 -> 0 | DH9: =DF9*DG9 -> 0 | DN9: =DL9*DM9 -> 0 | DS9: =DQ9*DR9 -> 0 | DX9: =DV9*DW9 -> 0 | EC9: =EA9*EB9 -> 0 | EI9: =EG9*EH9 -> 0 | EO9: =EM9*EN9 -> 0 | EY9: =EW9*EX9 -> 0 | FD9: =FB9*FC9 -> 0 | FG9: =L9+Q9+V9 -> 0 | FH9: =N9+S9+X9 -> 0 | FI9: =SUM(AA9+AF9+AK9+AP9+AU9+BA9+BJ9+BO9+BT9+BY9+CD9+CJ9+CO9+CT9+CZ9+DF9+DL9+DQ9+DV9+EA9+EG9+EM9+EW9+FB9) -> 0 | FJ9: =SUM(AC9+AH9+AM9+AR9+AW9+BC9+BL9+BQ9+BV9+CA9+CF9+CL9+CQ9+CV9+DB9+DH9+DN9+DS9+DX9+EC9+EI9+EO9+EY9+FD9) -> 0 | FK9: =FG9+FI9 -> 0 | FL9: =FH9+FJ9 -> 0 | FM9: =COUNTIF(L9,">0")+COUNTIF(Q9,">0")+COUNTIF(V9,">0")+COUNTIF(AA9,">0")+COUNTIF(AF9,">0")+COUNTIF(AK9,">0")+COUNTIF(AP9,">0")+COUNTIF(AU9,">0")+COUNTIF(BA9,">0")+COUNTIF(BJ9,">0")+COUNTIF(BO9,">0")+COUNTIF(BT9,">0")+COUNTIF(BY9,">0")+COUNTIF(CD9,">0")+COUNTIF(CJ9,">0")+COUNTIF(CO9,">0")+COUNTIF(CT9,">0")+COUNTIF(CZ9,">0")+COUNTIF(DF9,">0")+COUNTIF(DL9,">0")+COUNTIF(DQ9,">0")+COUNTIF(DV9,">0")+COUNTIF(EA9,">0")+COUNTIF(EG9,">0")+COUNTIF(EM9,">0")+COUNTIF(EW9,">0")+COUNTIF(FB9,">0") -> 0
D10: 2 | N10: =L10*M10 -> 0 | S10: =Q10*R10 -> 0 | X10: =SUM(W10*V10) -> 0 | AC10: =AA10*AB10 -> 0 | AH10: =AF10*AG10 -> 0 | AM10: =AK10*AL10 -> 0 | AR10: =AP10*AQ10 -> 0 | AW10: =AU10*AV10 -> 0 | BC10: =BA10*BB10 -> 0 | BL10: =BJ10*BK10 -> 0 | BQ10: =BO10*BP10 -> 0 | BV10: =BT10*BU10 -> 0 | CA10: =BY10*BZ10 -> 0 | CF10: =CD10*CE10 -> 0 | CL10: =CJ10*CK10 -> 0 | CQ10: =CO10*CP10 -> 0 | CV10: =CT10*CU10 -> 0 | DB10: =CZ10*DA10 -> 0 | DH10: =DF10*DG10 -> 0 | DN10: =DL10*DM10 -> 0 | DS10: =DQ10*DR10 -> 0 | DX10: =DV10*DW10 -> 0 | EC10: =EA10*EB10 -> 0 | EI10: =EG10*EH10 -> 0 | EO10: =EM10*EN10 -> 0 | EY10: =EW10*EX10 -> 0 | FD10: =FB10*FC10 -> 0 | FG10: =L10+Q10+V10 -> 0 | FH10: =N10+S10+X10 -> 0 | FI10: =SUM(AA10+AF10+AK10+AP10+AU10+BA10+BJ10+BO10+BT10+BY10+CD10+CJ10+CO10+CT10+CZ10+DF10+DL10+DQ10+DV10+EA10+EG10+EM10+EW10+FB10) -> 0 | FJ10: =SUM(AC10+AH10+AM10+AR10+AW10+BC10+BL10+BQ10+BV10+CA10+CF10+CL10+CQ10+CV10+DB10+DH10+DN10+DS10+DX10+EC10+EI10+EO10+EY10+FD10) -> 0 | FK10: =FG10+FI10 -> 0 | FL10: =FH10+FJ10 -> 0 | FM10: =COUNTIF(L10,">0")+COUNTIF(Q10,">0")+COUNTIF(V10,">0")+COUNTIF(AA10,">0")+COUNTIF(AF10,">0")+COUNTIF(AK10,">0")+COUNTIF(AP10,">0")+COUNTIF(AU10,">0")+COUNTIF(BA10,">0")+COUNTIF(BJ10,">0")+COUNTIF(BO10,">0")+COUNTIF(BT10,">0")+COUNTIF(BY10,">0")+COUNTIF(CD10,">0")+COUNTIF(CJ10,">0")+COUNTIF(CO10,">0")+COUNTIF(CT10,">0")+COUNTIF(CZ10,">0")+COUNTIF(DF10,">0")+COUNTIF(DL10,">0")+COUNTIF(DQ10,">0")+COUNTIF(DV10,">0")+COUNTIF(EA10,">0")+COUNTIF(EG10,">0")+COUNTIF(EM10,">0")+COUNTIF(EW10,">0")+COUNTIF(FB10,">0") -> 0
D11: 2 | N11: =L11*M11 -> 0 | S11: =Q11*R11 -> 0 | X11: =SUM(W11*V11) -> 0 | AC11: =AA11*AB11 -> 0 | AH11: =AF11*AG11 -> 0 | AM11: =AK11*AL11 -> 0 | AR11: =AP11*AQ11 -> 0 | AW11: =AU11*AV11 -> 0 | BC11: =BA11*BB11 -> 0 | BL11: =BJ11*BK11 -> 0 | BQ11: =BO11*BP11 -> 0 | BV11: =BT11*BU11 -> 0 | CA11: =BY11*BZ11 -> 0 | CF11: =CD11*CE11 -> 0 | CL11: =CJ11*CK11 -> 0 | CQ11: =CO11*CP11 -> 0 | CV11: =CT11*CU11 -> 0 | CY11: 0 | DB11: =CZ11*DA11 -> 0 | DH11: =DF11*DG11 -> 0 | DN11: =DL11*DM11 -> 0 | DS11: =DQ11*DR11 -> 0 | DX11: =DV11*DW11 -> 0 | EC11: =EA11*EB11 -> 0 | EI11: =EG11*EH11 -> 0 | EO11: =EM11*EN11 -> 0 | EY11: =EW11*EX11 -> 0 | FD11: =FB11*FC11 -> 0 | FG11: =L11+Q11+V11 -> 0 | FH11: =N11+S11+X11 -> 0 | FI11: =SUM(AA11+AF11+AK11+AP11+AU11+BA11+BJ11+BO11+BT11+BY11+CD11+CJ11+CO11+CT11+CZ11+DF11+DL11+DQ11+DV11+EA11+EG11+EM11+EW11+FB11) -> 0 | FJ11: =SUM(AC11+AH11+AM11+AR11+AW11+BC11+BL11+BQ11+BV11+CA11+CF11+CL11+CQ11+CV11+DB11+DH11+DN11+DS11+DX11+EC11+EI11+EO11+EY11+FD11) -> 0 | FK11: =FG11+FI11 -> 0 | FL11: =FH11+FJ11 -> 0 | FM11: =COUNTIF(L11,">0")+COUNTIF(Q11,">0")+COUNTIF(V11,">0")+COUNTIF(AA11,">0")+COUNTIF(AF11,">0")+COUNTIF(AK11,">0")+COUNTIF(AP11,">0")+COUNTIF(AU11,">0")+COUNTIF(BA11,">0")+COUNTIF(BJ11,">0")+COUNTIF(BO11,">0")+COUNTIF(BT11,">0")+COUNTIF(BY11,">0")+COUNTIF(CD11,">0")+COUNTIF(CJ11,">0")+COUNTIF(CO11,">0")+COUNTIF(CT11,">0")+COUNTIF(CZ11,">0")+COUNTIF(DF11,">0")+COUNTIF(DL11,">0")+COUNTIF(DQ11,">0")+COUNTIF(DV11,">0")+COUNTIF(EA11,">0")+COUNTIF(EG11,">0")+COUNTIF(EM11,">0")+COUNTIF(EW11,">0")+COUNTIF(FB11,">0") -> 0
D12: 2 | N12: =L12*M12 -> 0 | S12: =Q12*R12 -> 0 | X12: =SUM(W12*V12) -> 0 | AC12: =AA12*AB12 -> 0 | AH12: =AF12*AG12 -> 0 | AM12: =AK12*AL12 -> 0 | AR12: =AP12*AQ12 -> 0 | AW12: =AU12*AV12 -> 0 | BC12: =BA12*BB12 -> 0 | BL12: =BJ12*BK12 -> 0 | BQ12: =BO12*BP12 -> 0 | BV12: =BT12*BU12 -> 0 | CA12: =BY12*BZ12 -> 0 | CF12: =CD12*CE12 -> 0 | CL12: =CJ12*CK12 -> 0 | CQ12: =CO12*CP12 -> 0 | CV12: =CT12*CU12 -> 0 | CY12: 0 | DB12: =CZ12*DA12 -> 0 | DH12: =DF12*DG12 -> 0 | DN12: =DL12*DM12 -> 0 | DS12: =DQ12*DR12 -> 0 | DX12: =DV12*DW12 -> 0 | EC12: =EA12*EB12 -> 0 | EI12: =EG12*EH12 -> 0 | EO12: =EM12*EN12 -> 0 | EY12: =EW12*EX12 -> 0 | FD12: =FB12*FC12 -> 0 | FG12: =L12+Q12+V12 -> 0 | FH12: =N12+S12+X12 -> 0 | FI12: =SUM(AA12+AF12+AK12+AP12+AU12+BA12+BJ12+BO12+BT12+BY12+CD12+CJ12+CO12+CT12+CZ12+DF12+DL12+DQ12+DV12+EA12+EG12+EM12+EW12+FB12) -> 0 | FJ12: =SUM(AC12+AH12+AM12+AR12+AW12+BC12+BL12+BQ12+BV12+CA12+CF12+CL12+CQ12+CV12+DB12+DH12+DN12+DS12+DX12+EC12+EI12+EO12+EY12+FD12) -> 0 | FK12: =FG12+FI12 -> 0 | FL12: =FH12+FJ12 -> 0 | FM12: =COUNTIF(L12,">0")+COUNTIF(Q12,">0")+COUNTIF(V12,">0")+COUNTIF(AA12,">0")+COUNTIF(AF12,">0")+COUNTIF(AK12,">0")+COUNTIF(AP12,">0")+COUNTIF(AU12,">0")+COUNTIF(BA12,">0")+COUNTIF(BJ12,">0")+COUNTIF(BO12,">0")+COUNTIF(BT12,">0")+COUNTIF(BY12,">0")+COUNTIF(CD12,">0")+COUNTIF(CJ12,">0")+COUNTIF(CO12,">0")+COUNTIF(CT12,">0")+COUNTIF(CZ12,">0")+COUNTIF(DF12,">0")+COUNTIF(DL12,">0")+COUNTIF(DQ12,">0")+COUNTIF(DV12,">0")+COUNTIF(EA12,">0")+COUNTIF(EG12,">0")+COUNTIF(EM12,">0")+COUNTIF(EW12,">0")+COUNTIF(FB12,">0") -> 0
D13: 2 | N13: =L13*M13 -> 0 | S13: =Q13*R13 -> 0 | X13: =SUM(W13*V13) -> 0 | AC13: =AA13*AB13 -> 0 | AH13: =AF13*AG13 -> 0 | AM13: =AK13*AL13 -> 0 | AR13: =AP13*AQ13 -> 0 | AW13: =AU13*AV13 -> 0 | BC13: =BA13*BB13 -> 0 | BL13: =BJ13*BK13 -> 0 | BQ13: =BO13*BP13 -> 0 | BV13: =BT13*BU13 -> 0 | CA13: =BY13*BZ13 -> 0 | CF13: =CD13*CE13 -> 0 | CL13: =CJ13*CK13 -> 0 | CQ13: =CO13*CP13 -> 0 | CV13: =CT13*CU13 -> 0 | CY13: 0 | DB13: =CZ13*DA13 -> 0 | DH13: =DF13*DG13 -> 0 | DN13: =DL13*DM13 -> 0 | DS13: =DQ13*DR13 -> 0 | DX13: =DV13*DW13 -> 0 | EC13: =EA13*EB13 -> 0 | EI13: =EG13*EH13 -> 0 | EO13: =EM13*EN13 -> 0 | EY13: =EW13*EX13 -> 0 | FD13: =FB13*FC13 -> 0 | FG13: =L13+Q13+V13 -> 0 | FH13: =N13+S13+X13 -> 0 | FI13: =SUM(AA13+AF13+AK13+AP13+AU13+BA13+BJ13+BO13+BT13+BY13+CD13+CJ13+CO13+CT13+CZ13+DF13+DL13+DQ13+DV13+EA13+EG13+EM13+EW13+FB13) -> 0 | FJ13: =SUM(AC13+AH13+AM13+AR13+AW13+BC13+BL13+BQ13+BV13+CA13+CF13+CL13+CQ13+CV13+DB13+DH13+DN13+DS13+DX13+EC13+EI13+EO13+EY13+FD13) -> 0 | FK13: =FG13+FI13 -> 0 | FL13: =FH13+FJ13 -> 0 | FM13: =COUNTIF(L13,">0")+COUNTIF(Q13,">0")+COUNTIF(V13,">0")+COUNTIF(AA13,">0")+COUNTIF(AF13,">0")+COUNTIF(AK13,">0")+COUNTIF(AP13,">0")+COUNTIF(AU13,">0")+COUNTIF(BA13,">0")+COUNTIF(BJ13,">0")+COUNTIF(BO13,">0")+COUNTIF(BT13,">0")+COUNTIF(BY13,">0")+COUNTIF(CD13,">0")+COUNTIF(CJ13,">0")+COUNTIF(CO13,">0")+COUNTIF(CT13,">0")+COUNTIF(CZ13,">0")+COUNTIF(DF13,">0")+COUNTIF(DL13,">0")+COUNTIF(DQ13,">0")+COUNTIF(DV13,">0")+COUNTIF(EA13,">0")+COUNTIF(EG13,">0")+COUNTIF(EM13,">0")+COUNTIF(EW13,">0")+COUNTIF(FB13,">0") -> 0
D14: 2 | N14: =L14*M14 -> 0 | S14: =Q14*R14 -> 0 | X14: =SUM(W14*V14) -> 0 | AC14: =AA14*AB14 -> 0 | AH14: =AF14*AG14 -> 0 | AM14: =AK14*AL14 -> 0 | AR14: =AP14*AQ14 -> 0 | AW14: =AU14*AV14 -> 0 | BC14: =BA14*BB14 -> 0 | BL14: =BJ14*BK14 -> 0 | BQ14: =BO14*BP14 -> 0 | BV14: =BT14*BU14 -> 0 | CA14: =BY14*BZ14 -> 0 | CF14: =CD14*CE14 -> 0 | CL14: =CJ14*CK14 -> 0 | CQ14: =CO14*CP14 -> 0 | CV14: =CT14*CU14 -> 0 | CY14: 0 | DB14: =CZ14*DA14 -> 0 | DH14: =DF14*DG14 -> 0 | DN14: =DL14*DM14 -> 0 | DS14: =DQ14*DR14 -> 0 | DX14: =DV14*DW14 -> 0 | EC14: =EA14*EB14 -> 0 | EI14: =EG14*EH14 -> 0 | EO14: =EM14*EN14 -> 0 | EY14: =EW14*EX14 -> 0 | FD14: =FB14*FC14 -> 0 | FG14: =L14+Q14+V14 -> 0 | FH14: =N14+S14+X14 -> 0 | FI14: =SUM(AA14+AF14+AK14+AP14+AU14+BA14+BJ14+BO14+BT14+BY14+CD14+CJ14+CO14+CT14+CZ14+DF14+DL14+DQ14+DV14+EA14+EG14+EM14+EW14+FB14) -> 0 | FJ14: =SUM(AC14+AH14+AM14+AR14+AW14+BC14+BL14+BQ14+BV14+CA14+CF14+CL14+CQ14+CV14+DB14+DH14+DN14+DS14+DX14+EC14+EI14+EO14+EY14+FD14) -> 0 | FK14: =FG14+FI14 -> 0 | FL14: =FH14+FJ14 -> 0 | FM14: =COUNTIF(L14,">0")+COUNTIF(Q14,">0")+COUNTIF(V14,">0")+COUNTIF(AA14,">0")+COUNTIF(AF14,">0")+COUNTIF(AK14,">0")+COUNTIF(AP14,">0")+COUNTIF(AU14,">0")+COUNTIF(BA14,">0")+COUNTIF(BJ14,">0")+COUNTIF(BO14,">0")+COUNTIF(BT14,">0")+COUNTIF(BY14,">0")+COUNTIF(CD14,">0")+COUNTIF(CJ14,">0")+COUNTIF(CO14,">0")+COUNTIF(CT14,">0")+COUNTIF(CZ14,">0")+COUNTIF(DF14,">0")+COUNTIF(DL14,">0")+COUNTIF(DQ14,">0")+COUNTIF(DV14,">0")+COUNTIF(EA14,">0")+COUNTIF(EG14,">0")+COUNTIF(EM14,">0")+COUNTIF(EW14,">0")+COUNTIF(FB14,">0") -> 0
D15: 2 | N15: =L15*M15 -> 0 | S15: =Q15*R15 -> 0 | X15: =SUM(W15*V15) -> 0 | AC15: =AA15*AB15 -> 0 | AH15: =AF15*AG15 -> 0 | AM15: =AK15*AL15 -> 0 | AR15: =AP15*AQ15 -> 0 | AW15: =AU15*AV15 -> 0 | BC15: =BA15*BB15 -> 0 | BL15: =BJ15*BK15 -> 0 | BQ15: =BO15*BP15 -> 0 | BV15: =BT15*BU15 -> 0 | CA15: =BY15*BZ15 -> 0 | CF15: =CD15*CE15 -> 0 | CL15: =CJ15*CK15 -> 0 | CQ15: =CO15*CP15 -> 0 | CV15: =CT15*CU15 -> 0 | CY15: 0 | DB15: =CZ15*DA15 -> 0 | DH15: =DF15*DG15 -> 0 | DN15: =DL15*DM15 -> 0 | DS15: =DQ15*DR15 -> 0 | DX15: =DV15*DW15 -> 0 | EC15: =EA15*EB15 -> 0 | EI15: =EG15*EH15 -> 0 | EO15: =EM15*EN15 -> 0 | EY15: =EW15*EX15 -> 0 | FD15: =FB15*FC15 -> 0 | FG15: =L15+Q15+V15 -> 0 | FH15: =N15+S15+X15 -> 0 | FI15: =SUM(AA15+AF15+AK15+AP15+AU15+BA15+BJ15+BO15+BT15+BY15+CD15+CJ15+CO15+CT15+CZ15+DF15+DL15+DQ15+DV15+EA15+EG15+EM15+EW15+FB15) -> 0 | FJ15: =SUM(AC15+AH15+AM15+AR15+AW15+BC15+BL15+BQ15+BV15+CA15+CF15+CL15+CQ15+CV15+DB15+DH15+DN15+DS15+DX15+EC15+EI15+EO15+EY15+FD15) -> 0 | FK15: =FG15+FI15 -> 0 | FL15: =FH15+FJ15 -> 0 | FM15: =COUNTIF(L15,">0")+COUNTIF(Q15,">0")+COUNTIF(V15,">0")+COUNTIF(AA15,">0")+COUNTIF(AF15,">0")+COUNTIF(AK15,">0")+COUNTIF(AP15,">0")+COUNTIF(AU15,">0")+COUNTIF(BA15,">0")+COUNTIF(BJ15,">0")+COUNTIF(BO15,">0")+COUNTIF(BT15,">0")+COUNTIF(BY15,">0")+COUNTIF(CD15,">0")+COUNTIF(CJ15,">0")+COUNTIF(CO15,">0")+COUNTIF(CT15,">0")+COUNTIF(CZ15,">0")+COUNTIF(DF15,">0")+COUNTIF(DL15,">0")+COUNTIF(DQ15,">0")+COUNTIF(DV15,">0")+COUNTIF(EA15,">0")+COUNTIF(EG15,">0")+COUNTIF(EM15,">0")+COUNTIF(EW15,">0")+COUNTIF(FB15,">0") -> 0
D16: 2 | N16: =L16*M16 -> 0 | S16: =Q16*R16 -> 0 | X16: =SUM(W16*V16) -> 0 | AC16: =AA16*AB16 -> 0 | AH16: =AF16*AG16 -> 0 | AM16: =AK16*AL16 -> 0 | AR16: =AP16*AQ16 -> 0 | AW16: =AU16*AV16 -> 0 | BC16: =BA16*BB16 -> 0 | BL16: =BJ16*BK16 -> 0 | BQ16: =BO16*BP16 -> 0 | BV16: =BT16*BU16 -> 0 | CA16: =BY16*BZ16 -> 0 | CF16: =CD16*CE16 -> 0 | CL16: =CJ16*CK16 -> 0 | CQ16: =CO16*CP16 -> 0 | CV16: =CT16*CU16 -> 0 | CY16: 0 | DB16: =CZ16*DA16 -> 0 | DH16: =DF16*DG16 -> 0 | DN16: =DL16*DM16 -> 0 | DS16: =DQ16*DR16 -> 0 | DX16: =DV16*DW16 -> 0 | EC16: =EA16*EB16 -> 0 | EI16: =EG16*EH16 -> 0 | EO16: =EM16*EN16 -> 0 | EY16: =EW16*EX16 -> 0 | FD16: =FB16*FC16 -> 0 | FG16: =L16+Q16+V16 -> 0 | FH16: =N16+S16+X16 -> 0 | FI16: =SUM(AA16+AF16+AK16+AP16+AU16+BA16+BJ16+BO16+BT16+BY16+CD16+CJ16+CO16+CT16+CZ16+DF16+DL16+DQ16+DV16+EA16+EG16+EM16+EW16+FB16) -> 0 | FJ16: =SUM(AC16+AH16+AM16+AR16+AW16+BC16+BL16+BQ16+BV16+CA16+CF16+CL16+CQ16+CV16+DB16+DH16+DN16+DS16+DX16+EC16+EI16+EO16+EY16+FD16) -> 0 | FK16: =FG16+FI16 -> 0 | FL16: =FH16+FJ16 -> 0 | FM16: =COUNTIF(L16,">0")+COUNTIF(Q16,">0")+COUNTIF(V16,">0")+COUNTIF(AA16,">0")+COUNTIF(AF16,">0")+COUNTIF(AK16,">0")+COUNTIF(AP16,">0")+COUNTIF(AU16,">0")+COUNTIF(BA16,">0")+COUNTIF(BJ16,">0")+COUNTIF(BO16,">0")+COUNTIF(BT16,">0")+COUNTIF(BY16,">0")+COUNTIF(CD16,">0")+COUNTIF(CJ16,">0")+COUNTIF(CO16,">0")+COUNTIF(CT16,">0")+COUNTIF(CZ16,">0")+COUNTIF(DF16,">0")+COUNTIF(DL16,">0")+COUNTIF(DQ16,">0")+COUNTIF(DV16,">0")+COUNTIF(EA16,">0")+COUNTIF(EG16,">0")+COUNTIF(EM16,">0")+COUNTIF(EW16,">0")+COUNTIF(FB16,">0") -> 0
D17: 2 | N17: =L17*M17 -> 0 | S17: =Q17*R17 -> 0 | X17: =SUM(W17*V17) -> 0 | AC17: =AA17*AB17 -> 0 | AH17: =AF17*AG17 -> 0 | AM17: =AK17*AL17 -> 0 | AR17: =AP17*AQ17 -> 0 | AW17: =AU17*AV17 -> 0 | BC17: =BA17*BB17 -> 0 | BL17: =BJ17*BK17 -> 0 | BQ17: =BO17*BP17 -> 0 | BV17: =BT17*BU17 -> 0 | CA17: =BY17*BZ17 -> 0 | CF17: =CD17*CE17 -> 0 | CL17: =CJ17*CK17 -> 0 | CQ17: =CO17*CP17 -> 0 | CV17: =CT17*CU17 -> 0 | CY17: 0 | DB17: =CZ17*DA17 -> 0 | DH17: =DF17*DG17 -> 0 | DN17: =DL17*DM17 -> 0 | DS17: =DQ17*DR17 -> 0 | DX17: =DV17*DW17 -> 0 | EC17: =EA17*EB17 -> 0 | EI17: =EG17*EH17 -> 0 | EO17: =EM17*EN17 -> 0 | EY17: =EW17*EX17 -> 0 | FD17: =FB17*FC17 -> 0 | FG17: =L17+Q17+V17 -> 0 | FH17: =N17+S17+X17 -> 0 | FI17: =SUM(AA17+AF17+AK17+AP17+AU17+BA17+BJ17+BO17+BT17+BY17+CD17+CJ17+CO17+CT17+CZ17+DF17+DL17+DQ17+DV17+EA17+EG17+EM17+EW17+FB17) -> 0 | FJ17: =SUM(AC17+AH17+AM17+AR17+AW17+BC17+BL17+BQ17+BV17+CA17+CF17+CL17+CQ17+CV17+DB17+DH17+DN17+DS17+DX17+EC17+EI17+EO17+EY17+FD17) -> 0 | FK17: =FG17+FI17 -> 0 | FL17: =FH17+FJ17 -> 0 | FM17: =COUNTIF(L17,">0")+COUNTIF(Q17,">0")+COUNTIF(V17,">0")+COUNTIF(AA17,">0")+COUNTIF(AF17,">0")+COUNTIF(AK17,">0")+COUNTIF(AP17,">0")+COUNTIF(AU17,">0")+COUNTIF(BA17,">0")+COUNTIF(BJ17,">0")+COUNTIF(BO17,">0")+COUNTIF(BT17,">0")+COUNTIF(BY17,">0")+COUNTIF(CD17,">0")+COUNTIF(CJ17,">0")+COUNTIF(CO17,">0")+COUNTIF(CT17,">0")+COUNTIF(CZ17,">0")+COUNTIF(DF17,">0")+COUNTIF(DL17,">0")+COUNTIF(DQ17,">0")+COUNTIF(DV17,">0")+COUNTIF(EA17,">0")+COUNTIF(EG17,">0")+COUNTIF(EM17,">0")+COUNTIF(EW17,">0")+COUNTIF(FB17,">0") -> 0
D18: 2 | N18: =L18*M18 -> 0 | S18: =Q18*R18 -> 0 | X18: =SUM(W18*V18) -> 0 | AC18: =AA18*AB18 -> 0 | AH18: =AF18*AG18 -> 0 | AM18: =AK18*AL18 -> 0 | AR18: =AP18*AQ18 -> 0 | AW18: =AU18*AV18 -> 0 | BC18: =BA18*BB18 -> 0 | BL18: =BJ18*BK18 -> 0 | BQ18: =BO18*BP18 -> 0 | BV18: =BT18*BU18 -> 0 | CA18: =BY18*BZ18 -> 0 | CF18: =CD18*CE18 -> 0 | CL18: =CJ18*CK18 -> 0 | CQ18: =CO18*CP18 -> 0 | CV18: =CT18*CU18 -> 0 | CY18: 0 | DB18: =CZ18*DA18 -> 0 | DH18: =DF18*DG18 -> 0 | DN18: =DL18*DM18 -> 0 | DS18: =DQ18*DR18 -> 0 | DX18: =DV18*DW18 -> 0 | EC18: =EA18*EB18 -> 0 | EI18: =EG18*EH18 -> 0 | EO18: =EM18*EN18 -> 0 | EY18: =EW18*EX18 -> 0 | FD18: =FB18*FC18 -> 0 | FG18: =L18+Q18+V18 -> 0 | FH18: =N18+S18+X18 -> 0 | FI18: =SUM(AA18+AF18+AK18+AP18+AU18+BA18+BJ18+BO18+BT18+BY18+CD18+CJ18+CO18+CT18+CZ18+DF18+DL18+DQ18+DV18+EA18+EG18+EM18+EW18+FB18) -> 0 | FJ18: =SUM(AC18+AH18+AM18+AR18+AW18+BC18+BL18+BQ18+BV18+CA18+CF18+CL18+CQ18+CV18+DB18+DH18+DN18+DS18+DX18+EC18+EI18+EO18+EY18+FD18) -> 0 | FK18: =FG18+FI18 -> 0 | FL18: =FH18+FJ18 -> 0 | FM18: =COUNTIF(L18,">0")+COUNTIF(Q18,">0")+COUNTIF(V18,">0")+COUNTIF(AA18,">0")+COUNTIF(AF18,">0")+COUNTIF(AK18,">0")+COUNTIF(AP18,">0")+COUNTIF(AU18,">0")+COUNTIF(BA18,">0")+COUNTIF(BJ18,">0")+COUNTIF(BO18,">0")+COUNTIF(BT18,">0")+COUNTIF(BY18,">0")+COUNTIF(CD18,">0")+COUNTIF(CJ18,">0")+COUNTIF(CO18,">0")+COUNTIF(CT18,">0")+COUNTIF(CZ18,">0")+COUNTIF(DF18,">0")+COUNTIF(DL18,">0")+COUNTIF(DQ18,">0")+COUNTIF(DV18,">0")+COUNTIF(EA18,">0")+COUNTIF(EG18,">0")+COUNTIF(EM18,">0")+COUNTIF(EW18,">0")+COUNTIF(FB18,">0") -> 0
D19: 2 | N19: =L19*M19 -> 0 | S19: =Q19*R19 -> 0 | X19: =SUM(W19*V19) -> 0 | AC19: =AA19*AB19 -> 0 | AH19: =AF19*AG19 -> 0 | AM19: =AK19*AL19 -> 0 | AR19: =AP19*AQ19 -> 0 | AW19: =AU19*AV19 -> 0 | BC19: =BA19*BB19 -> 0 | BL19: =BJ19*BK19 -> 0 | BQ19: =BO19*BP19 -> 0 | BV19: =BT19*BU19 -> 0 | CA19: =BY19*BZ19 -> 0 | CF19: =CD19*CE19 -> 0 | CL19: =CJ19*CK19 -> 0 | CQ19: =CO19*CP19 -> 0 | CV19: =CT19*CU19 -> 0 | CY19: 0 | DB19: =CZ19*DA19 -> 0 | DH19: =DF19*DG19 -> 0 | DN19: =DL19*DM19 -> 0 | DS19: =DQ19*DR19 -> 0 | DX19: =DV19*DW19 -> 0 | EC19: =EA19*EB19 -> 0 | EI19: =EG19*EH19 -> 0 | EO19: =EM19*EN19 -> 0 | EY19: =EW19*EX19 -> 0 | FD19: =FB19*FC19 -> 0 | FG19: =L19+Q19+V19 -> 0 | FH19: =N19+S19+X19 -> 0 | FI19: =SUM(AA19+AF19+AK19+AP19+AU19+BA19+BJ19+BO19+BT19+BY19+CD19+CJ19+CO19+CT19+CZ19+DF19+DL19+DQ19+DV19+EA19+EG19+EM19+EW19+FB19) -> 0 | FJ19: =SUM(AC19+AH19+AM19+AR19+AW19+BC19+BL19+BQ19+BV19+CA19+CF19+CL19+CQ19+CV19+DB19+DH19+DN19+DS19+DX19+EC19+EI19+EO19+EY19+FD19) -> 0 | FK19: =FG19+FI19 -> 0 | FL19: =FH19+FJ19 -> 0 | FM19: =COUNTIF(L19,">0")+COUNTIF(Q19,">0")+COUNTIF(V19,">0")+COUNTIF(AA19,">0")+COUNTIF(AF19,">0")+COUNTIF(AK19,">0")+COUNTIF(AP19,">0")+COUNTIF(AU19,">0")+COUNTIF(BA19,">0")+COUNTIF(BJ19,">0")+COUNTIF(BO19,">0")+COUNTIF(BT19,">0")+COUNTIF(BY19,">0")+COUNTIF(CD19,">0")+COUNTIF(CJ19,">0")+COUNTIF(CO19,">0")+COUNTIF(CT19,">0")+COUNTIF(CZ19,">0")+COUNTIF(DF19,">0")+COUNTIF(DL19,">0")+COUNTIF(DQ19,">0")+COUNTIF(DV19,">0")+COUNTIF(EA19,">0")+COUNTIF(EG19,">0")+COUNTIF(EM19,">0")+COUNTIF(EW19,">0")+COUNTIF(FB19,">0") -> 0
D20: 2 | N20: =L20*M20 -> 0 | S20: =Q20*R20 -> 0 | X20: =SUM(W20*V20) -> 0 | AC20: =AA20*AB20 -> 0 | AH20: =AF20*AG20 -> 0 | AM20: =AK20*AL20 -> 0 | AR20: =AP20*AQ20 -> 0 | AW20: =AU20*AV20 -> 0 | BC20: =BA20*BB20 -> 0 | BL20: =BJ20*BK20 -> 0 | BQ20: =BO20*BP20 -> 0 | BV20: =BT20*BU20 -> 0 | CA20: =BY20*BZ20 -> 0 | CF20: =CD20*CE20 -> 0 | CL20: =CJ20*CK20 -> 0 | CQ20: =CO20*CP20 -> 0 | CV20: =CT20*CU20 -> 0 | CY20: 0 | DB20: =CZ20*DA20 -> 0 | DH20: =DF20*DG20 -> 0 | DN20: =DL20*DM20 -> 0 | DS20: =DQ20*DR20 -> 0 | DX20: =DV20*DW20 -> 0 | EC20: =EA20*EB20 -> 0 | EI20: =EG20*EH20 -> 0 | EO20: =EM20*EN20 -> 0 | EY20: =EW20*EX20 -> 0 | FD20: =FB20*FC20 -> 0 | FG20: =L20+Q20+V20 -> 0 | FH20: =N20+S20+X20 -> 0 | FI20: =SUM(AA20+AF20+AK20+AP20+AU20+BA20+BJ20+BO20+BT20+BY20+CD20+CJ20+CO20+CT20+CZ20+DF20+DL20+DQ20+DV20+EA20+EG20+EM20+EW20+FB20) -> 0 | FJ20: =SUM(AC20+AH20+AM20+AR20+AW20+BC20+BL20+BQ20+BV20+CA20+CF20+CL20+CQ20+CV20+DB20+DH20+DN20+DS20+DX20+EC20+EI20+EO20+EY20+FD20) -> 0 | FK20: =FG20+FI20 -> 0 | FL20: =FH20+FJ20 -> 0 | FM20: =COUNTIF(L20,">0")+COUNTIF(Q20,">0")+COUNTIF(V20,">0")+COUNTIF(AA20,">0")+COUNTIF(AF20,">0")+COUNTIF(AK20,">0")+COUNTIF(AP20,">0")+COUNTIF(AU20,">0")+COUNTIF(BA20,">0")+COUNTIF(BJ20,">0")+COUNTIF(BO20,">0")+COUNTIF(BT20,">0")+COUNTIF(BY20,">0")+COUNTIF(CD20,">0")+COUNTIF(CJ20,">0")+COUNTIF(CO20,">0")+COUNTIF(CT20,">0")+COUNTIF(CZ20,">0")+COUNTIF(DF20,">0")+COUNTIF(DL20,">0")+COUNTIF(DQ20,">0")+COUNTIF(DV20,">0")+COUNTIF(EA20,">0")+COUNTIF(EG20,">0")+COUNTIF(EM20,">0")+COUNTIF(EW20,">0")+COUNTIF(FB20,">0") -> 0
D21: 2 | N21: =L21*M21 -> 0 | S21: =Q21*R21 -> 0 | X21: =SUM(W21*V21) -> 0 | AC21: =AA21*AB21 -> 0 | AH21: =AF21*AG21 -> 0 | AM21: =AK21*AL21 -> 0 | AR21: =AP21*AQ21 -> 0 | AW21: =AU21*AV21 -> 0 | BC21: =BA21*BB21 -> 0 | BL21: =BJ21*BK21 -> 0 | BQ21: =BO21*BP21 -> 0 | BV21: =BT21*BU21 -> 0 | CA21: =BY21*BZ21 -> 0 | CF21: =CD21*CE21 -> 0 | CL21: =CJ21*CK21 -> 0 | CQ21: =CO21*CP21 -> 0 | CV21: =CT21*CU21 -> 0 | DB21: =CZ21*DA21 -> 0 | DH21: =DF21*DG21 -> 0 | DN21: =DL21*DM21 -> 0 | DS21: =DQ21*DR21 -> 0 | DX21: =DV21*DW21 -> 0 | EC21: =EA21*EB21 -> 0 | EI21: =EG21*EH21 -> 0 | EO21: =EM21*EN21 -> 0 | EY21: =EW21*EX21 -> 0 | FD21: =FB21*FC21 -> 0 | FG21: =L21+Q21+V21 -> 0 | FH21: =N21+S21+X21 -> 0 | FI21: =SUM(AA21+AF21+AK21+AP21+AU21+BA21+BJ21+BO21+BT21+BY21+CD21+CJ21+CO21+CT21+CZ21+DF21+DL21+DQ21+DV21+EA21+EG21+EM21+EW21+FB21) -> 0 | FJ21: =SUM(AC21+AH21+AM21+AR21+AW21+BC21+BL21+BQ21+BV21+CA21+CF21+CL21+CQ21+CV21+DB21+DH21+DN21+DS21+DX21+EC21+EI21+EO21+EY21+FD21) -> 0 | FK21: =FG21+FI21 -> 0 | FL21: =FH21+FJ21 -> 0 | FM21: =COUNTIF(L21,">0")+COUNTIF(Q21,">0")+COUNTIF(V21,">0")+COUNTIF(AA21,">0")+COUNTIF(AF21,">0")+COUNTIF(AK21,">0")+COUNTIF(AP21,">0")+COUNTIF(AU21,">0")+COUNTIF(BA21,">0")+COUNTIF(BJ21,">0")+COUNTIF(BO21,">0")+COUNTIF(BT21,">0")+COUNTIF(BY21,">0")+COUNTIF(CD21,">0")+COUNTIF(CJ21,">0")+COUNTIF(CO21,">0")+COUNTIF(CT21,">0")+COUNTIF(CZ21,">0")+COUNTIF(DF21,">0")+COUNTIF(DL21,">0")+COUNTIF(DQ21,">0")+COUNTIF(DV21,">0")+COUNTIF(EA21,">0")+COUNTIF(EG21,">0")+COUNTIF(EM21,">0")+COUNTIF(EW21,">0")+COUNTIF(FB21,">0") -> 0
D22: 2 | N22: =L22*M22 -> 0 | S22: =Q22*R22 -> 0 | X22: =SUM(W22*V22) -> 0 | AC22: =AA22*AB22 -> 0 | AH22: =AF22*AG22 -> 0 | AM22: =AK22*AL22 -> 0 | AR22: =AP22*AQ22 -> 0 | AW22: =AU22*AV22 -> 0 | BC22: =BA22*BB22 -> 0 | BL22: =BJ22*BK22 -> 0 | BQ22: =BO22*BP22 -> 0 | BV22: =BT22*BU22 -> 0 | CA22: =BY22*BZ22 -> 0 | CF22: =CD22*CE22 -> 0 | CL22: =CJ22*CK22 -> 0 | CQ22: =CO22*CP22 -> 0 | CV22: =CT22*CU22 -> 0 | DB22: =CZ22*DA22 -> 0 | DH22: =DF22*DG22 -> 0 | DN22: =DL22*DM22 -> 0 | DS22: =DQ22*DR22 -> 0 | DX22: =DV22*DW22 -> 0 | EC22: =EA22*EB22 -> 0 | EI22: =EG22*EH22 -> 0 | EO22: =EM22*EN22 -> 0 | EY22: =EW22*EX22 -> 0 | FD22: =FB22*FC22 -> 0 | FG22: =L22+Q22+V22 -> 0 | FH22: =N22+S22+X22 -> 0 | FI22: =SUM(AA22+AF22+AK22+AP22+AU22+BA22+BJ22+BO22+BT22+BY22+CD22+CJ22+CO22+CT22+CZ22+DF22+DL22+DQ22+DV22+EA22+EG22+EM22+EW22+FB22) -> 0 | FJ22: =SUM(AC22+AH22+AM22+AR22+AW22+BC22+BL22+BQ22+BV22+CA22+CF22+CL22+CQ22+CV22+DB22+DH22+DN22+DS22+DX22+EC22+EI22+EO22+EY22+FD22) -> 0 | FK22: =FG22+FI22 -> 0 | FL22: =FH22+FJ22 -> 0 | FM22: =COUNTIF(L22,">0")+COUNTIF(Q22,">0")+COUNTIF(V22,">0")+COUNTIF(AA22,">0")+COUNTIF(AF22,">0")+COUNTIF(AK22,">0")+COUNTIF(AP22,">0")+COUNTIF(AU22,">0")+COUNTIF(BA22,">0")+COUNTIF(BJ22,">0")+COUNTIF(BO22,">0")+COUNTIF(BT22,">0")+COUNTIF(BY22,">0")+COUNTIF(CD22,">0")+COUNTIF(CJ22,">0")+COUNTIF(CO22,">0")+COUNTIF(CT22,">0")+COUNTIF(CZ22,">0")+COUNTIF(DF22,">0")+COUNTIF(DL22,">0")+COUNTIF(DQ22,">0")+COUNTIF(DV22,">0")+COUNTIF(EA22,">0")+COUNTIF(EG22,">0")+COUNTIF(EM22,">0")+COUNTIF(EW22,">0")+COUNTIF(FB22,">0") -> 0
D23: 2 | N23: =L23*M23 -> 0 | S23: =Q23*R23 -> 0 | X23: =SUM(W23*V23) -> 0 | AC23: =AA23*AB23 -> 0 | AH23: =AF23*AG23 -> 0 | AM23: =AK23*AL23 -> 0 | AR23: =AP23*AQ23 -> 0 | AW23: =AU23*AV23 -> 0 | BC23: =BA23*BB23 -> 0 | BL23: =BJ23*BK23 -> 0 | BQ23: =BO23*BP23 -> 0 | BV23: =BT23*BU23 -> 0 | CA23: =BY23*BZ23 -> 0 | CF23: =CD23*CE23 -> 0 | CL23: =CJ23*CK23 -> 0 | CQ23: =CO23*CP23 -> 0 | CV23: =CT23*CU23 -> 0 | DB23: =CZ23*DA23 -> 0 | DH23: =DF23*DG23 -> 0 | DN23: =DL23*DM23 -> 0 | DS23: =DQ23*DR23 -> 0 | DX23: =DV23*DW23 -> 0 | EC23: =EA23*EB23 -> 0 | EI23: =EG23*EH23 -> 0 | EO23: =EM23*EN23 -> 0 | EY23: =EW23*EX23 -> 0 | FD23: =FB23*FC23 -> 0 | FG23: =L23+Q23+V23 -> 0 | FH23: =N23+S23+X23 -> 0 | FI23: =SUM(AA23+AF23+AK23+AP23+AU23+BA23+BJ23+BO23+BT23+BY23+CD23+CJ23+CO23+CT23+CZ23+DF23+DL23+DQ23+DV23+EA23+EG23+EM23+EW23+FB23) -> 0 | FJ23: =SUM(AC23+AH23+AM23+AR23+AW23+BC23+BL23+BQ23+BV23+CA23+CF23+CL23+CQ23+CV23+DB23+DH23+DN23+DS23+DX23+EC23+EI23+EO23+EY23+FD23) -> 0 | FK23: =FG23+FI23 -> 0 | FL23: =FH23+FJ23 -> 0 | FM23: =COUNTIF(L23,">0")+COUNTIF(Q23,">0")+COUNTIF(V23,">0")+COUNTIF(AA23,">0")+COUNTIF(AF23,">0")+COUNTIF(AK23,">0")+COUNTIF(AP23,">0")+COUNTIF(AU23,">0")+COUNTIF(BA23,">0")+COUNTIF(BJ23,">0")+COUNTIF(BO23,">0")+COUNTIF(BT23,">0")+COUNTIF(BY23,">0")+COUNTIF(CD23,">0")+COUNTIF(CJ23,">0")+COUNTIF(CO23,">0")+COUNTIF(CT23,">0")+COUNTIF(CZ23,">0")+COUNTIF(DF23,">0")+COUNTIF(DL23,">0")+COUNTIF(DQ23,">0")+COUNTIF(DV23,">0")+COUNTIF(EA23,">0")+COUNTIF(EG23,">0")+COUNTIF(EM23,">0")+COUNTIF(EW23,">0")+COUNTIF(FB23,">0") -> 0
D24: 2 | N24: =L24*M24 -> 0 | S24: =Q24*R24 -> 0 | X24: =SUM(W24*V24) -> 0 | AC24: =AA24*AB24 -> 0 | AH24: =AF24*AG24 -> 0 | AM24: =AK24*AL24 -> 0 | AR24: =AP24*AQ24 -> 0 | AW24: =AU24*AV24 -> 0 | BC24: =BA24*BB24 -> 0 | BL24: =BJ24*BK24 -> 0 | BQ24: =BO24*BP24 -> 0 | BV24: =BT24*BU24 -> 0 | CA24: =BY24*BZ24 -> 0 | CF24: =CD24*CE24 -> 0 | CL24: =CJ24*CK24 -> 0 | CQ24: =CO24*CP24 -> 0 | CV24: =CT24*CU24 -> 0 | DB24: =CZ24*DA24 -> 0 | DH24: =DF24*DG24 -> 0 | DN24: =DL24*DM24 -> 0 | DS24: =DQ24*DR24 -> 0 | DX24: =DV24*DW24 -> 0 | EC24: =EA24*EB24 -> 0 | EI24: =EG24*EH24 -> 0 | EO24: =EM24*EN24 -> 0 | EY24: =EW24*EX24 -> 0 | FD24: =FB24*FC24 -> 0 | FG24: =L24+Q24+V24 -> 0 | FH24: =N24+S24+X24 -> 0 | FI24: =SUM(AA24+AF24+AK24+AP24+AU24+BA24+BJ24+BO24+BT24+BY24+CD24+CJ24+CO24+CT24+CZ24+DF24+DL24+DQ24+DV24+EA24+EG24+EM24+EW24+FB24) -> 0 | FJ24: =SUM(AC24+AH24+AM24+AR24+AW24+BC24+BL24+BQ24+BV24+CA24+CF24+CL24+CQ24+CV24+DB24+DH24+DN24+DS24+DX24+EC24+EI24+EO24+EY24+FD24) -> 0 | FK24: =FG24+FI24 -> 0 | FL24: =FH24+FJ24 -> 0 | FM24: =COUNTIF(L24,">0")+COUNTIF(Q24,">0")+COUNTIF(V24,">0")+COUNTIF(AA24,">0")+COUNTIF(AF24,">0")+COUNTIF(AK24,">0")+COUNTIF(AP24,">0")+COUNTIF(AU24,">0")+COUNTIF(BA24,">0")+COUNTIF(BJ24,">0")+COUNTIF(BO24,">0")+COUNTIF(BT24,">0")+COUNTIF(BY24,">0")+COUNTIF(CD24,">0")+COUNTIF(CJ24,">0")+COUNTIF(CO24,">0")+COUNTIF(CT24,">0")+COUNTIF(CZ24,">0")+COUNTIF(DF24,">0")+COUNTIF(DL24,">0")+COUNTIF(DQ24,">0")+COUNTIF(DV24,">0")+COUNTIF(EA24,">0")+COUNTIF(EG24,">0")+COUNTIF(EM24,">0")+COUNTIF(EW24,">0")+COUNTIF(FB24,">0") -> 0
D25: 2 | N25: =L25*M25 -> 0 | S25: =Q25*R25 -> 0 | X25: =SUM(W25*V25) -> 0 | AC25: =AA25*AB25 -> 0 | AH25: =AF25*AG25 -> 0 | AM25: =AK25*AL25 -> 0 | AR25: =AP25*AQ25 -> 0 | AW25: =AU25*AV25 -> 0 | BC25: =BA25*BB25 -> 0 | BL25: =BJ25*BK25 -> 0 | BQ25: =BO25*BP25 -> 0 | BV25: =BT25*BU25 -> 0 | CA25: =BY25*BZ25 -> 0 | CF25: =CD25*CE25 -> 0 | CL25: =CJ25*CK25 -> 0 | CQ25: =CO25*CP25 -> 0 | CV25: =CT25*CU25 -> 0 | CY25: 0 | DB25: =CZ25*DA25 -> 0 | DH25: =DF25*DG25 -> 0 | DN25: =DL25*DM25 -> 0 | DS25: =DQ25*DR25 -> 0 | DX25: =DV25*DW25 -> 0 | EC25: =EA25*EB25 -> 0 | EI25: =EG25*EH25 -> 0 | EO25: =EM25*EN25 -> 0 | EY25: =EW25*EX25 -> 0 | FD25: =FB25*FC25 -> 0 | FG25: =L25+Q25+V25 -> 0 | FH25: =N25+S25+X25 -> 0 | FI25: =SUM(AA25+AF25+AK25+AP25+AU25+BA25+BJ25+BO25+BT25+BY25+CD25+CJ25+CO25+CT25+CZ25+DF25+DL25+DQ25+DV25+EA25+EG25+EM25+EW25+FB25) -> 0 | FJ25: =SUM(AC25+AH25+AM25+AR25+AW25+BC25+BL25+BQ25+BV25+CA25+CF25+CL25+CQ25+CV25+DB25+DH25+DN25+DS25+DX25+EC25+EI25+EO25+EY25+FD25) -> 0 | FK25: =FG25+FI25 -> 0 | FL25: =FH25+FJ25 -> 0 | FM25: =COUNTIF(L25,">0")+COUNTIF(Q25,">0")+COUNTIF(V25,">0")+COUNTIF(AA25,">0")+COUNTIF(AF25,">0")+COUNTIF(AK25,">0")+COUNTIF(AP25,">0")+COUNTIF(AU25,">0")+COUNTIF(BA25,">0")+COUNTIF(BJ25,">0")+COUNTIF(BO25,">0")+COUNTIF(BT25,">0")+COUNTIF(BY25,">0")+COUNTIF(CD25,">0")+COUNTIF(CJ25,">0")+COUNTIF(CO25,">0")+COUNTIF(CT25,">0")+COUNTIF(CZ25,">0")+COUNTIF(DF25,">0")+COUNTIF(DL25,">0")+COUNTIF(DQ25,">0")+COUNTIF(DV25,">0")+COUNTIF(EA25,">0")+COUNTIF(EG25,">0")+COUNTIF(EM25,">0")+COUNTIF(EW25,">0")+COUNTIF(FB25,">0") -> 0
D26: 2 | N26: =L26*M26 -> 0 | S26: =Q26*R26 -> 0 | X26: =SUM(W26*V26) -> 0 | AC26: =AA26*AB26 -> 0 | AH26: =AF26*AG26 -> 0 | AM26: =AK26*AL26 -> 0 | AR26: =AP26*AQ26 -> 0 | AW26: =AU26*AV26 -> 0 | BC26: =BA26*BB26 -> 0 | BL26: =BJ26*BK26 -> 0 | BQ26: =BO26*BP26 -> 0 | BV26: =BT26*BU26 -> 0 | CA26: =BY26*BZ26 -> 0 | CF26: =CD26*CE26 -> 0 | CL26: =CJ26*CK26 -> 0 | CQ26: =CO26*CP26 -> 0 | CV26: =CT26*CU26 -> 0 | DB26: =CZ26*DA26 -> 0 | DH26: =DF26*DG26 -> 0 | DN26: =DL26*DM26 -> 0 | DS26: =DQ26*DR26 -> 0 | DX26: =DV26*DW26 -> 0 | EC26: =EA26*EB26 -> 0 | EI26: =EG26*EH26 -> 0 | EO26: =EM26*EN26 -> 0 | EY26: =EW26*EX26 -> 0 | FD26: =FB26*FC26 -> 0 | FG26: =L26+Q26+V26 -> 0 | FH26: =N26+S26+X26 -> 0 | FI26: =SUM(AA26+AF26+AK26+AP26+AU26+BA26+BJ26+BO26+BT26+BY26+CD26+CJ26+CO26+CT26+CZ26+DF26+DL26+DQ26+DV26+EA26+EG26+EM26+EW26+FB26) -> 0 | FJ26: =SUM(AC26+AH26+AM26+AR26+AW26+BC26+BL26+BQ26+BV26+CA26+CF26+CL26+CQ26+CV26+DB26+DH26+DN26+DS26+DX26+EC26+EI26+EO26+EY26+FD26) -> 0 | FK26: =FG26+FI26 -> 0 | FL26: =FH26+FJ26 -> 0 | FM26: =COUNTIF(L26,">0")+COUNTIF(Q26,">0")+COUNTIF(V26,">0")+COUNTIF(AA26,">0")+COUNTIF(AF26,">0")+COUNTIF(AK26,">0")+COUNTIF(AP26,">0")+COUNTIF(AU26,">0")+COUNTIF(BA26,">0")+COUNTIF(BJ26,">0")+COUNTIF(BO26,">0")+COUNTIF(BT26,">0")+COUNTIF(BY26,">0")+COUNTIF(CD26,">0")+COUNTIF(CJ26,">0")+COUNTIF(CO26,">0")+COUNTIF(CT26,">0")+COUNTIF(CZ26,">0")+COUNTIF(DF26,">0")+COUNTIF(DL26,">0")+COUNTIF(DQ26,">0")+COUNTIF(DV26,">0")+COUNTIF(EA26,">0")+COUNTIF(EG26,">0")+COUNTIF(EM26,">0")+COUNTIF(EW26,">0")+COUNTIF(FB26,">0") -> 0
D27: 2 | N27: =L27*M27 -> 0 | S27: =Q27*R27 -> 0 | X27: =SUM(W27*V27) -> 0 | AC27: =AA27*AB27 -> 0 | AH27: =AF27*AG27 -> 0 | AM27: =AK27*AL27 -> 0 | AR27: =AP27*AQ27 -> 0 | AW27: =AU27*AV27 -> 0 | BC27: =BA27*BB27 -> 0 | BL27: =BJ27*BK27 -> 0 | BQ27: =BO27*BP27 -> 0 | BV27: =BT27*BU27 -> 0 | CA27: =BY27*BZ27 -> 0 | CF27: =CD27*CE27 -> 0 | CL27: =CJ27*CK27 -> 0 | CQ27: =CO27*CP27 -> 0 | CV27: =CT27*CU27 -> 0 | CY27: 0 | DB27: =CZ27*DA27 -> 0 | DH27: =DF27*DG27 -> 0 | DN27: =DL27*DM27 -> 0 | DS27: =DQ27*DR27 -> 0 | DX27: =DV27*DW27 -> 0 | EC27: =EA27*EB27 -> 0 | EI27: =EG27*EH27 -> 0 | EO27: =EM27*EN27 -> 0 | EY27: =EW27*EX27 -> 0 | FD27: =FB27*FC27 -> 0 | FG27: =L27+Q27+V27 -> 0 | FH27: =N27+S27+X27 -> 0 | FI27: =SUM(AA27+AF27+AK27+AP27+AU27+BA27+BJ27+BO27+BT27+BY27+CD27+CJ27+CO27+CT27+CZ27+DF27+DL27+DQ27+DV27+EA27+EG27+EM27+EW27+FB27) -> 0 | FJ27: =SUM(AC27+AH27+AM27+AR27+AW27+BC27+BL27+BQ27+BV27+CA27+CF27+CL27+CQ27+CV27+DB27+DH27+DN27+DS27+DX27+EC27+EI27+EO27+EY27+FD27) -> 0 | FK27: =FG27+FI27 -> 0 | FL27: =FH27+FJ27 -> 0 | FM27: =COUNTIF(L27,">0")+COUNTIF(Q27,">0")+COUNTIF(V27,">0")+COUNTIF(AA27,">0")+COUNTIF(AF27,">0")+COUNTIF(AK27,">0")+COUNTIF(AP27,">0")+COUNTIF(AU27,">0")+COUNTIF(BA27,">0")+COUNTIF(BJ27,">0")+COUNTIF(BO27,">0")+COUNTIF(BT27,">0")+COUNTIF(BY27,">0")+COUNTIF(CD27,">0")+COUNTIF(CJ27,">0")+COUNTIF(CO27,">0")+COUNTIF(CT27,">0")+COUNTIF(CZ27,">0")+COUNTIF(DF27,">0")+COUNTIF(DL27,">0")+COUNTIF(DQ27,">0")+COUNTIF(DV27,">0")+COUNTIF(EA27,">0")+COUNTIF(EG27,">0")+COUNTIF(EM27,">0")+COUNTIF(EW27,">0")+COUNTIF(FB27,">0") -> 0
D28: 2 | N28: =L28*M28 -> 0 | S28: =Q28*R28 -> 0 | X28: =SUM(W28*V28) -> 0 | AC28: =AA28*AB28 -> 0 | AH28: =AF28*AG28 -> 0 | AM28: =AK28*AL28 -> 0 | AR28: =AP28*AQ28 -> 0 | AW28: =AU28*AV28 -> 0 | BC28: =BA28*BB28 -> 0 | BL28: =BJ28*BK28 -> 0 | BQ28: =BO28*BP28 -> 0 | BV28: =BT28*BU28 -> 0 | CA28: =BY28*BZ28 -> 0 | CF28: =CD28*CE28 -> 0 | CL28: =CJ28*CK28 -> 0 | CQ28: =CO28*CP28 -> 0 | CV28: =CT28*CU28 -> 0 | CY28: 0 | DB28: =CZ28*DA28 -> 0 | DH28: =DF28*DG28 -> 0 | DN28: =DL28*DM28 -> 0 | DS28: =DQ28*DR28 -> 0 | DX28: =DV28*DW28 -> 0 | EC28: =EA28*EB28 -> 0 | EI28: =EG28*EH28 -> 0 | EO28: =EM28*EN28 -> 0 | EY28: =EW28*EX28 -> 0 | FD28: =FB28*FC28 -> 0 | FG28: =L28+Q28+V28 -> 0 | FH28: =N28+S28+X28 -> 0 | FI28: =SUM(AA28+AF28+AK28+AP28+AU28+BA28+BJ28+BO28+BT28+BY28+CD28+CJ28+CO28+CT28+CZ28+DF28+DL28+DQ28+DV28+EA28+EG28+EM28+EW28+FB28) -> 0 | FJ28: =SUM(AC28+AH28+AM28+AR28+AW28+BC28+BL28+BQ28+BV28+CA28+CF28+CL28+CQ28+CV28+DB28+DH28+DN28+DS28+DX28+EC28+EI28+EO28+EY28+FD28) -> 0 | FK28: =FG28+FI28 -> 0 | FL28: =FH28+FJ28 -> 0 | FM28: =COUNTIF(L28,">0")+COUNTIF(Q28,">0")+COUNTIF(V28,">0")+COUNTIF(AA28,">0")+COUNTIF(AF28,">0")+COUNTIF(AK28,">0")+COUNTIF(AP28,">0")+COUNTIF(AU28,">0")+COUNTIF(BA28,">0")+COUNTIF(BJ28,">0")+COUNTIF(BO28,">0")+COUNTIF(BT28,">0")+COUNTIF(BY28,">0")+COUNTIF(CD28,">0")+COUNTIF(CJ28,">0")+COUNTIF(CO28,">0")+COUNTIF(CT28,">0")+COUNTIF(CZ28,">0")+COUNTIF(DF28,">0")+COUNTIF(DL28,">0")+COUNTIF(DQ28,">0")+COUNTIF(DV28,">0")+COUNTIF(EA28,">0")+COUNTIF(EG28,">0")+COUNTIF(EM28,">0")+COUNTIF(EW28,">0")+COUNTIF(FB28,">0") -> 0
D29: 2 | N29: =L29*M29 -> 0 | S29: =Q29*R29 -> 0 | X29: =SUM(W29*V29) -> 0 | AC29: =AA29*AB29 -> 0 | AH29: =AF29*AG29 -> 0 | AM29: =AK29*AL29 -> 0 | AR29: =AP29*AQ29 -> 0 | AW29: =AU29*AV29 -> 0 | BC29: =BA29*BB29 -> 0 | BL29: =BJ29*BK29 -> 0 | BQ29: =BO29*BP29 -> 0 | BV29: =BT29*BU29 -> 0 | CA29: =BY29*BZ29 -> 0 | CF29: =CD29*CE29 -> 0 | CL29: =CJ29*CK29 -> 0 | CQ29: =CO29*CP29 -> 0 | CV29: =CT29*CU29 -> 0 | CY29: 0 | DB29: =CZ29*DA29 -> 0 | DH29: =DF29*DG29 -> 0 | DN29: =DL29*DM29 -> 0 | DS29: =DQ29*DR29 -> 0 | DX29: =DV29*DW29 -> 0 | EC29: =EA29*EB29 -> 0 | EI29: =EG29*EH29 -> 0 | EO29: =EM29*EN29 -> 0 | EY29: =EW29*EX29 -> 0 | FD29: =FB29*FC29 -> 0 | FG29: =L29+Q29+V29 -> 0 | FH29: =N29+S29+X29 -> 0 | FI29: =SUM(AA29+AF29+AK29+AP29+AU29+BA29+BJ29+BO29+BT29+BY29+CD29+CJ29+CO29+CT29+CZ29+DF29+DL29+DQ29+DV29+EA29+EG29+EM29+EW29+FB29) -> 0 | FJ29: =SUM(AC29+AH29+AM29+AR29+AW29+BC29+BL29+BQ29+BV29+CA29+CF29+CL29+CQ29+CV29+DB29+DH29+DN29+DS29+DX29+EC29+EI29+EO29+EY29+FD29) -> 0 | FK29: =FG29+FI29 -> 0 | FL29: =FH29+FJ29 -> 0 | FM29: =COUNTIF(L29,">0")+COUNTIF(Q29,">0")+COUNTIF(V29,">0")+COUNTIF(AA29,">0")+COUNTIF(AF29,">0")+COUNTIF(AK29,">0")+COUNTIF(AP29,">0")+COUNTIF(AU29,">0")+COUNTIF(BA29,">0")+COUNTIF(BJ29,">0")+COUNTIF(BO29,">0")+COUNTIF(BT29,">0")+COUNTIF(BY29,">0")+COUNTIF(CD29,">0")+COUNTIF(CJ29,">0")+COUNTIF(CO29,">0")+COUNTIF(CT29,">0")+COUNTIF(CZ29,">0")+COUNTIF(DF29,">0")+COUNTIF(DL29,">0")+COUNTIF(DQ29,">0")+COUNTIF(DV29,">0")+COUNTIF(EA29,">0")+COUNTIF(EG29,">0")+COUNTIF(EM29,">0")+COUNTIF(EW29,">0")+COUNTIF(FB29,">0") -> 0
D30: 2 | N30: =L30*M30 -> 0 | S30: =Q30*R30 -> 0 | X30: =SUM(W30*V30) -> 0 | AC30: =AA30*AB30 -> 0 | AH30: =AF30*AG30 -> 0 | AM30: =AK30*AL30 -> 0 | AR30: =AP30*AQ30 -> 0 | AW30: =AU30*AV30 -> 0 | BC30: =BA30*BB30 -> 0 | BL30: =BJ30*BK30 -> 0 | BQ30: =BO30*BP30 -> 0 | BV30: =BT30*BU30 -> 0 | CA30: =BY30*BZ30 -> 0 | CF30: =CD30*CE30 -> 0 | CL30: =CJ30*CK30 -> 0 | CQ30: =CO30*CP30 -> 0 | CV30: =CT30*CU30 -> 0 | DB30: =CZ30*DA30 -> 0 | DH30: =DF30*DG30 -> 0 | DN30: =DL30*DM30 -> 0 | DS30: =DQ30*DR30 -> 0 | DX30: =DV30*DW30 -> 0 | EC30: =EA30*EB30 -> 0 | EI30: =EG30*EH30 -> 0 | EO30: =EM30*EN30 -> 0 | EY30: =EW30*EX30 -> 0 | FD30: =FB30*FC30 -> 0 | FG30: =L30+Q30+V30 -> 0 | FH30: =N30+S30+X30 -> 0 | FI30: =SUM(AA30+AF30+AK30+AP30+AU30+BA30+BJ30+BO30+BT30+BY30+CD30+CJ30+CO30+CT30+CZ30+DF30+DL30+DQ30+DV30+EA30+EG30+EM30+EW30+FB30) -> 0 | FJ30: =SUM(AC30+AH30+AM30+AR30+AW30+BC30+BL30+BQ30+BV30+CA30+CF30+CL30+CQ30+CV30+DB30+DH30+DN30+DS30+DX30+EC30+EI30+EO30+EY30+FD30) -> 0 | FK30: =FG30+FI30 -> 0 | FL30: =FH30+FJ30 -> 0 | FM30: =COUNTIF(L30,">0")+COUNTIF(Q30,">0")+COUNTIF(V30,">0")+COUNTIF(AA30,">0")+COUNTIF(AF30,">0")+COUNTIF(AK30,">0")+COUNTIF(AP30,">0")+COUNTIF(AU30,">0")+COUNTIF(BA30,">0")+COUNTIF(BJ30,">0")+COUNTIF(BO30,">0")+COUNTIF(BT30,">0")+COUNTIF(BY30,">0")+COUNTIF(CD30,">0")+COUNTIF(CJ30,">0")+COUNTIF(CO30,">0")+COUNTIF(CT30,">0")+COUNTIF(CZ30,">0")+COUNTIF(DF30,">0")+COUNTIF(DL30,">0")+COUNTIF(DQ30,">0")+COUNTIF(DV30,">0")+COUNTIF(EA30,">0")+COUNTIF(EG30,">0")+COUNTIF(EM30,">0")+COUNTIF(EW30,">0")+COUNTIF(FB30,">0") -> 0
D31: 2 | N31: =L31*M31 -> 0 | S31: =Q31*R31 -> 0 | X31: =SUM(W31*V31) -> 0 | AC31: =AA31*AB31 -> 0 | AH31: =AF31*AG31 -> 0 | AM31: =AK31*AL31 -> 0 | AR31: =AP31*AQ31 -> 0 | AW31: =AU31*AV31 -> 0 | BC31: =BA31*BB31 -> 0 | BL31: =BJ31*BK31 -> 0 | BQ31: =BO31*BP31 -> 0 | BV31: =BT31*BU31 -> 0 | CA31: =BY31*BZ31 -> 0 | CF31: =CD31*CE31 -> 0 | CL31: =CJ31*CK31 -> 0 | CQ31: =CO31*CP31 -> 0 | CV31: =CT31*CU31 -> 0 | CY31: 0 | DB31: =CZ31*DA31 -> 0 | DH31: =DF31*DG31 -> 0 | DN31: =DL31*DM31 -> 0 | DS31: =DQ31*DR31 -> 0 | DX31: =DV31*DW31 -> 0 | EC31: =EA31*EB31 -> 0 | EI31: =EG31*EH31 -> 0 | EO31: =EM31*EN31 -> 0 | EY31: =EW31*EX31 -> 0 | FD31: =FB31*FC31 -> 0 | FG31: =L31+Q31+V31 -> 0 | FH31: =N31+S31+X31 -> 0 | FI31: =SUM(AA31+AF31+AK31+AP31+AU31+BA31+BJ31+BO31+BT31+BY31+CD31+CJ31+CO31+CT31+CZ31+DF31+DL31+DQ31+DV31+EA31+EG31+EM31+EW31+FB31) -> 0 | FJ31: =SUM(AC31+AH31+AM31+AR31+AW31+BC31+BL31+BQ31+BV31+CA31+CF31+CL31+CQ31+CV31+DB31+DH31+DN31+DS31+DX31+EC31+EI31+EO31+EY31+FD31) -> 0 | FK31: =FG31+FI31 -> 0 | FL31: =FH31+FJ31 -> 0 | FM31: =COUNTIF(L31,">0")+COUNTIF(Q31,">0")+COUNTIF(V31,">0")+COUNTIF(AA31,">0")+COUNTIF(AF31,">0")+COUNTIF(AK31,">0")+COUNTIF(AP31,">0")+COUNTIF(AU31,">0")+COUNTIF(BA31,">0")+COUNTIF(BJ31,">0")+COUNTIF(BO31,">0")+COUNTIF(BT31,">0")+COUNTIF(BY31,">0")+COUNTIF(CD31,">0")+COUNTIF(CJ31,">0")+COUNTIF(CO31,">0")+COUNTIF(CT31,">0")+COUNTIF(CZ31,">0")+COUNTIF(DF31,">0")+COUNTIF(DL31,">0")+COUNTIF(DQ31,">0")+COUNTIF(DV31,">0")+COUNTIF(EA31,">0")+COUNTIF(EG31,">0")+COUNTIF(EM31,">0")+COUNTIF(EW31,">0")+COUNTIF(FB31,">0") -> 0
D32: 2 | N32: =L32*M32 -> 0 | S32: =Q32*R32 -> 0 | X32: =SUM(W32*V32) -> 0 | AC32: =AA32*AB32 -> 0 | AH32: =AF32*AG32 -> 0 | AM32: =AK32*AL32 -> 0 | AR32: =AP32*AQ32 -> 0 | AW32: =AU32*AV32 -> 0 | BC32: =BA32*BB32 -> 0 | BL32: =BJ32*BK32 -> 0 | BQ32: =BO32*BP32 -> 0 | BV32: =BT32*BU32 -> 0 | CA32: =BY32*BZ32 -> 0 | CF32: =CD32*CE32 -> 0 | CL32: =CJ32*CK32 -> 0 | CQ32: =CO32*CP32 -> 0 | CV32: =CT32*CU32 -> 0 | DB32: =CZ32*DA32 -> 0 | DH32: =DF32*DG32 -> 0 | DN32: =DL32*DM32 -> 0 | DS32: =DQ32*DR32 -> 0 | DX32: =DV32*DW32 -> 0 | EC32: =EA32*EB32 -> 0 | EI32: =EG32*EH32 -> 0 | EO32: =EM32*EN32 -> 0 | EY32: =EW32*EX32 -> 0 | FD32: =FB32*FC32 -> 0 | FG32: =L32+Q32+V32 -> 0 | FH32: =N32+S32+X32 -> 0 | FI32: =SUM(AA32+AF32+AK32+AP32+AU32+BA32+BJ32+BO32+BT32+BY32+CD32+CJ32+CO32+CT32+CZ32+DF32+DL32+DQ32+DV32+EA32+EG32+EM32+EW32+FB32) -> 0 | FJ32: =SUM(AC32+AH32+AM32+AR32+AW32+BC32+BL32+BQ32+BV32+CA32+CF32+CL32+CQ32+CV32+DB32+DH32+DN32+DS32+DX32+EC32+EI32+EO32+EY32+FD32) -> 0 | FK32: =FG32+FI32 -> 0 | FL32: =FH32+FJ32 -> 0 | FM32: =COUNTIF(L32,">0")+COUNTIF(Q32,">0")+COUNTIF(V32,">0")+COUNTIF(AA32,">0")+COUNTIF(AF32,">0")+COUNTIF(AK32,">0")+COUNTIF(AP32,">0")+COUNTIF(AU32,">0")+COUNTIF(BA32,">0")+COUNTIF(BJ32,">0")+COUNTIF(BO32,">0")+COUNTIF(BT32,">0")+COUNTIF(BY32,">0")+COUNTIF(CD32,">0")+COUNTIF(CJ32,">0")+COUNTIF(CO32,">0")+COUNTIF(CT32,">0")+COUNTIF(CZ32,">0")+COUNTIF(DF32,">0")+COUNTIF(DL32,">0")+COUNTIF(DQ32,">0")+COUNTIF(DV32,">0")+COUNTIF(EA32,">0")+COUNTIF(EG32,">0")+COUNTIF(EM32,">0")+COUNTIF(EW32,">0")+COUNTIF(FB32,">0") -> 0
D33: 2 | N33: =L33*M33 -> 0 | S33: =Q33*R33 -> 0 | X33: =SUM(W33*V33) -> 0 | AC33: =AA33*AB33 -> 0 | AH33: =AF33*AG33 -> 0 | AM33: =AK33*AL33 -> 0 | AR33: =AP33*AQ33 -> 0 | AW33: =AU33*AV33 -> 0 | BC33: =BA33*BB33 -> 0 | BL33: =BJ33*BK33 -> 0 | BQ33: =BO33*BP33 -> 0 | BV33: =BT33*BU33 -> 0 | CA33: =BY33*BZ33 -> 0 | CF33: =CD33*CE33 -> 0 | CL33: =CJ33*CK33 -> 0 | CQ33: =CO33*CP33 -> 0 | CV33: =CT33*CU33 -> 0 | DB33: =CZ33*DA33 -> 0 | DH33: =DF33*DG33 -> 0 | DN33: =DL33*DM33 -> 0 | DS33: =DQ33*DR33 -> 0 | DX33: =DV33*DW33 -> 0 | EC33: =EA33*EB33 -> 0 | EI33: =EG33*EH33 -> 0 | EO33: =EM33*EN33 -> 0 | EY33: =EW33*EX33 -> 0 | FD33: =FB33*FC33 -> 0 | FG33: =L33+Q33+V33 -> 0 | FH33: =N33+S33+X33 -> 0 | FI33: =SUM(AA33+AF33+AK33+AP33+AU33+BA33+BJ33+BO33+BT33+BY33+CD33+CJ33+CO33+CT33+CZ33+DF33+DL33+DQ33+DV33+EA33+EG33+EM33+EW33+FB33) -> 0 | FJ33: =SUM(AC33+AH33+AM33+AR33+AW33+BC33+BL33+BQ33+BV33+CA33+CF33+CL33+CQ33+CV33+DB33+DH33+DN33+DS33+DX33+EC33+EI33+EO33+EY33+FD33) -> 0 | FK33: =FG33+FI33 -> 0 | FL33: =FH33+FJ33 -> 0 | FM33: =COUNTIF(L33,">0")+COUNTIF(Q33,">0")+COUNTIF(V33,">0")+COUNTIF(AA33,">0")+COUNTIF(AF33,">0")+COUNTIF(AK33,">0")+COUNTIF(AP33,">0")+COUNTIF(AU33,">0")+COUNTIF(BA33,">0")+COUNTIF(BJ33,">0")+COUNTIF(BO33,">0")+COUNTIF(BT33,">0")+COUNTIF(BY33,">0")+COUNTIF(CD33,">0")+COUNTIF(CJ33,">0")+COUNTIF(CO33,">0")+COUNTIF(CT33,">0")+COUNTIF(CZ33,">0")+COUNTIF(DF33,">0")+COUNTIF(DL33,">0")+COUNTIF(DQ33,">0")+COUNTIF(DV33,">0")+COUNTIF(EA33,">0")+COUNTIF(EG33,">0")+COUNTIF(EM33,">0")+COUNTIF(EW33,">0")+COUNTIF(FB33,">0") -> 0
D34: 2 | N34: =L34*M34 -> 0 | S34: =Q34*R34 -> 0 | X34: =SUM(W34*V34) -> 0 | AC34: =AA34*AB34 -> 0 | AH34: =AF34*AG34 -> 0 | AM34: =AK34*AL34 -> 0 | AR34: =AP34*AQ34 -> 0 | AW34: =AU34*AV34 -> 0 | BC34: =BA34*BB34 -> 0 | BL34: =BJ34*BK34 -> 0 | BQ34: =BO34*BP34 -> 0 | BV34: =BT34*BU34 -> 0 | CA34: =BY34*BZ34 -> 0 | CF34: =CD34*CE34 -> 0 | CL34: =CJ34*CK34 -> 0 | CQ34: =CO34*CP34 -> 0 | CV34: =CT34*CU34 -> 0 | DB34: =CZ34*DA34 -> 0 | DH34: =DF34*DG34 -> 0 | DN34: =DL34*DM34 -> 0 | DS34: =DQ34*DR34 -> 0 | DX34: =DV34*DW34 -> 0 | EC34: =EA34*EB34 -> 0 | EI34: =EG34*EH34 -> 0 | EO34: =EM34*EN34 -> 0 | EY34: =EW34*EX34 -> 0 | FD34: =FB34*FC34 -> 0 | FG34: =L34+Q34+V34 -> 0 | FH34: =N34+S34+X34 -> 0 | FI34: =SUM(AA34+AF34+AK34+AP34+AU34+BA34+BJ34+BO34+BT34+BY34+CD34+CJ34+CO34+CT34+CZ34+DF34+DL34+DQ34+DV34+EA34+EG34+EM34+EW34+FB34) -> 0 | FJ34: =SUM(AC34+AH34+AM34+AR34+AW34+BC34+BL34+BQ34+BV34+CA34+CF34+CL34+CQ34+CV34+DB34+DH34+DN34+DS34+DX34+EC34+EI34+EO34+EY34+FD34) -> 0 | FK34: =FG34+FI34 -> 0 | FL34: =FH34+FJ34 -> 0 | FM34: =COUNTIF(L34,">0")+COUNTIF(Q34,">0")+COUNTIF(V34,">0")+COUNTIF(AA34,">0")+COUNTIF(AF34,">0")+COUNTIF(AK34,">0")+COUNTIF(AP34,">0")+COUNTIF(AU34,">0")+COUNTIF(BA34,">0")+COUNTIF(BJ34,">0")+COUNTIF(BO34,">0")+COUNTIF(BT34,">0")+COUNTIF(BY34,">0")+COUNTIF(CD34,">0")+COUNTIF(CJ34,">0")+COUNTIF(CO34,">0")+COUNTIF(CT34,">0")+COUNTIF(CZ34,">0")+COUNTIF(DF34,">0")+COUNTIF(DL34,">0")+COUNTIF(DQ34,">0")+COUNTIF(DV34,">0")+COUNTIF(EA34,">0")+COUNTIF(EG34,">0")+COUNTIF(EM34,">0")+COUNTIF(EW34,">0")+COUNTIF(FB34,">0") -> 0
D35: 2 | N35: =L35*M35 -> 0 | S35: =Q35*R35 -> 0 | X35: =SUM(W35*V35) -> 0 | AC35: =AA35*AB35 -> 0 | AH35: =AF35*AG35 -> 0 | AM35: =AK35*AL35 -> 0 | AR35: =AP35*AQ35 -> 0 | AW35: =AU35*AV35 -> 0 | BC35: =BA35*BB35 -> 0 | BL35: =BJ35*BK35 -> 0 | BQ35: =BO35*BP35 -> 0 | BV35: =BT35*BU35 -> 0 | CA35: =BY35*BZ35 -> 0 | CF35: =CD35*CE35 -> 0 | CL35: =CJ35*CK35 -> 0 | CQ35: =CO35*CP35 -> 0 | CV35: =CT35*CU35 -> 0 | DB35: =CZ35*DA35 -> 0 | DH35: =DF35*DG35 -> 0 | DN35: =DL35*DM35 -> 0 | DS35: =DQ35*DR35 -> 0 | DX35: =DV35*DW35 -> 0 | EC35: =EA35*EB35 -> 0 | EI35: =EG35*EH35 -> 0 | EO35: =EM35*EN35 -> 0 | EY35: =EW35*EX35 -> 0 | FD35: =FB35*FC35 -> 0 | FG35: =L35+Q35+V35 -> 0 | FH35: =N35+S35+X35 -> 0 | FI35: =SUM(AA35+AF35+AK35+AP35+AU35+BA35+BJ35+BO35+BT35+BY35+CD35+CJ35+CO35+CT35+CZ35+DF35+DL35+DQ35+DV35+EA35+EG35+EM35+EW35+FB35) -> 0 | FJ35: =SUM(AC35+AH35+AM35+AR35+AW35+BC35+BL35+BQ35+BV35+CA35+CF35+CL35+CQ35+CV35+DB35+DH35+DN35+DS35+DX35+EC35+EI35+EO35+EY35+FD35) -> 0 | FK35: =FG35+FI35 -> 0 | FL35: =FH35+FJ35 -> 0 | FM35: =COUNTIF(L35,">0")+COUNTIF(Q35,">0")+COUNTIF(V35,">0")+COUNTIF(AA35,">0")+COUNTIF(AF35,">0")+COUNTIF(AK35,">0")+COUNTIF(AP35,">0")+COUNTIF(AU35,">0")+COUNTIF(BA35,">0")+COUNTIF(BJ35,">0")+COUNTIF(BO35,">0")+COUNTIF(BT35,">0")+COUNTIF(BY35,">0")+COUNTIF(CD35,">0")+COUNTIF(CJ35,">0")+COUNTIF(CO35,">0")+COUNTIF(CT35,">0")+COUNTIF(CZ35,">0")+COUNTIF(DF35,">0")+COUNTIF(DL35,">0")+COUNTIF(DQ35,">0")+COUNTIF(DV35,">0")+COUNTIF(EA35,">0")+COUNTIF(EG35,">0")+COUNTIF(EM35,">0")+COUNTIF(EW35,">0")+COUNTIF(FB35,">0") -> 0
D36: 2 | N36: =L36*M36 -> 0 | S36: =Q36*R36 -> 0 | X36: =SUM(W36*V36) -> 0 | AC36: =AA36*AB36 -> 0 | AH36: =AF36*AG36 -> 0 | AM36: =AK36*AL36 -> 0 | AR36: =AP36*AQ36 -> 0 | AW36: =AU36*AV36 -> 0 | BC36: =BA36*BB36 -> 0 | BL36: =BJ36*BK36 -> 0 | BQ36: =BO36*BP36 -> 0 | BV36: =BT36*BU36 -> 0 | CA36: =BY36*BZ36 -> 0 | CF36: =CD36*CE36 -> 0 | CL36: =CJ36*CK36 -> 0 | CQ36: =CO36*CP36 -> 0 | CV36: =CT36*CU36 -> 0 | DB36: =CZ36*DA36 -> 0 | DH36: =DF36*DG36 -> 0 | DN36: =DL36*DM36 -> 0 | DS36: =DQ36*DR36 -> 0 | DX36: =DV36*DW36 -> 0 | EC36: =EA36*EB36 -> 0 | EI36: =EG36*EH36 -> 0 | EO36: =EM36*EN36 -> 0 | EY36: =EW36*EX36 -> 0 | FD36: =FB36*FC36 -> 0 | FG36: =L36+Q36+V36 -> 0 | FH36: =N36+S36+X36 -> 0 | FI36: =SUM(AA36+AF36+AK36+AP36+AU36+BA36+BJ36+BO36+BT36+BY36+CD36+CJ36+CO36+CT36+CZ36+DF36+DL36+DQ36+DV36+EA36+EG36+EM36+EW36+FB36) -> 0 | FJ36: =SUM(AC36+AH36+AM36+AR36+AW36+BC36+BL36+BQ36+BV36+CA36+CF36+CL36+CQ36+CV36+DB36+DH36+DN36+DS36+DX36+EC36+EI36+EO36+EY36+FD36) -> 0 | FK36: =FG36+FI36 -> 0 | FL36: =FH36+FJ36 -> 0 | FM36: =COUNTIF(L36,">0")+COUNTIF(Q36,">0")+COUNTIF(V36,">0")+COUNTIF(AA36,">0")+COUNTIF(AF36,">0")+COUNTIF(AK36,">0")+COUNTIF(AP36,">0")+COUNTIF(AU36,">0")+COUNTIF(BA36,">0")+COUNTIF(BJ36,">0")+COUNTIF(BO36,">0")+COUNTIF(BT36,">0")+COUNTIF(BY36,">0")+COUNTIF(CD36,">0")+COUNTIF(CJ36,">0")+COUNTIF(CO36,">0")+COUNTIF(CT36,">0")+COUNTIF(CZ36,">0")+COUNTIF(DF36,">0")+COUNTIF(DL36,">0")+COUNTIF(DQ36,">0")+COUNTIF(DV36,">0")+COUNTIF(EA36,">0")+COUNTIF(EG36,">0")+COUNTIF(EM36,">0")+COUNTIF(EW36,">0")+COUNTIF(FB36,">0") -> 0
D37: 2 | N37: =L37*M37 -> 0 | S37: =Q37*R37 -> 0 | X37: =SUM(W37*V37) -> 0 | AC37: =AA37*AB37 -> 0 | AH37: =AF37*AG37 -> 0 | AM37: =AK37*AL37 -> 0 | AR37: =AP37*AQ37 -> 0 | AW37: =AU37*AV37 -> 0 | BC37: =BA37*BB37 -> 0 | BL37: =BJ37*BK37 -> 0 | BQ37: =BO37*BP37 -> 0 | BV37: =BT37*BU37 -> 0 | CA37: =BY37*BZ37 -> 0 | CF37: =CD37*CE37 -> 0 | CL37: =CJ37*CK37 -> 0 | CQ37: =CO37*CP37 -> 0 | CV37: =CT37*CU37 -> 0 | DB37: =CZ37*DA37 -> 0 | DH37: =DF37*DG37 -> 0 | DN37: =DL37*DM37 -> 0 | DS37: =DQ37*DR37 -> 0 | DX37: =DV37*DW37 -> 0 | EC37: =EA37*EB37 -> 0 | EI37: =EG37*EH37 -> 0 | EO37: =EM37*EN37 -> 0 | EY37: =EW37*EX37 -> 0 | FD37: =FB37*FC37 -> 0 | FG37: =L37+Q37+V37 -> 0 | FH37: =N37+S37+X37 -> 0 | FI37: =SUM(AA37+AF37+AK37+AP37+AU37+BA37+BJ37+BO37+BT37+BY37+CD37+CJ37+CO37+CT37+CZ37+DF37+DL37+DQ37+DV37+EA37+EG37+EM37+EW37+FB37) -> 0 | FJ37: =SUM(AC37+AH37+AM37+AR37+AW37+BC37+BL37+BQ37+BV37+CA37+CF37+CL37+CQ37+CV37+DB37+DH37+DN37+DS37+DX37+EC37+EI37+EO37+EY37+FD37) -> 0 | FK37: =FG37+FI37 -> 0 | FL37: =FH37+FJ37 -> 0 | FM37: =COUNTIF(L37,">0")+COUNTIF(Q37,">0")+COUNTIF(V37,">0")+COUNTIF(AA37,">0")+COUNTIF(AF37,">0")+COUNTIF(AK37,">0")+COUNTIF(AP37,">0")+COUNTIF(AU37,">0")+COUNTIF(BA37,">0")+COUNTIF(BJ37,">0")+COUNTIF(BO37,">0")+COUNTIF(BT37,">0")+COUNTIF(BY37,">0")+COUNTIF(CD37,">0")+COUNTIF(CJ37,">0")+COUNTIF(CO37,">0")+COUNTIF(CT37,">0")+COUNTIF(CZ37,">0")+COUNTIF(DF37,">0")+COUNTIF(DL37,">0")+COUNTIF(DQ37,">0")+COUNTIF(DV37,">0")+COUNTIF(EA37,">0")+COUNTIF(EG37,">0")+COUNTIF(EM37,">0")+COUNTIF(EW37,">0")+COUNTIF(FB37,">0") -> 0
D38: 2 | N38: =L38*M38 -> 0 | S38: =Q38*R38 -> 0 | X38: =SUM(W38*V38) -> 0 | AC38: =AA38*AB38 -> 0 | AH38: =AF38*AG38 -> 0 | AM38: =AK38*AL38 -> 0 | AR38: =AP38*AQ38 -> 0 | AW38: =AU38*AV38 -> 0 | BC38: =BA38*BB38 -> 0 | BL38: =BJ38*BK38 -> 0 | BQ38: =BO38*BP38 -> 0 | BV38: =BT38*BU38 -> 0 | CA38: =BY38*BZ38 -> 0 | CF38: =CD38*CE38 -> 0 | CL38: =CJ38*CK38 -> 0 | CQ38: =CO38*CP38 -> 0 | CV38: =CT38*CU38 -> 0 | DB38: =CZ38*DA38 -> 0 | DH38: =DF38*DG38 -> 0 | DN38: =DL38*DM38 -> 0 | DS38: =DQ38*DR38 -> 0 | DX38: =DV38*DW38 -> 0 | EC38: =EA38*EB38 -> 0 | EI38: =EG38*EH38 -> 0 | EO38: =EM38*EN38 -> 0 | EY38: =EW38*EX38 -> 0 | FD38: =FB38*FC38 -> 0 | FG38: =L38+Q38+V38 -> 0 | FH38: =N38+S38+X38 -> 0 | FI38: =SUM(AA38+AF38+AK38+AP38+AU38+BA38+BJ38+BO38+BT38+BY38+CD38+CJ38+CO38+CT38+CZ38+DF38+DL38+DQ38+DV38+EA38+EG38+EM38+EW38+FB38) -> 0 | FJ38: =SUM(AC38+AH38+AM38+AR38+AW38+BC38+BL38+BQ38+BV38+CA38+CF38+CL38+CQ38+CV38+DB38+DH38+DN38+DS38+DX38+EC38+EI38+EO38+EY38+FD38) -> 0 | FK38: =FG38+FI38 -> 0 | FL38: =FH38+FJ38 -> 0 | FM38: =COUNTIF(L38,">0")+COUNTIF(Q38,">0")+COUNTIF(V38,">0")+COUNTIF(AA38,">0")+COUNTIF(AF38,">0")+COUNTIF(AK38,">0")+COUNTIF(AP38,">0")+COUNTIF(AU38,">0")+COUNTIF(BA38,">0")+COUNTIF(BJ38,">0")+COUNTIF(BO38,">0")+COUNTIF(BT38,">0")+COUNTIF(BY38,">0")+COUNTIF(CD38,">0")+COUNTIF(CJ38,">0")+COUNTIF(CO38,">0")+COUNTIF(CT38,">0")+COUNTIF(CZ38,">0")+COUNTIF(DF38,">0")+COUNTIF(DL38,">0")+COUNTIF(DQ38,">0")+COUNTIF(DV38,">0")+COUNTIF(EA38,">0")+COUNTIF(EG38,">0")+COUNTIF(EM38,">0")+COUNTIF(EW38,">0")+COUNTIF(FB38,">0") -> 0
D39: 2 | N39: =L39*M39 -> 0 | S39: =Q39*R39 -> 0 | X39: =SUM(W39*V39) -> 0 | AC39: =AA39*AB39 -> 0 | AH39: =AF39*AG39 -> 0 | AM39: =AK39*AL39 -> 0 | AR39: =AP39*AQ39 -> 0 | AW39: =AU39*AV39 -> 0 | BC39: =BA39*BB39 -> 0 | BL39: =BJ39*BK39 -> 0 | BQ39: =BO39*BP39 -> 0 | BV39: =BT39*BU39 -> 0 | CA39: =BY39*BZ39 -> 0 | CF39: =CD39*CE39 -> 0 | CL39: =CJ39*CK39 -> 0 | CQ39: =CO39*CP39 -> 0 | CV39: =CT39*CU39 -> 0 | DB39: =CZ39*DA39 -> 0 | DH39: =DF39*DG39 -> 0 | DN39: =DL39*DM39 -> 0 | DS39: =DQ39*DR39 -> 0 | DX39: =DV39*DW39 -> 0 | EC39: =EA39*EB39 -> 0 | EI39: =EG39*EH39 -> 0 | EO39: =EM39*EN39 -> 0 | EY39: =EW39*EX39 -> 0 | FD39: =FB39*FC39 -> 0 | FG39: =L39+Q39+V39 -> 0 | FH39: =N39+S39+X39 -> 0 | FI39: =SUM(AA39+AF39+AK39+AP39+AU39+BA39+BJ39+BO39+BT39+BY39+CD39+CJ39+CO39+CT39+CZ39+DF39+DL39+DQ39+DV39+EA39+EG39+EM39+EW39+FB39) -> 0 | FJ39: =SUM(AC39+AH39+AM39+AR39+AW39+BC39+BL39+BQ39+BV39+CA39+CF39+CL39+CQ39+CV39+DB39+DH39+DN39+DS39+DX39+EC39+EI39+EO39+EY39+FD39) -> 0 | FK39: =FG39+FI39 -> 0 | FL39: =FH39+FJ39 -> 0 | FM39: =COUNTIF(L39,">0")+COUNTIF(Q39,">0")+COUNTIF(V39,">0")+COUNTIF(AA39,">0")+COUNTIF(AF39,">0")+COUNTIF(AK39,">0")+COUNTIF(AP39,">0")+COUNTIF(AU39,">0")+COUNTIF(BA39,">0")+COUNTIF(BJ39,">0")+COUNTIF(BO39,">0")+COUNTIF(BT39,">0")+COUNTIF(BY39,">0")+COUNTIF(CD39,">0")+COUNTIF(CJ39,">0")+COUNTIF(CO39,">0")+COUNTIF(CT39,">0")+COUNTIF(CZ39,">0")+COUNTIF(DF39,">0")+COUNTIF(DL39,">0")+COUNTIF(DQ39,">0")+COUNTIF(DV39,">0")+COUNTIF(EA39,">0")+COUNTIF(EG39,">0")+COUNTIF(EM39,">0")+COUNTIF(EW39,">0")+COUNTIF(FB39,">0") -> 0
D40: 2 | N40: =L40*M40 -> 0 | S40: =Q40*R40 -> 0 | X40: =SUM(W40*V40) -> 0 | AC40: =AA40*AB40 -> 0 | AH40: =AF40*AG40 -> 0 | AM40: =AK40*AL40 -> 0 | AR40: =AP40*AQ40 -> 0 | AW40: =AU40*AV40 -> 0 | BC40: =BA40*BB40 -> 0 | BL40: =BJ40*BK40 -> 0 | BQ40: =BO40*BP40 -> 0 | BV40: =BT40*BU40 -> 0 | CA40: =BY40*BZ40 -> 0 | CF40: =CD40*CE40 -> 0 | CL40: =CJ40*CK40 -> 0 | CQ40: =CO40*CP40 -> 0 | CV40: =CT40*CU40 -> 0 | DB40: =CZ40*DA40 -> 0 | DH40: =DF40*DG40 -> 0 | DN40: =DL40*DM40 -> 0 | DS40: =DQ40*DR40 -> 0 | DX40: =DV40*DW40 -> 0 | EC40: =EA40*EB40 -> 0 | EI40: =EG40*EH40 -> 0 | EO40: =EM40*EN40 -> 0 | EY40: =EW40*EX40 -> 0 | FD40: =FB40*FC40 -> 0 | FG40: =L40+Q40+V40 -> 0 | FH40: =N40+S40+X40 -> 0 | FI40: =SUM(AA40+AF40+AK40+AP40+AU40+BA40+BJ40+BO40+BT40+BY40+CD40+CJ40+CO40+CT40+CZ40+DF40+DL40+DQ40+DV40+EA40+EG40+EM40+EW40+FB40) -> 0 | FJ40: =SUM(AC40+AH40+AM40+AR40+AW40+BC40+BL40+BQ40+BV40+CA40+CF40+CL40+CQ40+CV40+DB40+DH40+DN40+DS40+DX40+EC40+EI40+EO40+EY40+FD40) -> 0 | FK40: =FG40+FI40 -> 0 | FL40: =FH40+FJ40 -> 0 | FM40: =COUNTIF(L40,">0")+COUNTIF(Q40,">0")+COUNTIF(V40,">0")+COUNTIF(AA40,">0")+COUNTIF(AF40,">0")+COUNTIF(AK40,">0")+COUNTIF(AP40,">0")+COUNTIF(AU40,">0")+COUNTIF(BA40,">0")+COUNTIF(BJ40,">0")+COUNTIF(BO40,">0")+COUNTIF(BT40,">0")+COUNTIF(BY40,">0")+COUNTIF(CD40,">0")+COUNTIF(CJ40,">0")+COUNTIF(CO40,">0")+COUNTIF(CT40,">0")+COUNTIF(CZ40,">0")+COUNTIF(DF40,">0")+COUNTIF(DL40,">0")+COUNTIF(DQ40,">0")+COUNTIF(DV40,">0")+COUNTIF(EA40,">0")+COUNTIF(EG40,">0")+COUNTIF(EM40,">0")+COUNTIF(EW40,">0")+COUNTIF(FB40,">0") -> 0
D41: 2 | N41: =L41*M41 -> 0 | S41: =Q41*R41 -> 0 | X41: =SUM(W41*V41) -> 0 | AC41: =AA41*AB41 -> 0 | AH41: =AF41*AG41 -> 0 | AM41: =AK41*AL41 -> 0 | AR41: =AP41*AQ41 -> 0 | AW41: =AU41*AV41 -> 0 | BC41: =BA41*BB41 -> 0 | BL41: =BJ41*BK41 -> 0 | BQ41: =BO41*BP41 -> 0 | BV41: =BT41*BU41 -> 0 | CA41: =BY41*BZ41 -> 0 | CF41: =CD41*CE41 -> 0 | CL41: =CJ41*CK41 -> 0 | CQ41: =CO41*CP41 -> 0 | CV41: =CT41*CU41 -> 0 | DB41: =CZ41*DA41 -> 0 | DH41: =DF41*DG41 -> 0 | DN41: =DL41*DM41 -> 0 | DS41: =DQ41*DR41 -> 0 | DX41: =DV41*DW41 -> 0 | EC41: =EA41*EB41 -> 0 | EI41: =EG41*EH41 -> 0 | EO41: =EM41*EN41 -> 0 | EY41: =EW41*EX41 -> 0 | FD41: =FB41*FC41 -> 0 | FG41: =L41+Q41+V41 -> 0 | FH41: =N41+S41+X41 -> 0 | FI41: =SUM(AA41+AF41+AK41+AP41+AU41+BA41+BJ41+BO41+BT41+BY41+CD41+CJ41+CO41+CT41+CZ41+DF41+DL41+DQ41+DV41+EA41+EG41+EM41+EW41+FB41) -> 0 | FJ41: =SUM(AC41+AH41+AM41+AR41+AW41+BC41+BL41+BQ41+BV41+CA41+CF41+CL41+CQ41+CV41+DB41+DH41+DN41+DS41+DX41+EC41+EI41+EO41+EY41+FD41) -> 0 | FK41: =FG41+FI41 -> 0 | FL41: =FH41+FJ41 -> 0 | FM41: =COUNTIF(L41,">0")+COUNTIF(Q41,">0")+COUNTIF(V41,">0")+COUNTIF(AA41,">0")+COUNTIF(AF41,">0")+COUNTIF(AK41,">0")+COUNTIF(AP41,">0")+COUNTIF(AU41,">0")+COUNTIF(BA41,">0")+COUNTIF(BJ41,">0")+COUNTIF(BO41,">0")+COUNTIF(BT41,">0")+COUNTIF(BY41,">0")+COUNTIF(CD41,">0")+COUNTIF(CJ41,">0")+COUNTIF(CO41,">0")+COUNTIF(CT41,">0")+COUNTIF(CZ41,">0")+COUNTIF(DF41,">0")+COUNTIF(DL41,">0")+COUNTIF(DQ41,">0")+COUNTIF(DV41,">0")+COUNTIF(EA41,">0")+COUNTIF(EG41,">0")+COUNTIF(EM41,">0")+COUNTIF(EW41,">0")+COUNTIF(FB41,">0") -> 0
D42: 2 | N42: =L42*M42 -> 0 | S42: =Q42*R42 -> 0 | X42: =SUM(W42*V42) -> 0 | AC42: =AA42*AB42 -> 0 | AH42: =AF42*AG42 -> 0 | AM42: =AK42*AL42 -> 0 | AR42: =AP42*AQ42 -> 0 | AW42: =AU42*AV42 -> 0 | BC42: =BA42*BB42 -> 0 | BL42: =BJ42*BK42 -> 0 | BQ42: =BO42*BP42 -> 0 | BV42: =BT42*BU42 -> 0 | CA42: =BY42*BZ42 -> 0 | CF42: =CD42*CE42 -> 0 | CL42: =CJ42*CK42 -> 0 | CQ42: =CO42*CP42 -> 0 | CV42: =CT42*CU42 -> 0 | DB42: =CZ42*DA42 -> 0 | DH42: =DF42*DG42 -> 0 | DN42: =DL42*DM42 -> 0 | DS42: =DQ42*DR42 -> 0 | DX42: =DV42*DW42 -> 0 | EC42: =EA42*EB42 -> 0 | EI42: =EG42*EH42 -> 0 | EO42: =EM42*EN42 -> 0 | EY42: =EW42*EX42 -> 0 | FD42: =FB42*FC42 -> 0 | FG42: =L42+Q42+V42 -> 0 | FH42: =N42+S42+X42 -> 0 | FI42: =SUM(AA42+AF42+AK42+AP42+AU42+BA42+BJ42+BO42+BT42+BY42+CD42+CJ42+CO42+CT42+CZ42+DF42+DL42+DQ42+DV42+EA42+EG42+EM42+EW42+FB42) -> 0 | FJ42: =SUM(AC42+AH42+AM42+AR42+AW42+BC42+BL42+BQ42+BV42+CA42+CF42+CL42+CQ42+CV42+DB42+DH42+DN42+DS42+DX42+EC42+EI42+EO42+EY42+FD42) -> 0 | FK42: =FG42+FI42 -> 0 | FL42: =FH42+FJ42 -> 0 | FM42: =COUNTIF(L42,">0")+COUNTIF(Q42,">0")+COUNTIF(V42,">0")+COUNTIF(AA42,">0")+COUNTIF(AF42,">0")+COUNTIF(AK42,">0")+COUNTIF(AP42,">0")+COUNTIF(AU42,">0")+COUNTIF(BA42,">0")+COUNTIF(BJ42,">0")+COUNTIF(BO42,">0")+COUNTIF(BT42,">0")+COUNTIF(BY42,">0")+COUNTIF(CD42,">0")+COUNTIF(CJ42,">0")+COUNTIF(CO42,">0")+COUNTIF(CT42,">0")+COUNTIF(CZ42,">0")+COUNTIF(DF42,">0")+COUNTIF(DL42,">0")+COUNTIF(DQ42,">0")+COUNTIF(DV42,">0")+COUNTIF(EA42,">0")+COUNTIF(EG42,">0")+COUNTIF(EM42,">0")+COUNTIF(EW42,">0")+COUNTIF(FB42,">0") -> 0
D43: 2 | N43: =L43*M43 -> 0 | S43: =Q43*R43 -> 0 | X43: =SUM(W43*V43) -> 0 | AC43: =AA43*AB43 -> 0 | AH43: =AF43*AG43 -> 0 | AM43: =AK43*AL43 -> 0 | AR43: =AP43*AQ43 -> 0 | AW43: =AU43*AV43 -> 0 | BC43: =BA43*BB43 -> 0 | BL43: =BJ43*BK43 -> 0 | BQ43: =BO43*BP43 -> 0 | BV43: =BT43*BU43 -> 0 | CA43: =BY43*BZ43 -> 0 | CF43: =CD43*CE43 -> 0 | CL43: =CJ43*CK43 -> 0 | CQ43: =CO43*CP43 -> 0 | CV43: =CT43*CU43 -> 0 | DB43: =CZ43*DA43 -> 0 | DH43: =DF43*DG43 -> 0 | DN43: =DL43*DM43 -> 0 | DS43: =DQ43*DR43 -> 0 | DX43: =DV43*DW43 -> 0 | EC43: =EA43*EB43 -> 0 | EI43: =EG43*EH43 -> 0 | EO43: =EM43*EN43 -> 0 | EY43: =EW43*EX43 -> 0 | FD43: =FB43*FC43 -> 0 | FG43: =L43+Q43+V43 -> 0 | FH43: =N43+S43+X43 -> 0 | FI43: =SUM(AA43+AF43+AK43+AP43+AU43+BA43+BJ43+BO43+BT43+BY43+CD43+CJ43+CO43+CT43+CZ43+DF43+DL43+DQ43+DV43+EA43+EG43+EM43+EW43+FB43) -> 0 | FJ43: =SUM(AC43+AH43+AM43+AR43+AW43+BC43+BL43+BQ43+BV43+CA43+CF43+CL43+CQ43+CV43+DB43+DH43+DN43+DS43+DX43+EC43+EI43+EO43+EY43+FD43) -> 0 | FK43: =FG43+FI43 -> 0 | FL43: =FH43+FJ43 -> 0 | FM43: =COUNTIF(L43,">0")+COUNTIF(Q43,">0")+COUNTIF(V43,">0")+COUNTIF(AA43,">0")+COUNTIF(AF43,">0")+COUNTIF(AK43,">0")+COUNTIF(AP43,">0")+COUNTIF(AU43,">0")+COUNTIF(BA43,">0")+COUNTIF(BJ43,">0")+COUNTIF(BO43,">0")+COUNTIF(BT43,">0")+COUNTIF(BY43,">0")+COUNTIF(CD43,">0")+COUNTIF(CJ43,">0")+COUNTIF(CO43,">0")+COUNTIF(CT43,">0")+COUNTIF(CZ43,">0")+COUNTIF(DF43,">0")+COUNTIF(DL43,">0")+COUNTIF(DQ43,">0")+COUNTIF(DV43,">0")+COUNTIF(EA43,">0")+COUNTIF(EG43,">0")+COUNTIF(EM43,">0")+COUNTIF(EW43,">0")+COUNTIF(FB43,">0") -> 0
... D152: 2 | N152: =L152*M152 -> 0 | S152: =Q152*R152 -> 0 | X152: =SUM(W152*V152) -> 0 | AC152: =AA152*AB152 -> 0 | AH152: =AF152*AG152 -> 0 | AM152: =AK152*AL152 -> 0 | AR152: =AP152*AQ152 -> 0 | AW152: =AU152*AV152 -> 0 | BC152: =BA152*BB152 -> 0 | BL152: =BJ152*BK152 -> 0 | BQ152: =BO152*BP152 -> 0 | BV152: =BT152*BU152 -> 0 | CA152: =BY152*BZ152 -> 0 | CF152: =CD152*CE152 -> 0 | CL152: =CJ152*CK152 -> 0 | CQ152: =CO152*CP152 -> 0 | CV152: =CT152*CU152 -> 0 | DB152: =CZ152*DA152 -> 0 | DH152: =DF152*DG152 -> 0 | DN152: =DL152*DM152 -> 0 | DS152: =DQ152*DR152 -> 0 | DX152: =DV152*DW152 -> 0 | EC152: =EA152*EB152 -> 0 | EI152: =EG152*EH152 -> 0 | EO152: =EM152*EN152 -> 0 | EY152: =EW152*EX152 -> 0 | FD152: =FB152*FC152 -> 0 | FG152: =L152+Q152+V152 -> 0 | FH152: =N152+S152+X152 -> 0 | FI152: =SUM(AA152+AF152+AK152+AP152+AU152+BA152+BJ152+BO152+BT152+BY152+CD152+CJ152+CO152+CT152+CZ152+DF152+DL152+DQ152+DV152+EA152+EG152+EM152+EW152+FB152) -> 0 | FJ152: =SUM(AC152+AH152+AM152+AR152+AW152+BC152+BL152+BQ152+BV152+CA152+CF152+CL152+CQ152+CV152+DB152+DH152+DN152+DS152+DX152+EC152+EI152+EO152+EY152+FD152) -> 0 | FK152: =FG152+FI152 -> 0 | FL152: =FH152+FJ152 -> 0 | FM152: =COUNTIF(L152,">0")+COUNTIF(Q152,">0")+COUNTIF(V152,">0")+COUNTIF(AA152,">0")+COUNTIF(AF152,">0")+COUNTIF(AK152,">0")+COUNTIF(AP152,">0")+COUNTIF(AU152,">0")+COUNTIF(BA152,">0")+COUNTIF(BJ152,">0")+COUNTIF(BO152,">0")+COUNTIF(BT152,">0")+COUNTIF(BY152,">0")+COUNTIF(CD152,">0")+COUNTIF(CJ152,">0")+COUNTIF(CO152,">0")+COUNTIF(CT152,">0")+COUNTIF(CZ152,">0")+COUNTIF(DF152,">0")+COUNTIF(DL152,">0")+COUNTIF(DQ152,">0")+COUNTIF(DV152,">0")+COUNTIF(EA152,">0")+COUNTIF(EG152,">0")+COUNTIF(EM152,">0")+COUNTIF(EW152,">0")+COUNTIF(FB152,">0") -> 0

Sheet märts
A1: Üldandmed | L1: Baastoetus | AA1: Lisatoetus Lisatoetus Lisatoetus Lisatoetus Lisatoetus Lisatoetus Lisatoetus Lisatoetus Lisatoetus Lisatoetus Lisatoetus | FG1: Kokku | FM1: Kuu summa
L2: Teenuse planeerimine | Q2: Tegevusplaani elluviimise tagamine | V2: Välise spetsialisti konsultatsioon teenuse planeerimiseks | AA2: Personaalne toetamine erakorralistes eluolukordades | AF2: Pere toetamine | AZ2: Eluvaldkond - Sotsiaalsed suhted | BF2: Eluvaldkond - Vaimne tervis | CI2: Eluvaldkond - Füüsiline tervis | DK2: Eluvaldkond - Hõivatus | EF2: Eluvaldkond - Vaba aeg ja huvitegevus | EL2: Eluvaldkond - Elukoht | ER2: Eluvaldkond - Igapäevaelu toetamine | FM2: =SUM(FL5:FL152) -> 0
H3: sisenemise ja väljumise ankeedilt andmed | AF3: Psühholoogiline nõustamine ja psühhoteraapia perele | AK3: Pere nõustamine ja koolitus | AP3: Kogemusnõustamine perele | AU3: Intervallhoid | AZ3: Toetusvajaduse aste | BA3: Sotsiaalsete suhete toetamine | BF3: Toetusvajaduse aste | BJ3: Taastumise ja haigusega toimetuleku toetamine | BO3: Vaimse ja motoorse võimekuse arendamine ja säilitamine | BT3: Psühholoogiline nõustamine ja psühhoteraapia | BY3: Kogemusnõustamine | CD3: Riski- ja probleemse käitumise juhtimine | CI3: Toetusvajaduse aste | CJ3: Füüsilise tervise alane nõustamine ja toetus | CO3: Füüsilise aktiivsuse toetamine | CT3: Teraapiad füüsilise tervise toetamiseks | CY3: Toetusvajaduse aste | CZ3: Liikumine eluruumides | DE3: Toetusvajaduse aste | DF3: Liikumine väljaspool eluruume | DK3: Toetusvajaduse aste | DL3: Töötamise toetamine | DQ3: Töösarnase või rakendustegevuse toetamine spetsiaalselt kohandatud keskkonnas | DV3: Õppimise toetamine | EA3: Rakendus kogukonnas | EF3: Toetusvajaduse aste | EG3: Vaba aja ja huvitegevuse toetamine | EL3: Toetusvajaduse aste | EM3: Toetus elukoha vahetusel | ER3: Toetusvajaduse aste | EW3: Igapäevaelu toetamine | FB3: Ettevalmistus iseseisvumiseks | FG3: Baastoetus | FI3: Lisatoetus | FK3: Kokku
A4: Isikukood | B4: Eesnimi | C4: Perekonnanimi | D4: Kuu | E4: KOV | F4: BTO | G4: PH/IP | H4: Tööhõive staatus (sh õppimine) sisenemisel | I4: Tööhõive staatus (sh õppimine) väljumisel | J4: Esmamärkamine | K4: Teenus enne projekti sisenemist | L4: Maht | M4: Tunni hind € | N4: Maksumus | O4: TK pakkuja | P4: TkVO | Q4: Maht | R4: Tunni hind € | S4: Maksumus | T4: TK pakkuja | U4: TkVO | V4: Maht | W4: Tunni hind € | X4: Maksumus | Y4: TK pakkuja | Z4: TkVO | AA4: Maht | AB4: Tunni hind € | AC4: Maksumus | AD4: TK pakkuja | AE4: TkVO | AF4: Maht | AG4: Tunni hind € | AH4: Maksumus | AI4: TK pakkuja | AJ4: TkVO | AK4: Maht | AL4: Tunni hind € | AM4: Maksumus | AN4: TK pakkuja | AO4: TkVO | AP4: Maht | AQ4: Tunni hind € | AR4: Maksumus | AS4: TK pakkuja | AT4: TkVO | AU4: Maht | AV4: Tunni hind € | AW4: Maksumus | AX4: TK pakkuja | AY4: TkVO | BA4: Maht | BB4: Tunni hind € | BC4: Maksumus | BD4: TK pakkuja | BE4: TkVO | BF4: haigusteadlikkus ja raviplaani järgimine | BG4: psühhikahäirest tulenev mõju käitumisele ja tegevusele | BH4: kognitiivne võimekus | BI4: riskikäitumine | BJ4: Maht | BK4: Tunni hind € | BL4: Maksumus | BM4: TK pakkuja | BN4: TkVO | BO4: Maht | BP4: Tunni hind € | BQ4: Maksumus | BR4: TK pakkuja | BS4: TkVO | BT4: Maht | BU4: Tunni hind € | BV4: Maksumus | BW4: TK pakkuja | BX4: TkVO | BY4: Maht | BZ4: Tunni hind € | CA4: Maksumus | CB4: TK pakkuja | CC4: TkVO | CD4: Maht | CE4: Tunni hind € | CF4: Maksumus | CG4: TK pakkuja | CH4: TkVO | CJ4: Maht | CK4: Tunni hind € | CL4: Maksumus | CM4: TK pakkuja | CN4: TkVO | CO4: Maht | CP4: Tunni hind € | CQ4: Maksumus | CR4: TK pakkuja | CS4: TkVO | CT4: Maht | CU4: Tunni hind € | CV4: Maksumus | CW4: TK pakkuja | CX4: TkVO | CZ4: Maht | DA4: Tunni hind € | DB4: Maksumus | DC4: TK pakkuja | DD4: TkVO | DF4: Maht | DG4: Tunni hind € | DH4: Maksumus | DI4: TK pakkuja | DJ4: TkVO | DL4: Maht | DM4: Tunni hind € | DN4: Maksumus | DO4: TK pakkuja | DP4: TkVO | DQ4: Maht | DR4: Tunni hind € | DS4: Maksumus | DT4: TK pakkuja | DU4: TkVO | DV4: Maht | DW4: Tunni hind € | DX4: Maksumus | DY4: TK pakkuja | DZ4: TkVO | EA4: Maht | EB4: Tunni hind € | EC4: Maksumus | ED4: TK pakkuja | EE4: TkVO | EG4: Maht | EH4: Tunni hind € | EI4: Maksumus | EJ4: TK pakkuja | EK4: TkVO | EM4: Maht | EN4: Tunni hind € | EO4: Maksumus | EP4: TK pakkuja | EQ4: TkVO | ER4: asjaajamine ja rahadega toimetulek | ES4: söögi valmistamine | ET4: söömine | EU4: majapidamistoimingud | EV4: enese eest hoolitsemine | EW4: Maht | EX4: Tunni hind € | EY4: Maksumus | EZ4: TK pakkuja | FA4: TkVO | FB4: Maht | FC4: Tunni hind € | FD4: Maksumus | FE4: TK pakkuja | FF4: TkVO | FG4: Maht | FH4: Maksumus | FI4: Maht | FJ4: Maksumus | FK4: Maht | FL4: Maksumus | FM4: Komponente kokku
D5: 3 | N5: =L5*M5 -> 0 | S5: =Q5*R5 -> 0 | X5: =V5*W5 -> 0 | AC5: =AA5*AB5 -> 0 | AH5: =AF5*AG5 -> 0 | AM5: =AK5*AL5 -> 0 | AR5: =AP5*AQ5 -> 0 | AW5: =AU5*AV5 -> 0 | BC5: =BA5*BB5 -> 0 | BL5: =BJ5*BK5 -> 0 | BQ5: =BO5*BP5 -> 0 | BV5: =BT5*BU5 -> 0 | CA5: =BY5*BZ5 -> 0 | CF5: =CD5*CE5 -> 0 | CL5: =CJ5*CK5 -> 0 | CQ5: =CO5*CP5 -> 0 | CV5: =CT5*CU5 -> 0 | CY5: 0 | DB5: =CZ5*DA5 -> 0 | DH5: =DF5*DG5 -> 0 | DN5: =DL5*DM5 -> 0 | DS5: =DQ5*DR5 -> 0 | DX5: =DV5*DW5 -> 0 | EC5: =EA5*EB5 -> 0 | EI5: =EG5*EH5 -> 0 | EO5: =EM5*EN5 -> 0 | EY5: =EW5*EX5 -> 0 | FD5: =FB5*FC5 -> 0 | FG5: =L5+Q5+V5 -> 0 | FH5: =N5+S5+X5 -> 0 | FI5: =SUM(AA5+AF5+AK5+AP5+AU5+BA5+BJ5+BO5+BT5+BY5+CD5+CJ5+CO5+CT5+CZ5+DF5+DL5+DQ5+DV5+EA5+EG5+EM5+EW5+FB5) -> 0 | FJ5: =SUM(AC5+AH5+AM5+AR5+AW5+BC5+BL5+BQ5+BV5+CA5+CF5+CL5+CQ5+CV5+DB5+DH5+DN5+DS5+DX5+EC5+EI5+EO5+EY5+FD5) -> 0 | FK5: =FG5+FI5 -> 0 | FL5: =FH5+FJ5 -> 0 | FM5: =COUNTIF(L5,">0")+COUNTIF(Q5,">0")+COUNTIF(V5,">0")+COUNTIF(AA5,">0")+COUNTIF(AF5,">0")+COUNTIF(AK5,">0")+COUNTIF(AP5,">0")+COUNTIF(AU5,">0")+COUNTIF(BA5,">0")+COUNTIF(BJ5,">0")+COUNTIF(BO5,">0")+COUNTIF(BT5,">0")+COUNTIF(BY5,">0")+COUNTIF(CD5,">0")+COUNTIF(CJ5,">0")+COUNTIF(CO5,">0")+COUNTIF(CT5,">0")+COUNTIF(CZ5,">0")+COUNTIF(DF5,">0")+COUNTIF(DL5,">0")+COUNTIF(DQ5,">0")+COUNTIF(DV5,">0")+COUNTIF(EA5,">0")+COUNTIF(EG5,">0")+COUNTIF(EM5,">0")+COUNTIF(EW5,">0")+COUNTIF(FB5,">0") -> 0
D6: 3 | N6: =L6*M6 -> 0 | S6: =Q6*R6 -> 0 | X6: =V6*W6 -> 0 | AC6: =AA6*AB6 -> 0 | AH6: =AF6*AG6 -> 0 | AM6: =AK6*AL6 -> 0 | AR6: =AP6*AQ6 -> 0 | AW6: =AU6*AV6 -> 0 | BC6: =BA6*BB6 -> 0 | BL6: =BJ6*BK6 -> 0 | BQ6: =BO6*BP6 -> 0 | BV6: =BT6*BU6 -> 0 | CA6: =BY6*BZ6 -> 0 | CF6: =CD6*CE6 -> 0 | CL6: =CJ6*CK6 -> 0 | CQ6: =CO6*CP6 -> 0 | CV6: =CT6*CU6 -> 0 | CY6: 0 | DB6: =CZ6*DA6 -> 0 | DH6: =DF6*DG6 -> 0 | DN6: =DL6*DM6 -> 0 | DS6: =DQ6*DR6 -> 0 | DX6: =DV6*DW6 -> 0 | EC6: =EA6*EB6 -> 0 | EI6: =EG6*EH6 -> 0 | EO6: =EM6*EN6 -> 0 | EY6: =EW6*EX6 -> 0 | FD6: =FB6*FC6 -> 0 | FG6: =L6+Q6+V6 -> 0 | FH6: =N6+S6+X6 -> 0 | FI6: =SUM(AA6+AF6+AK6+AP6+AU6+BA6+BJ6+BO6+BT6+BY6+CD6+CJ6+CO6+CT6+CZ6+DF6+DL6+DQ6+DV6+EA6+EG6+EM6+EW6+FB6) -> 0 | FJ6: =SUM(AC6+AH6+AM6+AR6+AW6+BC6+BL6+BQ6+BV6+CA6+CF6+CL6+CQ6+CV6+DB6+DH6+DN6+DS6+DX6+EC6+EI6+EO6+EY6+FD6) -> 0 | FK6: =FG6+FI6 -> 0 | FL6: =FH6+FJ6 -> 0 | FM6: =COUNTIF(L6,">0")+COUNTIF(Q6,">0")+COUNTIF(V6,">0")+COUNTIF(AA6,">0")+COUNTIF(AF6,">0")+COUNTIF(AK6,">0")+COUNTIF(AP6,">0")+COUNTIF(AU6,">0")+COUNTIF(BA6,">0")+COUNTIF(BJ6,">0")+COUNTIF(BO6,">0")+COUNTIF(BT6,">0")+COUNTIF(BY6,">0")+COUNTIF(CD6,">0")+COUNTIF(CJ6,">0")+COUNTIF(CO6,">0")+COUNTIF(CT6,">0")+COUNTIF(CZ6,">0")+COUNTIF(DF6,">0")+COUNTIF(DL6,">0")+COUNTIF(DQ6,">0")+COUNTIF(DV6,">0")+COUNTIF(EA6,">0")+COUNTIF(EG6,">0")+COUNTIF(EM6,">0")+COUNTIF(EW6,">0")+COUNTIF(FB6,">0") -> 0
D7: 3 | N7: =L7*M7 -> 0 | S7: =Q7*R7 -> 0 | X7: =V7*W7 -> 0 | AC7: =AA7*AB7 -> 0 | AH7: =AF7*AG7 -> 0 | AM7: =AK7*AL7 -> 0 | AR7: =AP7*AQ7 -> 0 | AW7: =AU7*AV7 -> 0 | BC7: =BA7*BB7 -> 0 | BL7: =BJ7*BK7 -> 0 | BQ7: =BO7*BP7 -> 0 | BV7: =BT7*BU7 -> 0 | CA7: =BY7*BZ7 -> 0 | CF7: =CD7*CE7 -> 0 | CL7: =CJ7*CK7 -> 0 | CQ7: =CO7*CP7 -> 0 | CV7: =CT7*CU7 -> 0 | CY7: 0 | DB7: =CZ7*DA7 -> 0 | DH7: =DF7*DG7 -> 0 | DN7: =DL7*DM7 -> 0 | DS7: =DQ7*DR7 -> 0 | DX7: =DV7*DW7 -> 0 | EC7: =EA7*EB7 -> 0 | EI7: =EG7*EH7 -> 0 | EO7: =EM7*EN7 -> 0 | EY7: =EW7*EX7 -> 0 | FD7: =FB7*FC7 -> 0 | FG7: =L7+Q7+V7 -> 0 | FH7: =N7+S7+X7 -> 0 | FI7: =SUM(AA7+AF7+AK7+AP7+AU7+BA7+BJ7+BO7+BT7+BY7+CD7+CJ7+CO7+CT7+CZ7+DF7+DL7+DQ7+DV7+EA7+EG7+EM7+EW7+FB7) -> 0 | FJ7: =SUM(AC7+AH7+AM7+AR7+AW7+BC7+BL7+BQ7+BV7+CA7+CF7+CL7+CQ7+CV7+DB7+DH7+DN7+DS7+DX7+EC7+EI7+EO7+EY7+FD7) -> 0 | FK7: =FG7+FI7 -> 0 | FL7: =FH7+FJ7 -> 0 | FM7: =COUNTIF(L7,">0")+COUNTIF(Q7,">0")+COUNTIF(V7,">0")+COUNTIF(AA7,">0")+COUNTIF(AF7,">0")+COUNTIF(AK7,">0")+COUNTIF(AP7,">0")+COUNTIF(AU7,">0")+COUNTIF(BA7,">0")+COUNTIF(BJ7,">0")+COUNTIF(BO7,">0")+COUNTIF(BT7,">0")+COUNTIF(BY7,">0")+COUNTIF(CD7,">0")+COUNTIF(CJ7,">0")+COUNTIF(CO7,">0")+COUNTIF(CT7,">0")+COUNTIF(CZ7,">0")+COUNTIF(DF7,">0")+COUNTIF(DL7,">0")+COUNTIF(DQ7,">0")+COUNTIF(DV7,">0")+COUNTIF(EA7,">0")+COUNTIF(EG7,">0")+COUNTIF(EM7,">0")+COUNTIF(EW7,">0")+COUNTIF(FB7,">0") -> 0
D8: 3 | N8: =L8*M8 -> 0 | S8: =Q8*R8 -> 0 | X8: =V8*W8 -> 0 | AC8: =AA8*AB8 -> 0 | AH8: =AF8*AG8 -> 0 | AM8: =AK8*AL8 -> 0 | AR8: =AP8*AQ8 -> 0 | AW8: =AU8*AV8 -> 0 | BC8: =BA8*BB8 -> 0 | BL8: =BJ8*BK8 -> 0 | BQ8: =BO8*BP8 -> 0 | BV8: =BT8*BU8 -> 0 | CA8: =BY8*BZ8 -> 0 | CF8: =CD8*CE8 -> 0 | CL8: =CJ8*CK8 -> 0 | CQ8: =CO8*CP8 -> 0 | CV8: =CT8*CU8 -> 0 | CY8: 0 | DB8: =CZ8*DA8 -> 0 | DH8: =DF8*DG8 -> 0 | DN8: =DL8*DM8 -> 0 | DS8: =DQ8*DR8 -> 0 | DX8: =DV8*DW8 -> 0 | EC8: =EA8*EB8 -> 0 | EI8: =EG8*EH8 -> 0 | EO8: =EM8*EN8 -> 0 | EY8: =EW8*EX8 -> 0 | FD8: =FB8*FC8 -> 0 | FG8: =L8+Q8+V8 -> 0 | FH8: =N8+S8+X8 -> 0 | FI8: =SUM(AA8+AF8+AK8+AP8+AU8+BA8+BJ8+BO8+BT8+BY8+CD8+CJ8+CO8+CT8+CZ8+DF8+DL8+DQ8+DV8+EA8+EG8+EM8+EW8+FB8) -> 0 | FJ8: =SUM(AC8+AH8+AM8+AR8+AW8+BC8+BL8+BQ8+BV8+CA8+CF8+CL8+CQ8+CV8+DB8+DH8+DN8+DS8+DX8+EC8+EI8+EO8+EY8+FD8) -> 0 | FK8: =FG8+FI8 -> 0 | FL8: =FH8+FJ8 -> 0 | FM8: =COUNTIF(L8,">0")+COUNTIF(Q8,">0")+COUNTIF(V8,">0")+COUNTIF(AA8,">0")+COUNTIF(AF8,">0")+COUNTIF(AK8,">0")+COUNTIF(AP8,">0")+COUNTIF(AU8,">0")+COUNTIF(BA8,">0")+COUNTIF(BJ8,">0")+COUNTIF(BO8,">0")+COUNTIF(BT8,">0")+COUNTIF(BY8,">0")+COUNTIF(CD8,">0")+COUNTIF(CJ8,">0")+COUNTIF(CO8,">0")+COUNTIF(CT8,">0")+COUNTIF(CZ8,">0")+COUNTIF(DF8,">0")+COUNTIF(DL8,">0")+COUNTIF(DQ8,">0")+COUNTIF(DV8,">0")+COUNTIF(EA8,">0")+COUNTIF(EG8,">0")+COUNTIF(EM8,">0")+COUNTIF(EW8,">0")+COUNTIF(FB8,">0") -> 0
D9: 3 | N9: =L9*M9 -> 0 | S9: =Q9*R9 -> 0 | X9: =V9*W9 -> 0 | AC9: =AA9*AB9 -> 0 | AH9: =AF9*AG9 -> 0 | AM9: =AK9*AL9 -> 0 | AR9: =AP9*AQ9 -> 0 | AW9: =AU9*AV9 -> 0 | BC9: =BA9*BB9 -> 0 | BL9: =BJ9*BK9 -> 0 | BQ9: =BO9*BP9 -> 0 | BV9: =BT9*BU9 -> 0 | CA9: =BY9*BZ9 -> 0 | CF9: =CD9*CE9 -> 0 | CL9: =CJ9*CK9 -> 0 | CQ9: =CO9*CP9 -> 0 | CV9: =CT9*CU9 -> 0 | DB9: =CZ9*DA9 -> 0 | DH9: =DF9*DG9 -> 0 | DN9: =DL9*DM9 -> 0 | DS9: =DQ9*DR9 -> 0 | DX9: =DV9*DW9 -> 0 | EC9: =EA9*EB9 -> 0 | EI9: =EG9*EH9 -> 0 | EO9: =EM9*EN9 -> 0 | EY9: =EW9*EX9 -> 0 | FD9: =FB9*FC9 -> 0 | FG9: =L9+Q9+V9 -> 0 | FH9: =N9+S9+X9 -> 0 | FI9: =SUM(AA9+AF9+AK9+AP9+AU9+BA9+BJ9+BO9+BT9+BY9+CD9+CJ9+CO9+CT9+CZ9+DF9+DL9+DQ9+DV9+EA9+EG9+EM9+EW9+FB9) -> 0 | FJ9: =SUM(AC9+AH9+AM9+AR9+AW9+BC9+BL9+BQ9+BV9+CA9+CF9+CL9+CQ9+CV9+DB9+DH9+DN9+DS9+DX9+EC9+EI9+EO9+EY9+FD9) -> 0 | FK9: =FG9+FI9 -> 0 | FL9: =FH9+FJ9 -> 0 | FM9: =COUNTIF(L9,">0")+COUNTIF(Q9,">0")+COUNTIF(V9,">0")+COUNTIF(AA9,">0")+COUNTIF(AF9,">0")+COUNTIF(AK9,">0")+COUNTIF(AP9,">0")+COUNTIF(AU9,">0")+COUNTIF(BA9,">0")+COUNTIF(BJ9,">0")+COUNTIF(BO9,">0")+COUNTIF(BT9,">0")+COUNTIF(BY9,">0")+COUNTIF(CD9,">0")+COUNTIF(CJ9,">0")+COUNTIF(CO9,">0")+COUNTIF(CT9,">0")+COUNTIF(CZ9,">0")+COUNTIF(DF9,">0")+COUNTIF(DL9,">0")+COUNTIF(DQ9,">0")+COUNTIF(DV9,">0")+COUNTIF(EA9,">0")+COUNTIF(EG9,">0")+COUNTIF(EM9,">0")+COUNTIF(EW9,">0")+COUNTIF(FB9,">0") -> 0
D10: 3 | N10: =L10*M10 -> 0 | S10: =Q10*R10 -> 0 | X10: =V10*W10 -> 0 | AC10: =AA10*AB10 -> 0 | AH10: =AF10*AG10 -> 0 | AM10: =AK10*AL10 -> 0 | AR10: =AP10*AQ10 -> 0 | AW10: =AU10*AV10 -> 0 | BC10: =BA10*BB10 -> 0 | BL10: =BJ10*BK10 -> 0 | BQ10: =BO10*BP10 -> 0 | BV10: =BT10*BU10 -> 0 | CA10: =BY10*BZ10 -> 0 | CF10: =CD10*CE10 -> 0 | CL10: =CJ10*CK10 -> 0 | CQ10: =CO10*CP10 -> 0 | CV10: =CT10*CU10 -> 0 | DB10: =CZ10*DA10 -> 0 | DH10: =DF10*DG10 -> 0 | DN10: =DL10*DM10 -> 0 | DS10: =DQ10*DR10 -> 0 | DX10: =DV10*DW10 -> 0 | EC10: =EA10*EB10 -> 0 | EI10: =EG10*EH10 -> 0 | EO10: =EM10*EN10 -> 0 | EY10: =EW10*EX10 -> 0 | FD10: =FB10*FC10 -> 0 | FG10: =L10+Q10+V10 -> 0 | FH10: =N10+S10+X10 -> 0 | FI10: =SUM(AA10+AF10+AK10+AP10+AU10+BA10+BJ10+BO10+BT10+BY10+CD10+CJ10+CO10+CT10+CZ10+DF10+DL10+DQ10+DV10+EA10+EG10+EM10+EW10+FB10) -> 0 | FJ10: =SUM(AC10+AH10+AM10+AR10+AW10+BC10+BL10+BQ10+BV10+CA10+CF10+CL10+CQ10+CV10+DB10+DH10+DN10+DS10+DX10+EC10+EI10+EO10+EY10+FD10) -> 0 | FK10: =FG10+FI10 -> 0 | FL10: =FH10+FJ10 -> 0 | FM10: =COUNTIF(L10,">0")+COUNTIF(Q10,">0")+COUNTIF(V10,">0")+COUNTIF(AA10,">0")+COUNTIF(AF10,">0")+COUNTIF(AK10,">0")+COUNTIF(AP10,">0")+COUNTIF(AU10,">0")+COUNTIF(BA10,">0")+COUNTIF(BJ10,">0")+COUNTIF(BO10,">0")+COUNTIF(BT10,">0")+COUNTIF(BY10,">0")+COUNTIF(CD10,">0")+COUNTIF(CJ10,">0")+COUNTIF(CO10,">0")+COUNTIF(CT10,">0")+COUNTIF(CZ10,">0")+COUNTIF(DF10,">0")+COUNTIF(DL10,">0")+COUNTIF(DQ10,">0")+COUNTIF(DV10,">0")+COUNTIF(EA10,">0")+COUNTIF(EG10,">0")+COUNTIF(EM10,">0")+COUNTIF(EW10,">0")+COUNTIF(FB10,">0") -> 0
D11: 3 | N11: =L11*M11 -> 0 | S11: =Q11*R11 -> 0 | X11: =V11*W11 -> 0 | AC11: =AA11*AB11 -> 0 | AH11: =AF11*AG11 -> 0 | AM11: =AK11*AL11 -> 0 | AR11: =AP11*AQ11 -> 0 | AW11: =AU11*AV11 -> 0 | BC11: =BA11*BB11 -> 0 | BL11: =BJ11*BK11 -> 0 | BQ11: =BO11*BP11 -> 0 | BV11: =BT11*BU11 -> 0 | CA11: =BY11*BZ11 -> 0 | CF11: =CD11*CE11 -> 0 | CL11: =CJ11*CK11 -> 0 | CQ11: =CO11*CP11 -> 0 | CV11: =CT11*CU11 -> 0 | CY11: 0 | DB11: =CZ11*DA11 -> 0 | DH11: =DF11*DG11 -> 0 | DN11: =DL11*DM11 -> 0 | DS11: =DQ11*DR11 -> 0 | DX11: =DV11*DW11 -> 0 | EC11: =EA11*EB11 -> 0 | EI11: =EG11*EH11 -> 0 | EO11: =EM11*EN11 -> 0 | EY11: =EW11*EX11 -> 0 | FD11: =FB11*FC11 -> 0 | FG11: =L11+Q11+V11 -> 0 | FH11: =N11+S11+X11 -> 0 | FI11: =SUM(AA11+AF11+AK11+AP11+AU11+BA11+BJ11+BO11+BT11+BY11+CD11+CJ11+CO11+CT11+CZ11+DF11+DL11+DQ11+DV11+EA11+EG11+EM11+EW11+FB11) -> 0 | FJ11: =SUM(AC11+AH11+AM11+AR11+AW11+BC11+BL11+BQ11+BV11+CA11+CF11+CL11+CQ11+CV11+DB11+DH11+DN11+DS11+DX11+EC11+EI11+EO11+EY11+FD11) -> 0 | FK11: =FG11+FI11 -> 0 | FL11: =FH11+FJ11 -> 0 | FM11: =COUNTIF(L11,">0")+COUNTIF(Q11,">0")+COUNTIF(V11,">0")+COUNTIF(AA11,">0")+COUNTIF(AF11,">0")+COUNTIF(AK11,">0")+COUNTIF(AP11,">0")+COUNTIF(AU11,">0")+COUNTIF(BA11,">0")+COUNTIF(BJ11,">0")+COUNTIF(BO11,">0")+COUNTIF(BT11,">0")+COUNTIF(BY11,">0")+COUNTIF(CD11,">0")+COUNTIF(CJ11,">0")+COUNTIF(CO11,">0")+COUNTIF(CT11,">0")+COUNTIF(CZ11,">0")+COUNTIF(DF11,">0")+COUNTIF(DL11,">0")+COUNTIF(DQ11,">0")+COUNTIF(DV11,">0")+COUNTIF(EA11,">0")+COUNTIF(EG11,">0")+COUNTIF(EM11,">0")+COUNTIF(EW11,">0")+COUNTIF(FB11,">0") -> 0
D12: 3 | N12: =L12*M12 -> 0 | S12: =Q12*R12 -> 0 | X12: =V12*W12 -> 0 | AC12: =AA12*AB12 -> 0 | AH12: =AF12*AG12 -> 0 | AM12: =AK12*AL12 -> 0 | AR12: =AP12*AQ12 -> 0 | AW12: =AU12*AV12 -> 0 | BC12: =BA12*BB12 -> 0 | BL12: =BJ12*BK12 -> 0 | BQ12: =BO12*BP12 -> 0 | BV12: =BT12*BU12 -> 0 | CA12: =BY12*BZ12 -> 0 | CF12: =CD12*CE12 -> 0 | CL12: =CJ12*CK12 -> 0 | CQ12: =CO12*CP12 -> 0 | CV12: =CT12*CU12 -> 0 | CY12: 0 | DB12: =CZ12*DA12 -> 0 | DH12: =DF12*DG12 -> 0 | DN12: =DL12*DM12 -> 0 | DS12: =DQ12*DR12 -> 0 | DX12: =DV12*DW12 -> 0 | EC12: =EA12*EB12 -> 0 | EI12: =EG12*EH12 -> 0 | EO12: =EM12*EN12 -> 0 | EY12: =EW12*EX12 -> 0 | FD12: =FB12*FC12 -> 0 | FG12: =L12+Q12+V12 -> 0 | FH12: =N12+S12+X12 -> 0 | FI12: =SUM(AA12+AF12+AK12+AP12+AU12+BA12+BJ12+BO12+BT12+BY12+CD12+CJ12+CO12+CT12+CZ12+DF12+DL12+DQ12+DV12+EA12+EG12+EM12+EW12+FB12) -> 0 | FJ12: =SUM(AC12+AH12+AM12+AR12+AW12+BC12+BL12+BQ12+BV12+CA12+CF12+CL12+CQ12+CV12+DB12+DH12+DN12+DS12+DX12+EC12+EI12+EO12+EY12+FD12) -> 0 | FK12: =FG12+FI12 -> 0 | FL12: =FH12+FJ12 -> 0 | FM12: =COUNTIF(L12,">0")+COUNTIF(Q12,">0")+COUNTIF(V12,">0")+COUNTIF(AA12,">0")+COUNTIF(AF12,">0")+COUNTIF(AK12,">0")+COUNTIF(AP12,">0")+COUNTIF(AU12,">0")+COUNTIF(BA12,">0")+COUNTIF(BJ12,">0")+COUNTIF(BO12,">0")+COUNTIF(BT12,">0")+COUNTIF(BY12,">0")+COUNTIF(CD12,">0")+COUNTIF(CJ12,">0")+COUNTIF(CO12,">0")+COUNTIF(CT12,">0")+COUNTIF(CZ12,">0")+COUNTIF(DF12,">0")+COUNTIF(DL12,">0")+COUNTIF(DQ12,">0")+COUNTIF(DV12,">0")+COUNTIF(EA12,">0")+COUNTIF(EG12,">0")+COUNTIF(EM12,">0")+COUNTIF(EW12,">0")+COUNTIF(FB12,">0") -> 0
D13: 3 | N13: =L13*M13 -> 0 | S13: =Q13*R13 -> 0 | X13: =V13*W13 -> 0 | AC13: =AA13*AB13 -> 0 | AH13: =AF13*AG13 -> 0 | AM13: =AK13*AL13 -> 0 | AR13: =AP13*AQ13 -> 0 | AW13: =AU13*AV13 -> 0 | BC13: =BA13*BB13 -> 0 | BL13: =BJ13*BK13 -> 0 | BQ13: =BO13*BP13 -> 0 | BV13: =BT13*BU13 -> 0 | CA13: =BY13*BZ13 -> 0 | CF13: =CD13*CE13 -> 0 | CL13: =CJ13*CK13 -> 0 | CQ13: =CO13*CP13 -> 0 | CV13: =CT13*CU13 -> 0 | CY13: 0 | DB13: =CZ13*DA13 -> 0 | DH13: =DF13*DG13 -> 0 | DN13: =DL13*DM13 -> 0 | DS13: =DQ13*DR13 -> 0 | DX13: =DV13*DW13 -> 0 | EC13: =EA13*EB13 -> 0 | EI13: =EG13*EH13 -> 0 | EO13: =EM13*EN13 -> 0 | EY13: =EW13*EX13 -> 0 | FD13: =FB13*FC13 -> 0 | FG13: =L13+Q13+V13 -> 0 | FH13: =N13+S13+X13 -> 0 | FI13: =SUM(AA13+AF13+AK13+AP13+AU13+BA13+BJ13+BO13+BT13+BY13+CD13+CJ13+CO13+CT13+CZ13+DF13+DL13+DQ13+DV13+EA13+EG13+EM13+EW13+FB13) -> 0 | FJ13: =SUM(AC13+AH13+AM13+AR13+AW13+BC13+BL13+BQ13+BV13+CA13+CF13+CL13+CQ13+CV13+DB13+DH13+DN13+DS13+DX13+EC13+EI13+EO13+EY13+FD13) -> 0 | FK13: =FG13+FI13 -> 0 | FL13: =FH13+FJ13 -> 0 | FM13: =COUNTIF(L13,">0")+COUNTIF(Q13,">0")+COUNTIF(V13,">0")+COUNTIF(AA13,">0")+COUNTIF(AF13,">0")+COUNTIF(AK13,">0")+COUNTIF(AP13,">0")+COUNTIF(AU13,">0")+COUNTIF(BA13,">0")+COUNTIF(BJ13,">0")+COUNTIF(BO13,">0")+COUNTIF(BT13,">0")+COUNTIF(BY13,">0")+COUNTIF(CD13,">0")+COUNTIF(CJ13,">0")+COUNTIF(CO13,">0")+COUNTIF(CT13,">0")+COUNTIF(CZ13,">0")+COUNTIF(DF13,">0")+COUNTIF(DL13,">0")+COUNTIF(DQ13,">0")+COUNTIF(DV13,">0")+COUNTIF(EA13,">0")+COUNTIF(EG13,">0")+COUNTIF(EM13,">0")+COUNTIF(EW13,">0")+COUNTIF(FB13,">0") -> 0
D14: 3 | N14: =L14*M14 -> 0 | S14: =Q14*R14 -> 0 | X14: =V14*W14 -> 0 | AC14: =AA14*AB14 -> 0 | AH14: =AF14*AG14 -> 0 | AM14: =AK14*AL14 -> 0 | AR14: =AP14*AQ14 -> 0 | AW14: =AU14*AV14 -> 0 | BC14: =BA14*BB14 -> 0 | BL14: =BJ14*BK14 -> 0 | BQ14: =BO14*BP14 -> 0 | BV14: =BT14*BU14 -> 0 | CA14: =BY14*BZ14 -> 0 | CF14: =CD14*CE14 -> 0 | CL14: =CJ14*CK14 -> 0 | CQ14: =CO14*CP14 -> 0 | CV14: =CT14*CU14 -> 0 | CY14: 0 | DB14: =CZ14*DA14 -> 0 | DH14: =DF14*DG14 -> 0 | DN14: =DL14*DM14 -> 0 | DS14: =DQ14*DR14 -> 0 | DX14: =DV14*DW14 -> 0 | EC14: =EA14*EB14 -> 0 | EI14: =EG14*EH14 -> 0 | EO14: =EM14*EN14 -> 0 | EY14: =EW14*EX14 -> 0 | FD14: =FB14*FC14 -> 0 | FG14: =L14+Q14+V14 -> 0 | FH14: =N14+S14+X14 -> 0 | FI14: =SUM(AA14+AF14+AK14+AP14+AU14+BA14+BJ14+BO14+BT14+BY14+CD14+CJ14+CO14+CT14+CZ14+DF14+DL14+DQ14+DV14+EA14+EG14+EM14+EW14+FB14) -> 0 | FJ14: =SUM(AC14+AH14+AM14+AR14+AW14+BC14+BL14+BQ14+BV14+CA14+CF14+CL14+CQ14+CV14+DB14+DH14+DN14+DS14+DX14+EC14+EI14+EO14+EY14+FD14) -> 0 | FK14: =FG14+FI14 -> 0 | FL14: =FH14+FJ14 -> 0 | FM14: =COUNTIF(L14,">0")+COUNTIF(Q14,">0")+COUNTIF(V14,">0")+COUNTIF(AA14,">0")+COUNTIF(AF14,">0")+COUNTIF(AK14,">0")+COUNTIF(AP14,">0")+COUNTIF(AU14,">0")+COUNTIF(BA14,">0")+COUNTIF(BJ14,">0")+COUNTIF(BO14,">0")+COUNTIF(BT14,">0")+COUNTIF(BY14,">0")+COUNTIF(CD14,">0")+COUNTIF(CJ14,">0")+COUNTIF(CO14,">0")+COUNTIF(CT14,">0")+COUNTIF(CZ14,">0")+COUNTIF(DF14,">0")+COUNTIF(DL14,">0")+COUNTIF(DQ14,">0")+COUNTIF(DV14,">0")+COUNTIF(EA14,">0")+COUNTIF(EG14,">0")+COUNTIF(EM14,">0")+COUNTIF(EW14,">0")+COUNTIF(FB14,">0") -> 0
D15: 3 | N15: =L15*M15 -> 0 | S15: =Q15*R15 -> 0 | X15: =V15*W15 -> 0 | AC15: =AA15*AB15 -> 0 | AH15: =AF15*AG15 -> 0 | AM15: =AK15*AL15 -> 0 | AR15: =AP15*AQ15 -> 0 | AW15: =AU15*AV15 -> 0 | BC15: =BA15*BB15 -> 0 | BL15: =BJ15*BK15 -> 0 | BQ15: =BO15*BP15 -> 0 | BV15: =BT15*BU15 -> 0 | CA15: =BY15*BZ15 -> 0 | CF15: =CD15*CE15 -> 0 | CL15: =CJ15*CK15 -> 0 | CQ15: =CO15*CP15 -> 0 | CV15: =CT15*CU15 -> 0 | CY15: 0 | DB15: =CZ15*DA15 -> 0 | DH15: =DF15*DG15 -> 0 | DN15: =DL15*DM15 -> 0 | DS15: =DQ15*DR15 -> 0 | DX15: =DV15*DW15 -> 0 | EC15: =EA15*EB15 -> 0 | EI15: =EG15*EH15 -> 0 | EO15: =EM15*EN15 -> 0 | EY15: =EW15*EX15 -> 0 | FD15: =FB15*FC15 -> 0 | FG15: =L15+Q15+V15 -> 0 | FH15: =N15+S15+X15 -> 0 | FI15: =SUM(AA15+AF15+AK15+AP15+AU15+BA15+BJ15+BO15+BT15+BY15+CD15+CJ15+CO15+CT15+CZ15+DF15+DL15+DQ15+DV15+EA15+EG15+EM15+EW15+FB15) -> 0 | FJ15: =SUM(AC15+AH15+AM15+AR15+AW15+BC15+BL15+BQ15+BV15+CA15+CF15+CL15+CQ15+CV15+DB15+DH15+DN15+DS15+DX15+EC15+EI15+EO15+EY15+FD15) -> 0 | FK15: =FG15+FI15 -> 0 | FL15: =FH15+FJ15 -> 0 | FM15: =COUNTIF(L15,">0")+COUNTIF(Q15,">0")+COUNTIF(V15,">0")+COUNTIF(AA15,">0")+COUNTIF(AF15,">0")+COUNTIF(AK15,">0")+COUNTIF(AP15,">0")+COUNTIF(AU15,">0")+COUNTIF(BA15,">0")+COUNTIF(BJ15,">0")+COUNTIF(BO15,">0")+COUNTIF(BT15,">0")+COUNTIF(BY15,">0")+COUNTIF(CD15,">0")+COUNTIF(CJ15,">0")+COUNTIF(CO15,">0")+COUNTIF(CT15,">0")+COUNTIF(CZ15,">0")+COUNTIF(DF15,">0")+COUNTIF(DL15,">0")+COUNTIF(DQ15,">0")+COUNTIF(DV15,">0")+COUNTIF(EA15,">0")+COUNTIF(EG15,">0")+COUNTIF(EM15,">0")+COUNTIF(EW15,">0")+COUNTIF(FB15,">0") -> 0
D16: 3 | N16: =L16*M16 -> 0 | S16: =Q16*R16 -> 0 | X16: =V16*W16 -> 0 | AC16: =AA16*AB16 -> 0 | AH16: =AF16*AG16 -> 0 | AM16: =AK16*AL16 -> 0 | AR16: =AP16*AQ16 -> 0 | AW16: =AU16*AV16 -> 0 | BC16: =BA16*BB16 -> 0 | BL16: =BJ16*BK16 -> 0 | BQ16: =BO16*BP16 -> 0 | BV16: =BT16*BU16 -> 0 | CA16: =BY16*BZ16 -> 0 | CF16: =CD16*CE16 -> 0 | CL16: =CJ16*CK16 -> 0 | CQ16: =CO16*CP16 -> 0 | CV16: =CT16*CU16 -> 0 | CY16: 0 | DB16: =CZ16*DA16 -> 0 | DH16: =DF16*DG16 -> 0 | DN16: =DL16*DM16 -> 0 | DS16: =DQ16*DR16 -> 0 | DX16: =DV16*DW16 -> 0 | EC16: =EA16*EB16 -> 0 | EI16: =EG16*EH16 -> 0 | EO16: =EM16*EN16 -> 0 | EY16: =EW16*EX16 -> 0 | FD16: =FB16*FC16 -> 0 | FG16: =L16+Q16+V16 -> 0 | FH16: =N16+S16+X16 -> 0 | FI16: =SUM(AA16+AF16+AK16+AP16+AU16+BA16+BJ16+BO16+BT16+BY16+CD16+CJ16+CO16+CT16+CZ16+DF16+DL16+DQ16+DV16+EA16+EG16+EM16+EW16+FB16) -> 0 | FJ16: =SUM(AC16+AH16+AM16+AR16+AW16+BC16+BL16+BQ16+BV16+CA16+CF16+CL16+CQ16+CV16+DB16+DH16+DN16+DS16+DX16+EC16+EI16+EO16+EY16+FD16) -> 0 | FK16: =FG16+FI16 -> 0 | FL16: =FH16+FJ16 -> 0 | FM16: =COUNTIF(L16,">0")+COUNTIF(Q16,">0")+COUNTIF(V16,">0")+COUNTIF(AA16,">0")+COUNTIF(AF16,">0")+COUNTIF(AK16,">0")+COUNTIF(AP16,">0")+COUNTIF(AU16,">0")+COUNTIF(BA16,">0")+COUNTIF(BJ16,">0")+COUNTIF(BO16,">0")+COUNTIF(BT16,">0")+COUNTIF(BY16,">0")+COUNTIF(CD16,">0")+COUNTIF(CJ16,">0")+COUNTIF(CO16,">0")+COUNTIF(CT16,">0")+COUNTIF(CZ16,">0")+COUNTIF(DF16,">0")+COUNTIF(DL16,">0")+COUNTIF(DQ16,">0")+COUNTIF(DV16,">0")+COUNTIF(EA16,">0")+COUNTIF(EG16,">0")+COUNTIF(EM16,">0")+COUNTIF(EW16,">0")+COUNTIF(FB16,">0") -> 0
D17: 3 | N17: =L17*M17 -> 0 | S17: =Q17*R17 -> 0 | X17: =V17*W17 -> 0 | AC17: =AA17*AB17 -> 0 | AH17: =AF17*AG17 -> 0 | AM17: =AK17*AL17 -> 0 | AR17: =AP17*AQ17 -> 0 | AW17: =AU17*AV17 -> 0 | BC17: =BA17*BB17 -> 0 | BL17: =BJ17*BK17 -> 0 | BQ17: =BO17*BP17 -> 0 | BV17: =BT17*BU17 -> 0 | CA17: =BY17*BZ17 -> 0 | CF17: =CD17*CE17 -> 0 | CL17: =CJ17*CK17 -> 0 | CQ17: =CO17*CP17 -> 0 | CV17: =CT17*CU17 -> 0 | CY17: 0 | DB17: =CZ17*DA17 -> 0 | DH17: =DF17*DG17 -> 0 | DN17: =DL17*DM17 -> 0 | DS17: =DQ17*DR17 -> 0 | DX17: =DV17*DW17 -> 0 | EC17: =EA17*EB17 -> 0 | EI17: =EG17*EH17 -> 0 | EO17: =EM17*EN17 -> 0 | EY17: =EW17*EX17 -> 0 | FD17: =FB17*FC17 -> 0 | FG17: =L17+Q17+V17 -> 0 | FH17: =N17+S17+X17 -> 0 | FI17: =SUM(AA17+AF17+AK17+AP17+AU17+BA17+BJ17+BO17+BT17+BY17+CD17+CJ17+CO17+CT17+CZ17+DF17+DL17+DQ17+DV17+EA17+EG17+EM17+EW17+FB17) -> 0 | FJ17: =SUM(AC17+AH17+AM17+AR17+AW17+BC17+BL17+BQ17+BV17+CA17+CF17+CL17+CQ17+CV17+DB17+DH17+DN17+DS17+DX17+EC17+EI17+EO17+EY17+FD17) -> 0 | FK17: =FG17+FI17 -> 0 | FL17: =FH17+FJ17 -> 0 | FM17: =COUNTIF(L17,">0")+COUNTIF(Q17,">0")+COUNTIF(V17,">0")+COUNTIF(AA17,">0")+COUNTIF(AF17,">0")+COUNTIF(AK17,">0")+COUNTIF(AP17,">0")+COUNTIF(AU17,">0")+COUNTIF(BA17,">0")+COUNTIF(BJ17,">0")+COUNTIF(BO17,">0")+COUNTIF(BT17,">0")+COUNTIF(BY17,">0")+COUNTIF(CD17,">0")+COUNTIF(CJ17,">0")+COUNTIF(CO17,">0")+COUNTIF(CT17,">0")+COUNTIF(CZ17,">0")+COUNTIF(DF17,">0")+COUNTIF(DL17,">0")+COUNTIF(DQ17,">0")+COUNTIF(DV17,">0")+COUNTIF(EA17,">0")+COUNTIF(EG17,">0")+COUNTIF(EM17,">0")+COUNTIF(EW17,">0")+COUNTIF(FB17,">0") -> 0
D18: 3 | N18: =L18*M18 -> 0 | S18: =Q18*R18 -> 0 | X18: =V18*W18 -> 0 | AC18: =AA18*AB18 -> 0 | AH18: =AF18*AG18 -> 0 | AM18: =AK18*AL18 -> 0 | AR18: =AP18*AQ18 -> 0 | AW18: =AU18*AV18 -> 0 | BC18: =BA18*BB18 -> 0 | BL18: =BJ18*BK18 -> 0 | BQ18: =BO18*BP18 -> 0 | BV18: =BT18*BU18 -> 0 | CA18: =BY18*BZ18 -> 0 | CF18: =CD18*CE18 -> 0 | CL18: =CJ18*CK18 -> 0 | CQ18: =CO18*CP18 -> 0 | CV18: =CT18*CU18 -> 0 | CY18: 0 | DB18: =CZ18*DA18 -> 0 | DH18: =DF18*DG18 -> 0 | DN18: =DL18*DM18 -> 0 | DS18: =DQ18*DR18 -> 0 | DX18: =DV18*DW18 -> 0 | EC18: =EA18*EB18 -> 0 | EI18: =EG18*EH18 -> 0 | EO18: =EM18*EN18 -> 0 | EY18: =EW18*EX18 -> 0 | FD18: =FB18*FC18 -> 0 | FG18: =L18+Q18+V18 -> 0 | FH18: =N18+S18+X18 -> 0 | FI18: =SUM(AA18+AF18+AK18+AP18+AU18+BA18+BJ18+BO18+BT18+BY18+CD18+CJ18+CO18+CT18+CZ18+DF18+DL18+DQ18+DV18+EA18+EG18+EM18+EW18+FB18) -> 0 | FJ18: =SUM(AC18+AH18+AM18+AR18+AW18+BC18+BL18+BQ18+BV18+CA18+CF18+CL18+CQ18+CV18+DB18+DH18+DN18+DS18+DX18+EC18+EI18+EO18+EY18+FD18) -> 0 | FK18: =FG18+FI18 -> 0 | FL18: =FH18+FJ18 -> 0 | FM18: =COUNTIF(L18,">0")+COUNTIF(Q18,">0")+COUNTIF(V18,">0")+COUNTIF(AA18,">0")+COUNTIF(AF18,">0")+COUNTIF(AK18,">0")+COUNTIF(AP18,">0")+COUNTIF(AU18,">0")+COUNTIF(BA18,">0")+COUNTIF(BJ18,">0")+COUNTIF(BO18,">0")+COUNTIF(BT18,">0")+COUNTIF(BY18,">0")+COUNTIF(CD18,">0")+COUNTIF(CJ18,">0")+COUNTIF(CO18,">0")+COUNTIF(CT18,">0")+COUNTIF(CZ18,">0")+COUNTIF(DF18,">0")+COUNTIF(DL18,">0")+COUNTIF(DQ18,">0")+COUNTIF(DV18,">0")+COUNTIF(EA18,">0")+COUNTIF(EG18,">0")+COUNTIF(EM18,">0")+COUNTIF(EW18,">0")+COUNTIF(FB18,">0") -> 0
D19: 3 | N19: =L19*M19 -> 0 | S19: =Q19*R19 -> 0 | X19: =V19*W19 -> 0 | AC19: =AA19*AB19 -> 0 | AH19: =AF19*AG19 -> 0 | AM19: =AK19*AL19 -> 0 | AR19: =AP19*AQ19 -> 0 | AW19: =AU19*AV19 -> 0 | BC19: =BA19*BB19 -> 0 | BL19: =BJ19*BK19 -> 0 | BQ19: =BO19*BP19 -> 0 | BV19: =BT19*BU19 -> 0 | CA19: =BY19*BZ19 -> 0 | CF19: =CD19*CE19 -> 0 | CL19: =CJ19*CK19 -> 0 | CQ19: =CO19*CP19 -> 0 | CV19: =CT19*CU19 -> 0 | CY19: 0 | DB19: =CZ19*DA19 -> 0 | DH19: =DF19*DG19 -> 0 | DN19: =DL19*DM19 -> 0 | DS19: =DQ19*DR19 -> 0 | DX19: =DV19*DW19 -> 0 | EC19: =EA19*EB19 -> 0 | EI19: =EG19*EH19 -> 0 | EO19: =EM19*EN19 -> 0 | EY19: =EW19*EX19 -> 0 | FD19: =FB19*FC19 -> 0 | FG19: =L19+Q19+V19 -> 0 | FH19: =N19+S19+X19 -> 0 | FI19: =SUM(AA19+AF19+AK19+AP19+AU19+BA19+BJ19+BO19+BT19+BY19+CD19+CJ19+CO19+CT19+CZ19+DF19+DL19+DQ19+DV19+EA19+EG19+EM19+EW19+FB19) -> 0 | FJ19: =SUM(AC19+AH19+AM19+AR19+AW19+BC19+BL19+BQ19+BV19+CA19+CF19+CL19+CQ19+CV19+DB19+DH19+DN19+DS19+DX19+EC19+EI19+EO19+EY19+FD19) -> 0 | FK19: =FG19+FI19 -> 0 | FL19: =FH19+FJ19 -> 0 | FM19: =COUNTIF(L19,">0")+COUNTIF(Q19,">0")+COUNTIF(V19,">0")+COUNTIF(AA19,">0")+COUNTIF(AF19,">0")+COUNTIF(AK19,">0")+COUNTIF(AP19,">0")+COUNTIF(AU19,">0")+COUNTIF(BA19,">0")+COUNTIF(BJ19,">0")+COUNTIF(BO19,">0")+COUNTIF(BT19,">0")+COUNTIF(BY19,">0")+COUNTIF(CD19,">0")+COUNTIF(CJ19,">0")+COUNTIF(CO19,">0")+COUNTIF(CT19,">0")+COUNTIF(CZ19,">0")+COUNTIF(DF19,">0")+COUNTIF(DL19,">0")+COUNTIF(DQ19,">0")+COUNTIF(DV19,">0")+COUNTIF(EA19,">0")+COUNTIF(EG19,">0")+COUNTIF(EM19,">0")+COUNTIF(EW19,">0")+COUNTIF(FB19,">0") -> 0
D20: 3 | N20: =L20*M20 -> 0 | S20: =Q20*R20 -> 0 | X20: =V20*W20 -> 0 | AC20: =AA20*AB20 -> 0 | AH20: =AF20*AG20 -> 0 | AM20: =AK20*AL20 -> 0 | AR20: =AP20*AQ20 -> 0 | AW20: =AU20*AV20 -> 0 | BC20: =BA20*BB20 -> 0 | BL20: =BJ20*BK20 -> 0 | BQ20: =BO20*BP20 -> 0 | BV20: =BT20*BU20 -> 0 | CA20: =BY20*BZ20 -> 0 | CF20: =CD20*CE20 -> 0 | CL20: =CJ20*CK20 -> 0 | CQ20: =CO20*CP20 -> 0 | CV20: =CT20*CU20 -> 0 | CY20: 0 | DB20: =CZ20*DA20 -> 0 | DH20: =DF20*DG20 -> 0 | DN20: =DL20*DM20 -> 0 | DS20: =DQ20*DR20 -> 0 | DX20: =DV20*DW20 -> 0 | EC20: =EA20*EB20 -> 0 | EI20: =EG20*EH20 -> 0 | EO20: =EM20*EN20 -> 0 | EY20: =EW20*EX20 -> 0 | FD20: =FB20*FC20 -> 0 | FG20: =L20+Q20+V20 -> 0 | FH20: =N20+S20+X20 -> 0 | FI20: =SUM(AA20+AF20+AK20+AP20+AU20+BA20+BJ20+BO20+BT20+BY20+CD20+CJ20+CO20+CT20+CZ20+DF20+DL20+DQ20+DV20+EA20+EG20+EM20+EW20+FB20) -> 0 | FJ20: =SUM(AC20+AH20+AM20+AR20+AW20+BC20+BL20+BQ20+BV20+CA20+CF20+CL20+CQ20+CV20+DB20+DH20+DN20+DS20+DX20+EC20+EI20+EO20+EY20+FD20) -> 0 | FK20: =FG20+FI20 -> 0 | FL20: =FH20+FJ20 -> 0 | FM20: =COUNTIF(L20,">0")+COUNTIF(Q20,">0")+COUNTIF(V20,">0")+COUNTIF(AA20,">0")+COUNTIF(AF20,">0")+COUNTIF(AK20,">0")+COUNTIF(AP20,">0")+COUNTIF(AU20,">0")+COUNTIF(BA20,">0")+COUNTIF(BJ20,">0")+COUNTIF(BO20,">0")+COUNTIF(BT20,">0")+COUNTIF(BY20,">0")+COUNTIF(CD20,">0")+COUNTIF(CJ20,">0")+COUNTIF(CO20,">0")+COUNTIF(CT20,">0")+COUNTIF(CZ20,">0")+COUNTIF(DF20,">0")+COUNTIF(DL20,">0")+COUNTIF(DQ20,">0")+COUNTIF(DV20,">0")+COUNTIF(EA20,">0")+COUNTIF(EG20,">0")+COUNTIF(EM20,">0")+COUNTIF(EW20,">0")+COUNTIF(FB20,">0") -> 0
D21: 3 | N21: =L21*M21 -> 0 | S21: =Q21*R21 -> 0 | X21: =V21*W21 -> 0 | AC21: =AA21*AB21 -> 0 | AH21: =AF21*AG21 -> 0 | AM21: =AK21*AL21 -> 0 | AR21: =AP21*AQ21 -> 0 | AW21: =AU21*AV21 -> 0 | BC21: =BA21*BB21 -> 0 | BL21: =BJ21*BK21 -> 0 | BQ21: =BO21*BP21 -> 0 | BV21: =BT21*BU21 -> 0 | CA21: =BY21*BZ21 -> 0 | CF21: =CD21*CE21 -> 0 | CL21: =CJ21*CK21 -> 0 | CQ21: =CO21*CP21 -> 0 | CV21: =CT21*CU21 -> 0 | DB21: =CZ21*DA21 -> 0 | DH21: =DF21*DG21 -> 0 | DN21: =DL21*DM21 -> 0 | DS21: =DQ21*DR21 -> 0 | DX21: =DV21*DW21 -> 0 | EC21: =EA21*EB21 -> 0 | EI21: =EG21*EH21 -> 0 | EO21: =EM21*EN21 -> 0 | EY21: =EW21*EX21 -> 0 | FD21: =FB21*FC21 -> 0 | FG21: =L21+Q21+V21 -> 0 | FH21: =N21+S21+X21 -> 0 | FI21: =SUM(AA21+AF21+AK21+AP21+AU21+BA21+BJ21+BO21+BT21+BY21+CD21+CJ21+CO21+CT21+CZ21+DF21+DL21+DQ21+DV21+EA21+EG21+EM21+EW21+FB21) -> 0 | FJ21: =SUM(AC21+AH21+AM21+AR21+AW21+BC21+BL21+BQ21+BV21+CA21+CF21+CL21+CQ21+CV21+DB21+DH21+DN21+DS21+DX21+EC21+EI21+EO21+EY21+FD21) -> 0 | FK21: =FG21+FI21 -> 0 | FL21: =FH21+FJ21 -> 0 | FM21: =COUNTIF(L21,">0")+COUNTIF(Q21,">0")+COUNTIF(V21,">0")+COUNTIF(AA21,">0")+COUNTIF(AF21,">0")+COUNTIF(AK21,">0")+COUNTIF(AP21,">0")+COUNTIF(AU21,">0")+COUNTIF(BA21,">0")+COUNTIF(BJ21,">0")+COUNTIF(BO21,">0")+COUNTIF(BT21,">0")+COUNTIF(BY21,">0")+COUNTIF(CD21,">0")+COUNTIF(CJ21,">0")+COUNTIF(CO21,">0")+COUNTIF(CT21,">0")+COUNTIF(CZ21,">0")+COUNTIF(DF21,">0")+COUNTIF(DL21,">0")+COUNTIF(DQ21,">0")+COUNTIF(DV21,">0")+COUNTIF(EA21,">0")+COUNTIF(EG21,">0")+COUNTIF(EM21,">0")+COUNTIF(EW21,">0")+COUNTIF(FB21,">0") -> 0
D22: 3 | N22: =L22*M22 -> 0 | S22: =Q22*R22 -> 0 | X22: =V22*W22 -> 0 | AC22: =AA22*AB22 -> 0 | AH22: =AF22*AG22 -> 0 | AM22: =AK22*AL22 -> 0 | AR22: =AP22*AQ22 -> 0 | AW22: =AU22*AV22 -> 0 | BC22: =BA22*BB22 -> 0 | BL22: =BJ22*BK22 -> 0 | BQ22: =BO22*BP22 -> 0 | BV22: =BT22*BU22 -> 0 | CA22: =BY22*BZ22 -> 0 | CF22: =CD22*CE22 -> 0 | CL22: =CJ22*CK22 -> 0 | CQ22: =CO22*CP22 -> 0 | CV22: =CT22*CU22 -> 0 | DB22: =CZ22*DA22 -> 0 | DH22: =DF22*DG22 -> 0 | DN22: =DL22*DM22 -> 0 | DS22: =DQ22*DR22 -> 0 | DX22: =DV22*DW22 -> 0 | EC22: =EA22*EB22 -> 0 | EI22: =EG22*EH22 -> 0 | EO22: =EM22*EN22 -> 0 | EY22: =EW22*EX22 -> 0 | FD22: =FB22*FC22 -> 0 | FG22: =L22+Q22+V22 -> 0 | FH22: =N22+S22+X22 -> 0 | FI22: =SUM(AA22+AF22+AK22+AP22+AU22+BA22+BJ22+BO22+BT22+BY22+CD22+CJ22+CO22+CT22+CZ22+DF22+DL22+DQ22+DV22+EA22+EG22+EM22+EW22+FB22) -> 0 | FJ22: =SUM(AC22+AH22+AM22+AR22+AW22+BC22+BL22+BQ22+BV22+CA22+CF22+CL22+CQ22+CV22+DB22+DH22+DN22+DS22+DX22+EC22+EI22+EO22+EY22+FD22) -> 0 | FK22: =FG22+FI22 -> 0 | FL22: =FH22+FJ22 -> 0 | FM22: =COUNTIF(L22,">0")+COUNTIF(Q22,">0")+COUNTIF(V22,">0")+COUNTIF(AA22,">0")+COUNTIF(AF22,">0")+COUNTIF(AK22,">0")+COUNTIF(AP22,">0")+COUNTIF(AU22,">0")+COUNTIF(BA22,">0")+COUNTIF(BJ22,">0")+COUNTIF(BO22,">0")+COUNTIF(BT22,">0")+COUNTIF(BY22,">0")+COUNTIF(CD22,">0")+COUNTIF(CJ22,">0")+COUNTIF(CO22,">0")+COUNTIF(CT22,">0")+COUNTIF(CZ22,">0")+COUNTIF(DF22,">0")+COUNTIF(DL22,">0")+COUNTIF(DQ22,">0")+COUNTIF(DV22,">0")+COUNTIF(EA22,">0")+COUNTIF(EG22,">0")+COUNTIF(EM22,">0")+COUNTIF(EW22,">0")+COUNTIF(FB22,">0") -> 0
D23: 3 | N23: =L23*M23 -> 0 | S23: =Q23*R23 -> 0 | X23: =V23*W23 -> 0 | AC23: =AA23*AB23 -> 0 | AH23: =AF23*AG23 -> 0 | AM23: =AK23*AL23 -> 0 | AR23: =AP23*AQ23 -> 0 | AW23: =AU23*AV23 -> 0 | BC23: =BA23*BB23 -> 0 | BL23: =BJ23*BK23 -> 0 | BQ23: =BO23*BP23 -> 0 | BV23: =BT23*BU23 -> 0 | CA23: =BY23*BZ23 -> 0 | CF23: =CD23*CE23 -> 0 | CL23: =CJ23*CK23 -> 0 | CQ23: =CO23*CP23 -> 0 | CV23: =CT23*CU23 -> 0 | DB23: =CZ23*DA23 -> 0 | DH23: =DF23*DG23 -> 0 | DN23: =DL23*DM23 -> 0 | DS23: =DQ23*DR23 -> 0 | DX23: =DV23*DW23 -> 0 | EC23: =EA23*EB23 -> 0 | EI23: =EG23*EH23 -> 0 | EO23: =EM23*EN23 -> 0 | EY23: =EW23*EX23 -> 0 | FD23: =FB23*FC23 -> 0 | FG23: =L23+Q23+V23 -> 0 | FH23: =N23+S23+X23 -> 0 | FI23: =SUM(AA23+AF23+AK23+AP23+AU23+BA23+BJ23+BO23+BT23+BY23+CD23+CJ23+CO23+CT23+CZ23+DF23+DL23+DQ23+DV23+EA23+EG23+EM23+EW23+FB23) -> 0 | FJ23: =SUM(AC23+AH23+AM23+AR23+AW23+BC23+BL23+BQ23+BV23+CA23+CF23+CL23+CQ23+CV23+DB23+DH23+DN23+DS23+DX23+EC23+EI23+EO23+EY23+FD23) -> 0 | FK23: =FG23+FI23 -> 0 | FL23: =FH23+FJ23 -> 0 | FM23: =COUNTIF(L23,">0")+COUNTIF(Q23,">0")+COUNTIF(V23,">0")+COUNTIF(AA23,">0")+COUNTIF(AF23,">0")+COUNTIF(AK23,">0")+COUNTIF(AP23,">0")+COUNTIF(AU23,">0")+COUNTIF(BA23,">0")+COUNTIF(BJ23,">0")+COUNTIF(BO23,">0")+COUNTIF(BT23,">0")+COUNTIF(BY23,">0")+COUNTIF(CD23,">0")+COUNTIF(CJ23,">0")+COUNTIF(CO23,">0")+COUNTIF(CT23,">0")+COUNTIF(CZ23,">0")+COUNTIF(DF23,">0")+COUNTIF(DL23,">0")+COUNTIF(DQ23,">0")+COUNTIF(DV23,">0")+COUNTIF(EA23,">0")+COUNTIF(EG23,">0")+COUNTIF(EM23,">0")+COUNTIF(EW23,">0")+COUNTIF(FB23,">0") -> 0
D24: 3 | N24: =L24*M24 -> 0 | S24: =Q24*R24 -> 0 | X24: =V24*W24 -> 0 | AC24: =AA24*AB24 -> 0 | AH24: =AF24*AG24 -> 0 | AM24: =AK24*AL24 -> 0 | AR24: =AP24*AQ24 -> 0 | AW24: =AU24*AV24 -> 0 | BC24: =BA24*BB24 -> 0 | BL24: =BJ24*BK24 -> 0 | BQ24: =BO24*BP24 -> 0 | BV24: =BT24*BU24 -> 0 | CA24: =BY24*BZ24 -> 0 | CF24: =CD24*CE24 -> 0 | CL24: =CJ24*CK24 -> 0 | CQ24: =CO24*CP24 -> 0 | CV24: =CT24*CU24 -> 0 | DB24: =CZ24*DA24 -> 0 | DH24: =DF24*DG24 -> 0 | DN24: =DL24*DM24 -> 0 | DS24: =DQ24*DR24 -> 0 | DX24: =DV24*DW24 -> 0 | EC24: =EA24*EB24 -> 0 | EI24: =EG24*EH24 -> 0 | EO24: =EM24*EN24 -> 0 | EY24: =EW24*EX24 -> 0 | FD24: =FB24*FC24 -> 0 | FG24: =L24+Q24+V24 -> 0 | FH24: =N24+S24+X24 -> 0 | FI24: =SUM(AA24+AF24+AK24+AP24+AU24+BA24+BJ24+BO24+BT24+BY24+CD24+CJ24+CO24+CT24+CZ24+DF24+DL24+DQ24+DV24+EA24+EG24+EM24+EW24+FB24) -> 0 | FJ24: =SUM(AC24+AH24+AM24+AR24+AW24+BC24+BL24+BQ24+BV24+CA24+CF24+CL24+CQ24+CV24+DB24+DH24+DN24+DS24+DX24+EC24+EI24+EO24+EY24+FD24) -> 0 | FK24: =FG24+FI24 -> 0 | FL24: =FH24+FJ24 -> 0 | FM24: =COUNTIF(L24,">0")+COUNTIF(Q24,">0")+COUNTIF(V24,">0")+COUNTIF(AA24,">0")+COUNTIF(AF24,">0")+COUNTIF(AK24,">0")+COUNTIF(AP24,">0")+COUNTIF(AU24,">0")+COUNTIF(BA24,">0")+COUNTIF(BJ24,">0")+COUNTIF(BO24,">0")+COUNTIF(BT24,">0")+COUNTIF(BY24,">0")+COUNTIF(CD24,">0")+COUNTIF(CJ24,">0")+COUNTIF(CO24,">0")+COUNTIF(CT24,">0")+COUNTIF(CZ24,">0")+COUNTIF(DF24,">0")+COUNTIF(DL24,">0")+COUNTIF(DQ24,">0")+COUNTIF(DV24,">0")+COUNTIF(EA24,">0")+COUNTIF(EG24,">0")+COUNTIF(EM24,">0")+COUNTIF(EW24,">0")+COUNTIF(FB24,">0") -> 0
D25: 3 | N25: =L25*M25 -> 0 | S25: =Q25*R25 -> 0 | X25: =V25*W25 -> 0 | AC25: =AA25*AB25 -> 0 | AH25: =AF25*AG25 -> 0 | AM25: =AK25*AL25 -> 0 | AR25: =AP25*AQ25 -> 0 | AW25: =AU25*AV25 -> 0 | BC25: =BA25*BB25 -> 0 | BL25: =BJ25*BK25 -> 0 | BQ25: =BO25*BP25 -> 0 | BV25: =BT25*BU25 -> 0 | CA25: =BY25*BZ25 -> 0 | CF25: =CD25*CE25 -> 0 | CL25: =CJ25*CK25 -> 0 | CQ25: =CO25*CP25 -> 0 | CV25: =CT25*CU25 -> 0 | CY25: 0 | DB25: =CZ25*DA25 -> 0 | DH25: =DF25*DG25 -> 0 | DN25: =DL25*DM25 -> 0 | DS25: =DQ25*DR25 -> 0 | DX25: =DV25*DW25 -> 0 | EC25: =EA25*EB25 -> 0 | EI25: =EG25*EH25 -> 0 | EO25: =EM25*EN25 -> 0 | EY25: =EW25*EX25 -> 0 | FD25: =FB25*FC25 -> 0 | FG25: =L25+Q25+V25 -> 0 | FH25: =N25+S25+X25 -> 0 | FI25: =SUM(AA25+AF25+AK25+AP25+AU25+BA25+BJ25+BO25+BT25+BY25+CD25+CJ25+CO25+CT25+CZ25+DF25+DL25+DQ25+DV25+EA25+EG25+EM25+EW25+FB25) -> 0 | FJ25: =SUM(AC25+AH25+AM25+AR25+AW25+BC25+BL25+BQ25+BV25+CA25+CF25+CL25+CQ25+CV25+DB25+DH25+DN25+DS25+DX25+EC25+EI25+EO25+EY25+FD25) -> 0 | FK25: =FG25+FI25 -> 0 | FL25: =FH25+FJ25 -> 0 | FM25: =COUNTIF(L25,">0")+COUNTIF(Q25,">0")+COUNTIF(V25,">0")+COUNTIF(AA25,">0")+COUNTIF(AF25,">0")+COUNTIF(AK25,">0")+COUNTIF(AP25,">0")+COUNTIF(AU25,">0")+COUNTIF(BA25,">0")+COUNTIF(BJ25,">0")+COUNTIF(BO25,">0")+COUNTIF(BT25,">0")+COUNTIF(BY25,">0")+COUNTIF(CD25,">0")+COUNTIF(CJ25,">0")+COUNTIF(CO25,">0")+COUNTIF(CT25,">0")+COUNTIF(CZ25,">0")+COUNTIF(DF25,">0")+COUNTIF(DL25,">0")+COUNTIF(DQ25,">0")+COUNTIF(DV25,">0")+COUNTIF(EA25,">0")+COUNTIF(EG25,">0")+COUNTIF(EM25,">0")+COUNTIF(EW25,">0")+COUNTIF(FB25,">0") -> 0
D26: 3 | N26: =L26*M26 -> 0 | S26: =Q26*R26 -> 0 | X26: =V26*W26 -> 0 | AC26: =AA26*AB26 -> 0 | AH26: =AF26*AG26 -> 0 | AM26: =AK26*AL26 -> 0 | AR26: =AP26*AQ26 -> 0 | AW26: =AU26*AV26 -> 0 | BC26: =BA26*BB26 -> 0 | BL26: =BJ26*BK26 -> 0 | BQ26: =BO26*BP26 -> 0 | BV26: =BT26*BU26 -> 0 | CA26: =BY26*BZ26 -> 0 | CF26: =CD26*CE26 -> 0 | CL26: =CJ26*CK26 -> 0 | CQ26: =CO26*CP26 -> 0 | CV26: =CT26*CU26 -> 0 | DB26: =CZ26*DA26 -> 0 | DH26: =DF26*DG26 -> 0 | DN26: =DL26*DM26 -> 0 | DS26: =DQ26*DR26 -> 0 | DX26: =DV26*DW26 -> 0 | EC26: =EA26*EB26 -> 0 | EI26: =EG26*EH26 -> 0 | EO26: =EM26*EN26 -> 0 | EY26: =EW26*EX26 -> 0 | FD26: =FB26*FC26 -> 0 | FG26: =L26+Q26+V26 -> 0 | FH26: =N26+S26+X26 -> 0 | FI26: =SUM(AA26+AF26+AK26+AP26+AU26+BA26+BJ26+BO26+BT26+BY26+CD26+CJ26+CO26+CT26+CZ26+DF26+DL26+DQ26+DV26+EA26+EG26+EM26+EW26+FB26) -> 0 | FJ26: =SUM(AC26+AH26+AM26+AR26+AW26+BC26+BL26+BQ26+BV26+CA26+CF26+CL26+CQ26+CV26+DB26+DH26+DN26+DS26+DX26+EC26+EI26+EO26+EY26+FD26) -> 0 | FK26: =FG26+FI26 -> 0 | FL26: =FH26+FJ26 -> 0 | FM26: =COUNTIF(L26,">0")+COUNTIF(Q26,">0")+COUNTIF(V26,">0")+COUNTIF(AA26,">0")+COUNTIF(AF26,">0")+COUNTIF(AK26,">0")+COUNTIF(AP26,">0")+COUNTIF(AU26,">0")+COUNTIF(BA26,">0")+COUNTIF(BJ26,">0")+COUNTIF(BO26,">0")+COUNTIF(BT26,">0")+COUNTIF(BY26,">0")+COUNTIF(CD26,">0")+COUNTIF(CJ26,">0")+COUNTIF(CO26,">0")+COUNTIF(CT26,">0")+COUNTIF(CZ26,">0")+COUNTIF(DF26,">0")+COUNTIF(DL26,">0")+COUNTIF(DQ26,">0")+COUNTIF(DV26,">0")+COUNTIF(EA26,">0")+COUNTIF(EG26,">0")+COUNTIF(EM26,">0")+COUNTIF(EW26,">0")+COUNTIF(FB26,">0") -> 0
D27: 3 | N27: =L27*M27 -> 0 | S27: =Q27*R27 -> 0 | X27: =V27*W27 -> 0 | AC27: =AA27*AB27 -> 0 | AH27: =AF27*AG27 -> 0 | AM27: =AK27*AL27 -> 0 | AR27: =AP27*AQ27 -> 0 | AW27: =AU27*AV27 -> 0 | BC27: =BA27*BB27 -> 0 | BL27: =BJ27*BK27 -> 0 | BQ27: =BO27*BP27 -> 0 | BV27: =BT27*BU27 -> 0 | CA27: =BY27*BZ27 -> 0 | CF27: =CD27*CE27 -> 0 | CL27: =CJ27*CK27 -> 0 | CQ27: =CO27*CP27 -> 0 | CV27: =CT27*CU27 -> 0 | CY27: 0 | DB27: =CZ27*DA27 -> 0 | DH27: =DF27*DG27 -> 0 | DN27: =DL27*DM27 -> 0 | DS27: =DQ27*DR27 -> 0 | DX27: =DV27*DW27 -> 0 | EC27: =EA27*EB27 -> 0 | EI27: =EG27*EH27 -> 0 | EO27: =EM27*EN27 -> 0 | EY27: =EW27*EX27 -> 0 | FD27: =FB27*FC27 -> 0 | FG27: =L27+Q27+V27 -> 0 | FH27: =N27+S27+X27 -> 0 | FI27: =SUM(AA27+AF27+AK27+AP27+AU27+BA27+BJ27+BO27+BT27+BY27+CD27+CJ27+CO27+CT27+CZ27+DF27+DL27+DQ27+DV27+EA27+EG27+EM27+EW27+FB27) -> 0 | FJ27: =SUM(AC27+AH27+AM27+AR27+AW27+BC27+BL27+BQ27+BV27+CA27+CF27+CL27+CQ27+CV27+DB27+DH27+DN27+DS27+DX27+EC27+EI27+EO27+EY27+FD27) -> 0 | FK27: =FG27+FI27 -> 0 | FL27: =FH27+FJ27 -> 0 | FM27: =COUNTIF(L27,">0")+COUNTIF(Q27,">0")+COUNTIF(V27,">0")+COUNTIF(AA27,">0")+COUNTIF(AF27,">0")+COUNTIF(AK27,">0")+COUNTIF(AP27,">0")+COUNTIF(AU27,">0")+COUNTIF(BA27,">0")+COUNTIF(BJ27,">0")+COUNTIF(BO27,">0")+COUNTIF(BT27,">0")+COUNTIF(BY27,">0")+COUNTIF(CD27,">0")+COUNTIF(CJ27,">0")+COUNTIF(CO27,">0")+COUNTIF(CT27,">0")+COUNTIF(CZ27,">0")+COUNTIF(DF27,">0")+COUNTIF(DL27,">0")+COUNTIF(DQ27,">0")+COUNTIF(DV27,">0")+COUNTIF(EA27,">0")+COUNTIF(EG27,">0")+COUNTIF(EM27,">0")+COUNTIF(EW27,">0")+COUNTIF(FB27,">0") -> 0
D28: 3 | N28: =L28*M28 -> 0 | S28: =Q28*R28 -> 0 | X28: =V28*W28 -> 0 | AC28: =AA28*AB28 -> 0 | AH28: =AF28*AG28 -> 0 | AM28: =AK28*AL28 -> 0 | AR28: =AP28*AQ28 -> 0 | AW28: =AU28*AV28 -> 0 | BC28: =BA28*BB28 -> 0 | BL28: =BJ28*BK28 -> 0 | BQ28: =BO28*BP28 -> 0 | BV28: =BT28*BU28 -> 0 | CA28: =BY28*BZ28 -> 0 | CF28: =CD28*CE28 -> 0 | CL28: =CJ28*CK28 -> 0 | CQ28: =CO28*CP28 -> 0 | CV28: =CT28*CU28 -> 0 | CY28: 0 | DB28: =CZ28*DA28 -> 0 | DH28: =DF28*DG28 -> 0 | DN28: =DL28*DM28 -> 0 | DS28: =DQ28*DR28 -> 0 | DX28: =DV28*DW28 -> 0 | EC28: =EA28*EB28 -> 0 | EI28: =EG28*EH28 -> 0 | EO28: =EM28*EN28 -> 0 | EY28: =EW28*EX28 -> 0 | FD28: =FB28*FC28 -> 0 | FG28: =L28+Q28+V28 -> 0 | FH28: =N28+S28+X28 -> 0 | FI28: =SUM(AA28+AF28+AK28+AP28+AU28+BA28+BJ28+BO28+BT28+BY28+CD28+CJ28+CO28+CT28+CZ28+DF28+DL28+DQ28+DV28+EA28+EG28+EM28+EW28+FB28) -> 0 | FJ28: =SUM(AC28+AH28+AM28+AR28+AW28+BC28+BL28+BQ28+BV28+CA28+CF28+CL28+CQ28+CV28+DB28+DH28+DN28+DS28+DX28+EC28+EI28+EO28+EY28+FD28) -> 0 | FK28: =FG28+FI28 -> 0 | FL28: =FH28+FJ28 -> 0 | FM28: =COUNTIF(L28,">0")+COUNTIF(Q28,">0")+COUNTIF(V28,">0")+COUNTIF(AA28,">0")+COUNTIF(AF28,">0")+COUNTIF(AK28,">0")+COUNTIF(AP28,">0")+COUNTIF(AU28,">0")+COUNTIF(BA28,">0")+COUNTIF(BJ28,">0")+COUNTIF(BO28,">0")+COUNTIF(BT28,">0")+COUNTIF(BY28,">0")+COUNTIF(CD28,">0")+COUNTIF(CJ28,">0")+COUNTIF(CO28,">0")+COUNTIF(CT28,">0")+COUNTIF(CZ28,">0")+COUNTIF(DF28,">0")+COUNTIF(DL28,">0")+COUNTIF(DQ28,">0")+COUNTIF(DV28,">0")+COUNTIF(EA28,">0")+COUNTIF(EG28,">0")+COUNTIF(EM28,">0")+COUNTIF(EW28,">0")+COUNTIF(FB28,">0") -> 0
D29: 3 | N29: =L29*M29 -> 0 | S29: =Q29*R29 -> 0 | X29: =V29*W29 -> 0 | AC29: =AA29*AB29 -> 0 | AH29: =AF29*AG29 -> 0 | AM29: =AK29*AL29 -> 0 | AR29: =AP29*AQ29 -> 0 | AW29: =AU29*AV29 -> 0 | BC29: =BA29*BB29 -> 0 | BL29: =BJ29*BK29 -> 0 | BQ29: =BO29*BP29 -> 0 | BV29: =BT29*BU29 -> 0 | CA29: =BY29*BZ29 -> 0 | CF29: =CD29*CE29 -> 0 | CL29: =CJ29*CK29 -> 0 | CQ29: =CO29*CP29 -> 0 | CV29: =CT29*CU29 -> 0 | CY29: 0 | DB29: =CZ29*DA29 -> 0 | DH29: =DF29*DG29 -> 0 | DN29: =DL29*DM29 -> 0 | DS29: =DQ29*DR29 -> 0 | DX29: =DV29*DW29 -> 0 | EC29: =EA29*EB29 -> 0 | EI29: =EG29*EH29 -> 0 | EO29: =EM29*EN29 -> 0 | EY29: =EW29*EX29 -> 0 | FD29: =FB29*FC29 -> 0 | FG29: =L29+Q29+V29 -> 0 | FH29: =N29+S29+X29 -> 0 | FI29: =SUM(AA29+AF29+AK29+AP29+AU29+BA29+BJ29+BO29+BT29+BY29+CD29+CJ29+CO29+CT29+CZ29+DF29+DL29+DQ29+DV29+EA29+EG29+EM29+EW29+FB29) -> 0 | FJ29: =SUM(AC29+AH29+AM29+AR29+AW29+BC29+BL29+BQ29+BV29+CA29+CF29+CL29+CQ29+CV29+DB29+DH29+DN29+DS29+DX29+EC29+EI29+EO29+EY29+FD29) -> 0 | FK29: =FG29+FI29 -> 0 | FL29: =FH29+FJ29 -> 0 | FM29: =COUNTIF(L29,">0")+COUNTIF(Q29,">0")+COUNTIF(V29,">0")+COUNTIF(AA29,">0")+COUNTIF(AF29,">0")+COUNTIF(AK29,">0")+COUNTIF(AP29,">0")+COUNTIF(AU29,">0")+COUNTIF(BA29,">0")+COUNTIF(BJ29,">0")+COUNTIF(BO29,">0")+COUNTIF(BT29,">0")+COUNTIF(BY29,">0")+COUNTIF(CD29,">0")+COUNTIF(CJ29,">0")+COUNTIF(CO29,">0")+COUNTIF(CT29,">0")+COUNTIF(CZ29,">0")+COUNTIF(DF29,">0")+COUNTIF(DL29,">0")+COUNTIF(DQ29,">0")+COUNTIF(DV29,">0")+COUNTIF(EA29,">0")+COUNTIF(EG29,">0")+COUNTIF(EM29,">0")+COUNTIF(EW29,">0")+COUNTIF(FB29,">0") -> 0
D30: 3 | N30: =L30*M30 -> 0 | S30: =Q30*R30 -> 0 | X30: =V30*W30 -> 0 | AC30: =AA30*AB30 -> 0 | AH30: =AF30*AG30 -> 0 | AM30: =AK30*AL30 -> 0 | AR30: =AP30*AQ30 -> 0 | AW30: =AU30*AV30 -> 0 | BC30: =BA30*BB30 -> 0 | BL30: =BJ30*BK30 -> 0 | BQ30: =BO30*BP30 -> 0 | BV30: =BT30*BU30 -> 0 | CA30: =BY30*BZ30 -> 0 | CF30: =CD30*CE30 -> 0 | CL30: =CJ30*CK30 -> 0 | CQ30: =CO30*CP30 -> 0 | CV30: =CT30*CU30 -> 0 | DB30: =CZ30*DA30 -> 0 | DH30: =DF30*DG30 -> 0 | DN30: =DL30*DM30 -> 0 | DS30: =DQ30*DR30 -> 0 | DX30: =DV30*DW30 -> 0 | EC30: =EA30*EB30 -> 0 | EI30: =EG30*EH30 -> 0 | EO30: =EM30*EN30 -> 0 | EY30: =EW30*EX30 -> 0 | FD30: =FB30*FC30 -> 0 | FG30: =L30+Q30+V30 -> 0 | FH30: =N30+S30+X30 -> 0 | FI30: =SUM(AA30+AF30+AK30+AP30+AU30+BA30+BJ30+BO30+BT30+BY30+CD30+CJ30+CO30+CT30+CZ30+DF30+DL30+DQ30+DV30+EA30+EG30+EM30+EW30+FB30) -> 0 | FJ30: =SUM(AC30+AH30+AM30+AR30+AW30+BC30+BL30+BQ30+BV30+CA30+CF30+CL30+CQ30+CV30+DB30+DH30+DN30+DS30+DX30+EC30+EI30+EO30+EY30+FD30) -> 0 | FK30: =FG30+FI30 -> 0 | FL30: =FH30+FJ30 -> 0 | FM30: =COUNTIF(L30,">0")+COUNTIF(Q30,">0")+COUNTIF(V30,">0")+COUNTIF(AA30,">0")+COUNTIF(AF30,">0")+COUNTIF(AK30,">0")+COUNTIF(AP30,">0")+COUNTIF(AU30,">0")+COUNTIF(BA30,">0")+COUNTIF(BJ30,">0")+COUNTIF(BO30,">0")+COUNTIF(BT30,">0")+COUNTIF(BY30,">0")+COUNTIF(CD30,">0")+COUNTIF(CJ30,">0")+COUNTIF(CO30,">0")+COUNTIF(CT30,">0")+COUNTIF(CZ30,">0")+COUNTIF(DF30,">0")+COUNTIF(DL30,">0")+COUNTIF(DQ30,">0")+COUNTIF(DV30,">0")+COUNTIF(EA30,">0")+COUNTIF(EG30,">0")+COUNTIF(EM30,">0")+COUNTIF(EW30,">0")+COUNTIF(FB30,">0") -> 0
D31: 3 | N31: =L31*M31 -> 0 | S31: =Q31*R31 -> 0 | X31: =V31*W31 -> 0 | AC31: =AA31*AB31 -> 0 | AH31: =AF31*AG31 -> 0 | AM31: =AK31*AL31 -> 0 | AR31: =AP31*AQ31 -> 0 | AW31: =AU31*AV31 -> 0 | BC31: =BA31*BB31 -> 0 | BL31: =BJ31*BK31 -> 0 | BQ31: =BO31*BP31 -> 0 | BV31: =BT31*BU31 -> 0 | CA31: =BY31*BZ31 -> 0 | CF31: =CD31*CE31 -> 0 | CL31: =CJ31*CK31 -> 0 | CQ31: =CO31*CP31 -> 0 | CV31: =CT31*CU31 -> 0 | CY31: 0 | DB31: =CZ31*DA31 -> 0 | DH31: =DF31*DG31 -> 0 | DN31: =DL31*DM31 -> 0 | DS31: =DQ31*DR31 -> 0 | DX31: =DV31*DW31 -> 0 | EC31: =EA31*EB31 -> 0 | EI31: =EG31*EH31 -> 0 | EO31: =EM31*EN31 -> 0 | EY31: =EW31*EX31 -> 0 | FD31: =FB31*FC31 -> 0 | FG31: =L31+Q31+V31 -> 0 | FH31: =N31+S31+X31 -> 0 | FI31: =SUM(AA31+AF31+AK31+AP31+AU31+BA31+BJ31+BO31+BT31+BY31+CD31+CJ31+CO31+CT31+CZ31+DF31+DL31+DQ31+DV31+EA31+EG31+EM31+EW31+FB31) -> 0 | FJ31: =SUM(AC31+AH31+AM31+AR31+AW31+BC31+BL31+BQ31+BV31+CA31+CF31+CL31+CQ31+CV31+DB31+DH31+DN31+DS31+DX31+EC31+EI31+EO31+EY31+FD31) -> 0 | FK31: =FG31+FI31 -> 0 | FL31: =FH31+FJ31 -> 0 | FM31: =COUNTIF(L31,">0")+COUNTIF(Q31,">0")+COUNTIF(V31,">0")+COUNTIF(AA31,">0")+COUNTIF(AF31,">0")+COUNTIF(AK31,">0")+COUNTIF(AP31,">0")+COUNTIF(AU31,">0")+COUNTIF(BA31,">0")+COUNTIF(BJ31,">0")+COUNTIF(BO31,">0")+COUNTIF(BT31,">0")+COUNTIF(BY31,">0")+COUNTIF(CD31,">0")+COUNTIF(CJ31,">0")+COUNTIF(CO31,">0")+COUNTIF(CT31,">0")+COUNTIF(CZ31,">0")+COUNTIF(DF31,">0")+COUNTIF(DL31,">0")+COUNTIF(DQ31,">0")+COUNTIF(DV31,">0")+COUNTIF(EA31,">0")+COUNTIF(EG31,">0")+COUNTIF(EM31,">0")+COUNTIF(EW31,">0")+COUNTIF(FB31,">0") -> 0
D32: 3 | N32: =L32*M32 -> 0 | S32: =Q32*R32 -> 0 | X32: =V32*W32 -> 0 | AC32: =AA32*AB32 -> 0 | AH32: =AF32*AG32 -> 0 | AM32: =AK32*AL32 -> 0 | AR32: =AP32*AQ32 -> 0 | AW32: =AU32*AV32 -> 0 | BC32: =BA32*BB32 -> 0 | BL32: =BJ32*BK32 -> 0 | BQ32: =BO32*BP32 -> 0 | BV32: =BT32*BU32 -> 0 | CA32: =BY32*BZ32 -> 0 | CF32: =CD32*CE32 -> 0 | CL32: =CJ32*CK32 -> 0 | CQ32: =CO32*CP32 -> 0 | CV32: =CT32*CU32 -> 0 | DB32: =CZ32*DA32 -> 0 | DH32: =DF32*DG32 -> 0 | DN32: =DL32*DM32 -> 0 | DS32: =DQ32*DR32 -> 0 | DX32: =DV32*DW32 -> 0 | EC32: =EA32*EB32 -> 0 | EI32: =EG32*EH32 -> 0 | EO32: =EM32*EN32 -> 0 | EY32: =EW32*EX32 -> 0 | FD32: =FB32*FC32 -> 0 | FG32: =L32+Q32+V32 -> 0 | FH32: =N32+S32+X32 -> 0 | FI32: =SUM(AA32+AF32+AK32+AP32+AU32+BA32+BJ32+BO32+BT32+BY32+CD32+CJ32+CO32+CT32+CZ32+DF32+DL32+DQ32+DV32+EA32+EG32+EM32+EW32+FB32) -> 0 | FJ32: =SUM(AC32+AH32+AM32+AR32+AW32+BC32+BL32+BQ32+BV32+CA32+CF32+CL32+CQ32+CV32+DB32+DH32+DN32+DS32+DX32+EC32+EI32+EO32+EY32+FD32) -> 0 | FK32: =FG32+FI32 -> 0 | FL32: =FH32+FJ32 -> 0 | FM32: =COUNTIF(L32,">0")+COUNTIF(Q32,">0")+COUNTIF(V32,">0")+COUNTIF(AA32,">0")+COUNTIF(AF32,">0")+COUNTIF(AK32,">0")+COUNTIF(AP32,">0")+COUNTIF(AU32,">0")+COUNTIF(BA32,">0")+COUNTIF(BJ32,">0")+COUNTIF(BO32,">0")+COUNTIF(BT32,">0")+COUNTIF(BY32,">0")+COUNTIF(CD32,">0")+COUNTIF(CJ32,">0")+COUNTIF(CO32,">0")+COUNTIF(CT32,">0")+COUNTIF(CZ32,">0")+COUNTIF(DF32,">0")+COUNTIF(DL32,">0")+COUNTIF(DQ32,">0")+COUNTIF(DV32,">0")+COUNTIF(EA32,">0")+COUNTIF(EG32,">0")+COUNTIF(EM32,">0")+COUNTIF(EW32,">0")+COUNTIF(FB32,">0") -> 0
D33: 3 | N33: =L33*M33 -> 0 | S33: =Q33*R33 -> 0 | X33: =V33*W33 -> 0 | AC33: =AA33*AB33 -> 0 | AH33: =AF33*AG33 -> 0 | AM33: =AK33*AL33 -> 0 | AR33: =AP33*AQ33 -> 0 | AW33: =AU33*AV33 -> 0 | BC33: =BA33*BB33 -> 0 | BL33: =BJ33*BK33 -> 0 | BQ33: =BO33*BP33 -> 0 | BV33: =BT33*BU33 -> 0 | CA33: =BY33*BZ33 -> 0 | CF33: =CD33*CE33 -> 0 | CL33: =CJ33*CK33 -> 0 | CQ33: =CO33*CP33 -> 0 | CV33: =CT33*CU33 -> 0 | DB33: =CZ33*DA33 -> 0 | DH33: =DF33*DG33 -> 0 | DN33: =DL33*DM33 -> 0 | DS33: =DQ33*DR33 -> 0 | DX33: =DV33*DW33 -> 0 | EC33: =EA33*EB33 -> 0 | EI33: =EG33*EH33 -> 0 | EO33: =EM33*EN33 -> 0 | EY33: =EW33*EX33 -> 0 | FD33: =FB33*FC33 -> 0 | FG33: =L33+Q33+V33 -> 0 | FH33: =N33+S33+X33 -> 0 | FI33: =SUM(AA33+AF33+AK33+AP33+AU33+BA33+BJ33+BO33+BT33+BY33+CD33+CJ33+CO33+CT33+CZ33+DF33+DL33+DQ33+DV33+EA33+EG33+EM33+EW33+FB33) -> 0 | FJ33: =SUM(AC33+AH33+AM33+AR33+AW33+BC33+BL33+BQ33+BV33+CA33+CF33+CL33+CQ33+CV33+DB33+DH33+DN33+DS33+DX33+EC33+EI33+EO33+EY33+FD33) -> 0 | FK33: =FG33+FI33 -> 0 | FL33: =FH33+FJ33 -> 0 | FM33: =COUNTIF(L33,">0")+COUNTIF(Q33,">0")+COUNTIF(V33,">0")+COUNTIF(AA33,">0")+COUNTIF(AF33,">0")+COUNTIF(AK33,">0")+COUNTIF(AP33,">0")+COUNTIF(AU33,">0")+COUNTIF(BA33,">0")+COUNTIF(BJ33,">0")+COUNTIF(BO33,">0")+COUNTIF(BT33,">0")+COUNTIF(BY33,">0")+COUNTIF(CD33,">0")+COUNTIF(CJ33,">0")+COUNTIF(CO33,">0")+COUNTIF(CT33,">0")+COUNTIF(CZ33,">0")+COUNTIF(DF33,">0")+COUNTIF(DL33,">0")+COUNTIF(DQ33,">0")+COUNTIF(DV33,">0")+COUNTIF(EA33,">0")+COUNTIF(EG33,">0")+COUNTIF(EM33,">0")+COUNTIF(EW33,">0")+COUNTIF(FB33,">0") -> 0
D34: 3 | N34: =L34*M34 -> 0 | S34: =Q34*R34 -> 0 | X34: =V34*W34 -> 0 | AC34: =AA34*AB34 -> 0 | AH34: =AF34*AG34 -> 0 | AM34: =AK34*AL34 -> 0 | AR34: =AP34*AQ34 -> 0 | AW34: =AU34*AV34 -> 0 | BC34: =BA34*BB34 -> 0 | BL34: =BJ34*BK34 -> 0 | BQ34: =BO34*BP34 -> 0 | BV34: =BT34*BU34 -> 0 | CA34: =BY34*BZ34 -> 0 | CF34: =CD34*CE34 -> 0 | CL34: =CJ34*CK34 -> 0 | CQ34: =CO34*CP34 -> 0 | CV34: =CT34*CU34 -> 0 | DB34: =CZ34*DA34 -> 0 | DH34: =DF34*DG34 -> 0 | DN34: =DL34*DM34 -> 0 | DS34: =DQ34*DR34 -> 0 | DX34: =DV34*DW34 -> 0 | EC34: =EA34*EB34 -> 0 | EI34: =EG34*EH34 -> 0 | EO34: =EM34*EN34 -> 0 | EY34: =EW34*EX34 -> 0 | FD34: =FB34*FC34 -> 0 | FG34: =L34+Q34+V34 -> 0 | FH34: =N34+S34+X34 -> 0 | FI34: =SUM(AA34+AF34+AK34+AP34+AU34+BA34+BJ34+BO34+BT34+BY34+CD34+CJ34+CO34+CT34+CZ34+DF34+DL34+DQ34+DV34+EA34+EG34+EM34+EW34+FB34) -> 0 | FJ34: =SUM(AC34+AH34+AM34+AR34+AW34+BC34+BL34+BQ34+BV34+CA34+CF34+CL34+CQ34+CV34+DB34+DH34+DN34+DS34+DX34+EC34+EI34+EO34+EY34+FD34) -> 0 | FK34: =FG34+FI34 -> 0 | FL34: =FH34+FJ34 -> 0 | FM34: =COUNTIF(L34,">0")+COUNTIF(Q34,">0")+COUNTIF(V34,">0")+COUNTIF(AA34,">0")+COUNTIF(AF34,">0")+COUNTIF(AK34,">0")+COUNTIF(AP34,">0")+COUNTIF(AU34,">0")+COUNTIF(BA34,">0")+COUNTIF(BJ34,">0")+COUNTIF(BO34,">0")+COUNTIF(BT34,">0")+COUNTIF(BY34,">0")+COUNTIF(CD34,">0")+COUNTIF(CJ34,">0")+COUNTIF(CO34,">0")+COUNTIF(CT34,">0")+COUNTIF(CZ34,">0")+COUNTIF(DF34,">0")+COUNTIF(DL34,">0")+COUNTIF(DQ34,">0")+COUNTIF(DV34,">0")+COUNTIF(EA34,">0")+COUNTIF(EG34,">0")+COUNTIF(EM34,">0")+COUNTIF(EW34,">0")+COUNTIF(FB34,">0") -> 0
D35: 3 | N35: =L35*M35 -> 0 | S35: =Q35*R35 -> 0 | X35: =V35*W35 -> 0 | AC35: =AA35*AB35 -> 0 | AH35: =AF35*AG35 -> 0 | AM35: =AK35*AL35 -> 0 | AR35: =AP35*AQ35 -> 0 | AW35: =AU35*AV35 -> 0 | BC35: =BA35*BB35 -> 0 | BL35: =BJ35*BK35 -> 0 | BQ35: =BO35*BP35 -> 0 | BV35: =BT35*BU35 -> 0 | CA35: =BY35*BZ35 -> 0 | CF35: =CD35*CE35 -> 0 | CL35: =CJ35*CK35 -> 0 | CQ35: =CO35*CP35 -> 0 | CV35: =CT35*CU35 -> 0 | DB35: =CZ35*DA35 -> 0 | DH35: =DF35*DG35 -> 0 | DN35: =DL35*DM35 -> 0 | DS35: =DQ35*DR35 -> 0 | DX35: =DV35*DW35 -> 0 | EC35: =EA35*EB35 -> 0 | EI35: =EG35*EH35 -> 0 | EO35: =EM35*EN35 -> 0 | EY35: =EW35*EX35 -> 0 | FD35: =FB35*FC35 -> 0 | FG35: =L35+Q35+V35 -> 0 | FH35: =N35+S35+X35 -> 0 | FI35: =SUM(AA35+AF35+AK35+AP35+AU35+BA35+BJ35+BO35+BT35+BY35+CD35+CJ35+CO35+CT35+CZ35+DF35+DL35+DQ35+DV35+EA35+EG35+EM35+EW35+FB35) -> 0 | FJ35: =SUM(AC35+AH35+AM35+AR35+AW35+BC35+BL35+BQ35+BV35+CA35+CF35+CL35+CQ35+CV35+DB35+DH35+DN35+DS35+DX35+EC35+EI35+EO35+EY35+FD35) -> 0 | FK35: =FG35+FI35 -> 0 | FL35: =FH35+FJ35 -> 0 | FM35: =COUNTIF(L35,">0")+COUNTIF(Q35,">0")+COUNTIF(V35,">0")+COUNTIF(AA35,">0")+COUNTIF(AF35,">0")+COUNTIF(AK35,">0")+COUNTIF(AP35,">0")+COUNTIF(AU35,">0")+COUNTIF(BA35,">0")+COUNTIF(BJ35,">0")+COUNTIF(BO35,">0")+COUNTIF(BT35,">0")+COUNTIF(BY35,">0")+COUNTIF(CD35,">0")+COUNTIF(CJ35,">0")+COUNTIF(CO35,">0")+COUNTIF(CT35,">0")+COUNTIF(CZ35,">0")+COUNTIF(DF35,">0")+COUNTIF(DL35,">0")+COUNTIF(DQ35,">0")+COUNTIF(DV35,">0")+COUNTIF(EA35,">0")+COUNTIF(EG35,">0")+COUNTIF(EM35,">0")+COUNTIF(EW35,">0")+COUNTIF(FB35,">0") -> 0
D36: 3 | N36: =L36*M36 -> 0 | S36: =Q36*R36 -> 0 | X36: =V36*W36 -> 0 | AC36: =AA36*AB36 -> 0 | AH36: =AF36*AG36 -> 0 | AM36: =AK36*AL36 -> 0 | AR36: =AP36*AQ36 -> 0 | AW36: =AU36*AV36 -> 0 | BC36: =BA36*BB36 -> 0 | BL36: =BJ36*BK36 -> 0 | BQ36: =BO36*BP36 -> 0 | BV36: =BT36*BU36 -> 0 | CA36: =BY36*BZ36 -> 0 | CF36: =CD36*CE36 -> 0 | CL36: =CJ36*CK36 -> 0 | CQ36: =CO36*CP36 -> 0 | CV36: =CT36*CU36 -> 0 | DB36: =CZ36*DA36 -> 0 | DH36: =DF36*DG36 -> 0 | DN36: =DL36*DM36 -> 0 | DS36: =DQ36*DR36 -> 0 | DX36: =DV36*DW36 -> 0 | EC36: =EA36*EB36 -> 0 | EI36: =EG36*EH36 -> 0 | EO36: =EM36*EN36 -> 0 | EY36: =EW36*EX36 -> 0 | FD36: =FB36*FC36 -> 0 | FG36: =L36+Q36+V36 -> 0 | FH36: =N36+S36+X36 -> 0 | FI36: =SUM(AA36+AF36+AK36+AP36+AU36+BA36+BJ36+BO36+BT36+BY36+CD36+CJ36+CO36+CT36+CZ36+DF36+DL36+DQ36+DV36+EA36+EG36+EM36+EW36+FB36) -> 0 | FJ36: =SUM(AC36+AH36+AM36+AR36+AW36+BC36+BL36+BQ36+BV36+CA36+CF36+CL36+CQ36+CV36+DB36+DH36+DN36+DS36+DX36+EC36+EI36+EO36+EY36+FD36) -> 0 | FK36: =FG36+FI36 -> 0 | FL36: =FH36+FJ36 -> 0 | FM36: =COUNTIF(L36,">0")+COUNTIF(Q36,">0")+COUNTIF(V36,">0")+COUNTIF(AA36,">0")+COUNTIF(AF36,">0")+COUNTIF(AK36,">0")+COUNTIF(AP36,">0")+COUNTIF(AU36,">0")+COUNTIF(BA36,">0")+COUNTIF(BJ36,">0")+COUNTIF(BO36,">0")+COUNTIF(BT36,">0")+COUNTIF(BY36,">0")+COUNTIF(CD36,">0")+COUNTIF(CJ36,">0")+COUNTIF(CO36,">0")+COUNTIF(CT36,">0")+COUNTIF(CZ36,">0")+COUNTIF(DF36,">0")+COUNTIF(DL36,">0")+COUNTIF(DQ36,">0")+COUNTIF(DV36,">0")+COUNTIF(EA36,">0")+COUNTIF(EG36,">0")+COUNTIF(EM36,">0")+COUNTIF(EW36,">0")+COUNTIF(FB36,">0") -> 0
D37: 3 | N37: =L37*M37 -> 0 | S37: =Q37*R37 -> 0 | X37: =V37*W37 -> 0 | AC37: =AA37*AB37 -> 0 | AH37: =AF37*AG37 -> 0 | AM37: =AK37*AL37 -> 0 | AR37: =AP37*AQ37 -> 0 | AW37: =AU37*AV37 -> 0 | BC37: =BA37*BB37 -> 0 | BL37: =BJ37*BK37 -> 0 | BQ37: =BO37*BP37 -> 0 | BV37: =BT37*BU37 -> 0 | CA37: =BY37*BZ37 -> 0 | CF37: =CD37*CE37 -> 0 | CL37: =CJ37*CK37 -> 0 | CQ37: =CO37*CP37 -> 0 | CV37: =CT37*CU37 -> 0 | DB37: =CZ37*DA37 -> 0 | DH37: =DF37*DG37 -> 0 | DN37: =DL37*DM37 -> 0 | DS37: =DQ37*DR37 -> 0 | DX37: =DV37*DW37 -> 0 | EC37: =EA37*EB37 -> 0 | EI37: =EG37*EH37 -> 0 | EO37: =EM37*EN37 -> 0 | EY37: =EW37*EX37 -> 0 | FD37: =FB37*FC37 -> 0 | FG37: =L37+Q37+V37 -> 0 | FH37: =N37+S37+X37 -> 0 | FI37: =SUM(AA37+AF37+AK37+AP37+AU37+BA37+BJ37+BO37+BT37+BY37+CD37+CJ37+CO37+CT37+CZ37+DF37+DL37+DQ37+DV37+EA37+EG37+EM37+EW37+FB37) -> 0 | FJ37: =SUM(AC37+AH37+AM37+AR37+AW37+BC37+BL37+BQ37+BV37+CA37+CF37+CL37+CQ37+CV37+DB37+DH37+DN37+DS37+DX37+EC37+EI37+EO37+EY37+FD37) -> 0 | FK37: =FG37+FI37 -> 0 | FL37: =FH37+FJ37 -> 0 | FM37: =COUNTIF(L37,">0")+COUNTIF(Q37,">0")+COUNTIF(V37,">0")+COUNTIF(AA37,">0")+COUNTIF(AF37,">0")+COUNTIF(AK37,">0")+COUNTIF(AP37,">0")+COUNTIF(AU37,">0")+COUNTIF(BA37,">0")+COUNTIF(BJ37,">0")+COUNTIF(BO37,">0")+COUNTIF(BT37,">0")+COUNTIF(BY37,">0")+COUNTIF(CD37,">0")+COUNTIF(CJ37,">0")+COUNTIF(CO37,">0")+COUNTIF(CT37,">0")+COUNTIF(CZ37,">0")+COUNTIF(DF37,">0")+COUNTIF(DL37,">0")+COUNTIF(DQ37,">0")+COUNTIF(DV37,">0")+COUNTIF(EA37,">0")+COUNTIF(EG37,">0")+COUNTIF(EM37,">0")+COUNTIF(EW37,">0")+COUNTIF(FB37,">0") -> 0
D38: 3 | N38: =L38*M38 -> 0 | S38: =Q38*R38 -> 0 | X38: =V38*W38 -> 0 | AC38: =AA38*AB38 -> 0 | AH38: =AF38*AG38 -> 0 | AM38: =AK38*AL38 -> 0 | AR38: =AP38*AQ38 -> 0 | AW38: =AU38*AV38 -> 0 | BC38: =BA38*BB38 -> 0 | BL38: =BJ38*BK38 -> 0 | BQ38: =BO38*BP38 -> 0 | BV38: =BT38*BU38 -> 0 | CA38: =BY38*BZ38 -> 0 | CF38: =CD38*CE38 -> 0 | CL38: =CJ38*CK38 -> 0 | CQ38: =CO38*CP38 -> 0 | CV38: =CT38*CU38 -> 0 | DB38: =CZ38*DA38 -> 0 | DH38: =DF38*DG38 -> 0 | DN38: =DL38*DM38 -> 0 | DS38: =DQ38*DR38 -> 0 | DX38: =DV38*DW38 -> 0 | EC38: =EA38*EB38 -> 0 | EI38: =EG38*EH38 -> 0 | EO38: =EM38*EN38 -> 0 | EY38: =EW38*EX38 -> 0 | FD38: =FB38*FC38 -> 0 | FG38: =L38+Q38+V38 -> 0 | FH38: =N38+S38+X38 -> 0 | FI38: =SUM(AA38+AF38+AK38+AP38+AU38+BA38+BJ38+BO38+BT38+BY38+CD38+CJ38+CO38+CT38+CZ38+DF38+DL38+DQ38+DV38+EA38+EG38+EM38+EW38+FB38) -> 0 | FJ38: =SUM(AC38+AH38+AM38+AR38+AW38+BC38+BL38+BQ38+BV38+CA38+CF38+CL38+CQ38+CV38+DB38+DH38+DN38+DS38+DX38+EC38+EI38+EO38+EY38+FD38) -> 0 | FK38: =FG38+FI38 -> 0 | FL38: =FH38+FJ38 -> 0 | FM38: =COUNTIF(L38,">0")+COUNTIF(Q38,">0")+COUNTIF(V38,">0")+COUNTIF(AA38,">0")+COUNTIF(AF38,">0")+COUNTIF(AK38,">0")+COUNTIF(AP38,">0")+COUNTIF(AU38,">0")+COUNTIF(BA38,">0")+COUNTIF(BJ38,">0")+COUNTIF(BO38,">0")+COUNTIF(BT38,">0")+COUNTIF(BY38,">0")+COUNTIF(CD38,">0")+COUNTIF(CJ38,">0")+COUNTIF(CO38,">0")+COUNTIF(CT38,">0")+COUNTIF(CZ38,">0")+COUNTIF(DF38,">0")+COUNTIF(DL38,">0")+COUNTIF(DQ38,">0")+COUNTIF(DV38,">0")+COUNTIF(EA38,">0")+COUNTIF(EG38,">0")+COUNTIF(EM38,">0")+COUNTIF(EW38,">0")+COUNTIF(FB38,">0") -> 0
D39: 3 | N39: =L39*M39 -> 0 | S39: =Q39*R39 -> 0 | X39: =V39*W39 -> 0 | AC39: =AA39*AB39 -> 0 | AH39: =AF39*AG39 -> 0 | AM39: =AK39*AL39 -> 0 | AR39: =AP39*AQ39 -> 0 | AW39: =AU39*AV39 -> 0 | BC39: =BA39*BB39 -> 0 | BL39: =BJ39*BK39 -> 0 | BQ39: =BO39*BP39 -> 0 | BV39: =BT39*BU39 -> 0 | CA39: =BY39*BZ39 -> 0 | CF39: =CD39*CE39 -> 0 | CL39: =CJ39*CK39 -> 0 | CQ39: =CO39*CP39 -> 0 | CV39: =CT39*CU39 -> 0 | DB39: =CZ39*DA39 -> 0 | DH39: =DF39*DG39 -> 0 | DN39: =DL39*DM39 -> 0 | DS39: =DQ39*DR39 -> 0 | DX39: =DV39*DW39 -> 0 | EC39: =EA39*EB39 -> 0 | EI39: =EG39*EH39 -> 0 | EO39: =EM39*EN39 -> 0 | EY39: =EW39*EX39 -> 0 | FD39: =FB39*FC39 -> 0 | FG39: =L39+Q39+V39 -> 0 | FH39: =N39+S39+X39 -> 0 | FI39: =SUM(AA39+AF39+AK39+AP39+AU39+BA39+BJ39+BO39+BT39+BY39+CD39+CJ39+CO39+CT39+CZ39+DF39+DL39+DQ39+DV39+EA39+EG39+EM39+EW39+FB39) -> 0 | FJ39: =SUM(AC39+AH39+AM39+AR39+AW39+BC39+BL39+BQ39+BV39+CA39+CF39+CL39+CQ39+CV39+DB39+DH39+DN39+DS39+DX39+EC39+EI39+EO39+EY39+FD39) -> 0 | FK39: =FG39+FI39 -> 0 | FL39: =FH39+FJ39 -> 0 | FM39: =COUNTIF(L39,">0")+COUNTIF(Q39,">0")+COUNTIF(V39,">0")+COUNTIF(AA39,">0")+COUNTIF(AF39,">0")+COUNTIF(AK39,">0")+COUNTIF(AP39,">0")+COUNTIF(AU39,">0")+COUNTIF(BA39,">0")+COUNTIF(BJ39,">0")+COUNTIF(BO39,">0")+COUNTIF(BT39,">0")+COUNTIF(BY39,">0")+COUNTIF(CD39,">0")+COUNTIF(CJ39,">0")+COUNTIF(CO39,">0")+COUNTIF(CT39,">0")+COUNTIF(CZ39,">0")+COUNTIF(DF39,">0")+COUNTIF(DL39,">0")+COUNTIF(DQ39,">0")+COUNTIF(DV39,">0")+COUNTIF(EA39,">0")+COUNTIF(EG39,">0")+COUNTIF(EM39,">0")+COUNTIF(EW39,">0")+COUNTIF(FB39,">0") -> 0
D40: 3 | N40: =L40*M40 -> 0 | S40: =Q40*R40 -> 0 | X40: =V40*W40 -> 0 | AC40: =AA40*AB40 -> 0 | AH40: =AF40*AG40 -> 0 | AM40: =AK40*AL40 -> 0 | AR40: =AP40*AQ40 -> 0 | AW40: =AU40*AV40 -> 0 | BC40: =BA40*BB40 -> 0 | BL40: =BJ40*BK40 -> 0 | BQ40: =BO40*BP40 -> 0 | BV40: =BT40*BU40 -> 0 | CA40: =BY40*BZ40 -> 0 | CF40: =CD40*CE40 -> 0 | CL40: =CJ40*CK40 -> 0 | CQ40: =CO40*CP40 -> 0 | CV40: =CT40*CU40 -> 0 | DB40: =CZ40*DA40 -> 0 | DH40: =DF40*DG40 -> 0 | DN40: =DL40*DM40 -> 0 | DS40: =DQ40*DR40 -> 0 | DX40: =DV40*DW40 -> 0 | EC40: =EA40*EB40 -> 0 | EI40: =EG40*EH40 -> 0 | EO40: =EM40*EN40 -> 0 | EY40: =EW40*EX40 -> 0 | FD40: =FB40*FC40 -> 0 | FG40: =L40+Q40+V40 -> 0 | FH40: =N40+S40+X40 -> 0 | FI40: =SUM(AA40+AF40+AK40+AP40+AU40+BA40+BJ40+BO40+BT40+BY40+CD40+CJ40+CO40+CT40+CZ40+DF40+DL40+DQ40+DV40+EA40+EG40+EM40+EW40+FB40) -> 0 | FJ40: =SUM(AC40+AH40+AM40+AR40+AW40+BC40+BL40+BQ40+BV40+CA40+CF40+CL40+CQ40+CV40+DB40+DH40+DN40+DS40+DX40+EC40+EI40+EO40+EY40+FD40) -> 0 | FK40: =FG40+FI40 -> 0 | FL40: =FH40+FJ40 -> 0 | FM40: =COUNTIF(L40,">0")+COUNTIF(Q40,">0")+COUNTIF(V40,">0")+COUNTIF(AA40,">0")+COUNTIF(AF40,">0")+COUNTIF(AK40,">0")+COUNTIF(AP40,">0")+COUNTIF(AU40,">0")+COUNTIF(BA40,">0")+COUNTIF(BJ40,">0")+COUNTIF(BO40,">0")+COUNTIF(BT40,">0")+COUNTIF(BY40,">0")+COUNTIF(CD40,">0")+COUNTIF(CJ40,">0")+COUNTIF(CO40,">0")+COUNTIF(CT40,">0")+COUNTIF(CZ40,">0")+COUNTIF(DF40,">0")+COUNTIF(DL40,">0")+COUNTIF(DQ40,">0")+COUNTIF(DV40,">0")+COUNTIF(EA40,">0")+COUNTIF(EG40,">0")+COUNTIF(EM40,">0")+COUNTIF(EW40,">0")+COUNTIF(FB40,">0") -> 0
D41: 3 | N41: =L41*M41 -> 0 | S41: =Q41*R41 -> 0 | X41: =V41*W41 -> 0 | AC41: =AA41*AB41 -> 0 | AH41: =AF41*AG41 -> 0 | AM41: =AK41*AL41 -> 0 | AR41: =AP41*AQ41 -> 0 | AW41: =AU41*AV41 -> 0 | BC41: =BA41*BB41 -> 0 | BL41: =BJ41*BK41 -> 0 | BQ41: =BO41*BP41 -> 0 | BV41: =BT41*BU41 -> 0 | CA41: =BY41*BZ41 -> 0 | CF41: =CD41*CE41 -> 0 | CL41: =CJ41*CK41 -> 0 | CQ41: =CO41*CP41 -> 0 | CV41: =CT41*CU41 -> 0 | DB41: =CZ41*DA41 -> 0 | DH41: =DF41*DG41 -> 0 | DN41: =DL41*DM41 -> 0 | DS41: =DQ41*DR41 -> 0 | DX41: =DV41*DW41 -> 0 | EC41: =EA41*EB41 -> 0 | EI41: =EG41*EH41 -> 0 | EO41: =EM41*EN41 -> 0 | EY41: =EW41*EX41 -> 0 | FD41: =FB41*FC41 -> 0 | FG41: =L41+Q41+V41 -> 0 | FH41: =N41+S41+X41 -> 0 | FI41: =SUM(AA41+AF41+AK41+AP41+AU41+BA41+BJ41+BO41+BT41+BY41+CD41+CJ41+CO41+CT41+CZ41+DF41+DL41+DQ41+DV41+EA41+EG41+EM41+EW41+FB41) -> 0 | FJ41: =SUM(AC41+AH41+AM41+AR41+AW41+BC41+BL41+BQ41+BV41+CA41+CF41+CL41+CQ41+CV41+DB41+DH41+DN41+DS41+DX41+EC41+EI41+EO41+EY41+FD41) -> 0 | FK41: =FG41+FI41 -> 0 | FL41: =FH41+FJ41 -> 0 | FM41: =COUNTIF(L41,">0")+COUNTIF(Q41,">0")+COUNTIF(V41,">0")+COUNTIF(AA41,">0")+COUNTIF(AF41,">0")+COUNTIF(AK41,">0")+COUNTIF(AP41,">0")+COUNTIF(AU41,">0")+COUNTIF(BA41,">0")+COUNTIF(BJ41,">0")+COUNTIF(BO41,">0")+COUNTIF(BT41,">0")+COUNTIF(BY41,">0")+COUNTIF(CD41,">0")+COUNTIF(CJ41,">0")+COUNTIF(CO41,">0")+COUNTIF(CT41,">0")+COUNTIF(CZ41,">0")+COUNTIF(DF41,">0")+COUNTIF(DL41,">0")+COUNTIF(DQ41,">0")+COUNTIF(DV41,">0")+COUNTIF(EA41,">0")+COUNTIF(EG41,">0")+COUNTIF(EM41,">0")+COUNTIF(EW41,">0")+COUNTIF(FB41,">0") -> 0
D42: 3 | N42: =L42*M42 -> 0 | S42: =Q42*R42 -> 0 | X42: =V42*W42 -> 0 | AC42: =AA42*AB42 -> 0 | AH42: =AF42*AG42 -> 0 | AM42: =AK42*AL42 -> 0 | AR42: =AP42*AQ42 -> 0 | AW42: =AU42*AV42 -> 0 | BC42: =BA42*BB42 -> 0 | BL42: =BJ42*BK42 -> 0 | BQ42: =BO42*BP42 -> 0 | BV42: =BT42*BU42 -> 0 | CA42: =BY42*BZ42 -> 0 | CF42: =CD42*CE42 -> 0 | CL42: =CJ42*CK42 -> 0 | CQ42: =CO42*CP42 -> 0 | CV42: =CT42*CU42 -> 0 | DB42: =CZ42*DA42 -> 0 | DH42: =DF42*DG42 -> 0 | DN42: =DL42*DM42 -> 0 | DS42: =DQ42*DR42 -> 0 | DX42: =DV42*DW42 -> 0 | EC42: =EA42*EB42 -> 0 | EI42: =EG42*EH42 -> 0 | EO42: =EM42*EN42 -> 0 | EY42: =EW42*EX42 -> 0 | FD42: =FB42*FC42 -> 0 | FG42: =L42+Q42+V42 -> 0 | FH42: =N42+S42+X42 -> 0 | FI42: =SUM(AA42+AF42+AK42+AP42+AU42+BA42+BJ42+BO42+BT42+BY42+CD42+CJ42+CO42+CT42+CZ42+DF42+DL42+DQ42+DV42+EA42+EG42+EM42+EW42+FB42) -> 0 | FJ42: =SUM(AC42+AH42+AM42+AR42+AW42+BC42+BL42+BQ42+BV42+CA42+CF42+CL42+CQ42+CV42+DB42+DH42+DN42+DS42+DX42+EC42+EI42+EO42+EY42+FD42) -> 0 | FK42: =FG42+FI42 -> 0 | FL42: =FH42+FJ42 -> 0 | FM42: =COUNTIF(L42,">0")+COUNTIF(Q42,">0")+COUNTIF(V42,">0")+COUNTIF(AA42,">0")+COUNTIF(AF42,">0")+COUNTIF(AK42,">0")+COUNTIF(AP42,">0")+COUNTIF(AU42,">0")+COUNTIF(BA42,">0")+COUNTIF(BJ42,">0")+COUNTIF(BO42,">0")+COUNTIF(BT42,">0")+COUNTIF(BY42,">0")+COUNTIF(CD42,">0")+COUNTIF(CJ42,">0")+COUNTIF(CO42,">0")+COUNTIF(CT42,">0")+COUNTIF(CZ42,">0")+COUNTIF(DF42,">0")+COUNTIF(DL42,">0")+COUNTIF(DQ42,">0")+COUNTIF(DV42,">0")+COUNTIF(EA42,">0")+COUNTIF(EG42,">0")+COUNTIF(EM42,">0")+COUNTIF(EW42,">0")+COUNTIF(FB42,">0") -> 0
D43: 3 | N43: =L43*M43 -> 0 | S43: =Q43*R43 -> 0 | X43: =V43*W43 -> 0 | AC43: =AA43*AB43 -> 0 | AH43: =AF43*AG43 -> 0 | AM43: =AK43*AL43 -> 0 | AR43: =AP43*AQ43 -> 0 | AW43: =AU43*AV43 -> 0 | BC43: =BA43*BB43 -> 0 | BL43: =BJ43*BK43 -> 0 | BQ43: =BO43*BP43 -> 0 | BV43: =BT43*BU43 -> 0 | CA43: =BY43*BZ43 -> 0 | CF43: =CD43*CE43 -> 0 | CL43: =CJ43*CK43 -> 0 | CQ43: =CO43*CP43 -> 0 | CV43: =CT43*CU43 -> 0 | DB43: =CZ43*DA43 -> 0 | DH43: =DF43*DG43 -> 0 | DN43: =DL43*DM43 -> 0 | DS43: =DQ43*DR43 -> 0 | DX43: =DV43*DW43 -> 0 | EC43: =EA43*EB43 -> 0 | EI43: =EG43*EH43 -> 0 | EO43: =EM43*EN43 -> 0 | EY43: =EW43*EX43 -> 0 | FD43: =FB43*FC43 -> 0 | FG43: =L43+Q43+V43 -> 0 | FH43: =N43+S43+X43 -> 0 | FI43: =SUM(AA43+AF43+AK43+AP43+AU43+BA43+BJ43+BO43+BT43+BY43+CD43+CJ43+CO43+CT43+CZ43+DF43+DL43+DQ43+DV43+EA43+EG43+EM43+EW43+FB43) -> 0 | FJ43: =SUM(AC43+AH43+AM43+AR43+AW43+BC43+BL43+BQ43+BV43+CA43+CF43+CL43+CQ43+CV43+DB43+DH43+DN43+DS43+DX43+EC43+EI43+EO43+EY43+FD43) -> 0 | FK43: =FG43+FI43 -> 0 | FL43: =FH43+FJ43 -> 0 | FM43: =COUNTIF(L43,">0")+COUNTIF(Q43,">0")+COUNTIF(V43,">0")+COUNTIF(AA43,">0")+COUNTIF(AF43,">0")+COUNTIF(AK43,">0")+COUNTIF(AP43,">0")+COUNTIF(AU43,">0")+COUNTIF(BA43,">0")+COUNTIF(BJ43,">0")+COUNTIF(BO43,">0")+COUNTIF(BT43,">0")+COUNTIF(BY43,">0")+COUNTIF(CD43,">0")+COUNTIF(CJ43,">0")+COUNTIF(CO43,">0")+COUNTIF(CT43,">0")+COUNTIF(CZ43,">0")+COUNTIF(DF43,">0")+COUNTIF(DL43,">0")+COUNTIF(DQ43,">0")+COUNTIF(DV43,">0")+COUNTIF(EA43,">0")+COUNTIF(EG43,">0")+COUNTIF(EM43,">0")+COUNTIF(EW43,">0")+COUNTIF(FB43,">0") -> 0
... D152: 3 | N152: =L152*M152 -> 0 | S152: =Q152*R152 -> 0 | X152: =V152*W152 -> 0 | AC152: =AA152*AB152 -> 0 | AH152: =AF152*AG152 -> 0 | AM152: =AK152*AL152 -> 0 | AR152: =AP152*AQ152 -> 0 | AW152: =AU152*AV152 -> 0 | BC152: =BA152*BB152 -> 0 | BL152: =BJ152*BK152 -> 0 | BQ152: =BO152*BP152 -> 0 | BV152: =BT152*BU152 -> 0 | CA152: =BY152*BZ152 -> 0 | CF152: =CD152*CE152 -> 0 | CL152: =CJ152*CK152 -> 0 | CQ152: =CO152*CP152 -> 0 | CV152: =CT152*CU152 -> 0 | DB152: =CZ152*DA152 -> 0 | DH152: =DF152*DG152 -> 0 | DN152: =DL152*DM152 -> 0 | DS152: =DQ152*DR152 -> 0 | DX152: =DV152*DW152 -> 0 | EC152: =EA152*EB152 -> 0 | EI152: =EG152*EH152 -> 0 | EO152: =EM152*EN152 -> 0 | EY152: =EW152*EX152 -> 0 | FD152: =FB152*FC152 -> 0 | FG152: =L152+Q152+V152 -> 0 | FH152: =N152+S152+X152 -> 0 | FI152: =SUM(AA152+AF152+AK152+AP152+AU152+BA152+BJ152+BO152+BT152+BY152+CD152+CJ152+CO152+CT152+CZ152+DF152+DL152+DQ152+DV152+EA152+EG152+EM152+EW152+FB152) -> 0 | FJ152: =SUM(AC152+AH152+AM152+AR152+AW152+BC152+BL152+BQ152+BV152+CA152+CF152+CL152+CQ152+CV152+DB152+DH152+DN152+DS152+DX152+EC152+EI152+EO152+EY152+FD152) -> 0 | FK152: =FG152+FI152 -> 0 | FL152: =FH152+FJ152 -> 0 | FM152: =COUNTIF(L152,">0")+COUNTIF(Q152,">0")+COUNTIF(V152,">0")+COUNTIF(AA152,">0")+COUNTIF(AF152,">0")+COUNTIF(AK152,">0")+COUNTIF(AP152,">0")+COUNTIF(AU152,">0")+COUNTIF(BA152,">0")+COUNTIF(BJ152,">0")+COUNTIF(BO152,">0")+COUNTIF(BT152,">0")+COUNTIF(BY152,">0")+COUNTIF(CD152,">0")+COUNTIF(CJ152,">0")+COUNTIF(CO152,">0")+COUNTIF(CT152,">0")+COUNTIF(CZ152,">0")+COUNTIF(DF152,">0")+COUNTIF(DL152,">0")+COUNTIF(DQ152,">0")+COUNTIF(DV152,">0")+COUNTIF(EA152,">0")+COUNTIF(EG152,">0")+COUNTIF(EM152,">0")+COUNTIF(EW152,">0")+COUNTIF(FB152,">0") -> 0

Sheet aprill
